BEGIN:VCALENDAR
PRODID:-//WikiCFP//mmp 1.0//EN
VERSION:2.0
CALSCALE:GREGORIAN
BEGIN:VEVENT
DTSTAMP:20260419T161825Z
DTSTART;VALUE=DATE:20110304
DTEND;VALUE=DATE:20110307
SUMMARY:ICSIE 2011
DESCRIPTION:International Conference on Software and Information Engineer
 ing
URL:http://www.wikicfp.com/cfp/servlet/event.showcfp?eventid=12410&copyow
 nerid=18137
UID:cfp125072-E@wikicfp.com
END:VEVENT
BEGIN:VEVENT
DTSTAMP:20260419T161825Z
DTSTART;VALUE=DATE:20101205
SUMMARY:ICSIE 2011 Deadline
DESCRIPTION:International Conference on Software and Information Engineer
 ing
URL:http://www.wikicfp.com/cfp/servlet/event.showcfp?eventid=12410&copyow
 nerid=18137
UID:cfp125072-D@wikicfp.com
END:VEVENT
BEGIN:VEVENT
DTSTAMP:20260419T161825Z
DTSTART;VALUE=DATE:20101230
SUMMARY:ICSIE 2011 Notification Due
DESCRIPTION:International Conference on Software and Information Engineer
 ing
URL:http://www.wikicfp.com/cfp/servlet/event.showcfp?eventid=12410&copyow
 nerid=18137
UID:cfp125072-N@wikicfp.com
END:VEVENT
BEGIN:VEVENT
DTSTAMP:20260419T161825Z
DTSTART;VALUE=DATE:20110115
SUMMARY:ICSIE 2011 Final Version Due
DESCRIPTION:International Conference on Software and Information Engineer
 ing
URL:http://www.wikicfp.com/cfp/servlet/event.showcfp?eventid=12410&copyow
 nerid=18137
UID:cfp125072-N@wikicfp.com
END:VEVENT
BEGIN:VEVENT
DTSTAMP:20260419T161825Z
DTSTART;VALUE=DATE:20110615
DTEND;VALUE=DATE:20110617
SUMMARY:CSSE 2011
DESCRIPTION:The 2011 CSI International Symposium on Computer Science and 
 Software Engineering 
URL:http://www.wikicfp.com/cfp/servlet/event.showcfp?eventid=12168&copyow
 nerid=18137
UID:cfp125071-E@wikicfp.com
END:VEVENT
BEGIN:VEVENT
DTSTAMP:20260419T161825Z
DTSTART;VALUE=DATE:20110115
SUMMARY:CSSE 2011 Deadline
DESCRIPTION:The 2011 CSI International Symposium on Computer Science and 
 Software Engineering 
URL:http://www.wikicfp.com/cfp/servlet/event.showcfp?eventid=12168&copyow
 nerid=18137
UID:cfp125071-D@wikicfp.com
END:VEVENT
BEGIN:VEVENT
DTSTAMP:20260419T161825Z
DTSTART;VALUE=DATE:20110401
SUMMARY:CSSE 2011 Notification Due
DESCRIPTION:The 2011 CSI International Symposium on Computer Science and 
 Software Engineering 
URL:http://www.wikicfp.com/cfp/servlet/event.showcfp?eventid=12168&copyow
 nerid=18137
UID:cfp125071-N@wikicfp.com
END:VEVENT
BEGIN:VEVENT
DTSTAMP:20260419T161825Z
DTSTART;VALUE=DATE:20110501
SUMMARY:CSSE 2011 Final Version Due
DESCRIPTION:The 2011 CSI International Symposium on Computer Science and 
 Software Engineering 
URL:http://www.wikicfp.com/cfp/servlet/event.showcfp?eventid=12168&copyow
 nerid=18137
UID:cfp125071-N@wikicfp.com
END:VEVENT
BEGIN:VEVENT
DTSTAMP:20260419T161825Z
DTSTART;VALUE=DATE:20110621
DTEND;VALUE=DATE:20110624
SUMMARY:CBSE 2011
DESCRIPTION:14th International ACM Sigsoft Symposium on Component Based S
 oftware Engineering
URL:http://www.wikicfp.com/cfp/servlet/event.showcfp?eventid=11867&copyow
 nerid=18137
UID:cfp125068-E@wikicfp.com
END:VEVENT
BEGIN:VEVENT
DTSTAMP:20260419T161825Z
DTSTART;VALUE=DATE:20110121
SUMMARY:CBSE 2011 Deadline
DESCRIPTION:14th International ACM Sigsoft Symposium on Component Based S
 oftware Engineering
URL:http://www.wikicfp.com/cfp/servlet/event.showcfp?eventid=11867&copyow
 nerid=18137
UID:cfp125068-D@wikicfp.com
END:VEVENT
BEGIN:VEVENT
DTSTAMP:20260419T161825Z
DTSTART;VALUE=DATE:20110228
SUMMARY:CBSE 2011 Notification Due
DESCRIPTION:14th International ACM Sigsoft Symposium on Component Based S
 oftware Engineering
URL:http://www.wikicfp.com/cfp/servlet/event.showcfp?eventid=11867&copyow
 nerid=18137
UID:cfp125068-N@wikicfp.com
END:VEVENT
BEGIN:VEVENT
DTSTAMP:20260419T161825Z
DTSTART;VALUE=DATE:20110330
SUMMARY:CBSE 2011 Final Version Due
DESCRIPTION:14th International ACM Sigsoft Symposium on Component Based S
 oftware Engineering
URL:http://www.wikicfp.com/cfp/servlet/event.showcfp?eventid=11867&copyow
 nerid=18137
UID:cfp125068-N@wikicfp.com
END:VEVENT
BEGIN:VEVENT
DTSTAMP:20260419T161825Z
DTSTART;VALUE=DATE:20110606
DTEND;VALUE=DATE:20110610
SUMMARY:ECMFA 2011
DESCRIPTION:Seventh European Conference on Modelling Foundations and Appl
 ications
URL:http://www.wikicfp.com/cfp/servlet/event.showcfp?eventid=11693&copyow
 nerid=18137
UID:cfp125066-E@wikicfp.com
END:VEVENT
BEGIN:VEVENT
DTSTAMP:20260419T161825Z
DTSTART;VALUE=DATE:20110120
SUMMARY:ECMFA 2011 Abstract Due
DESCRIPTION:Seventh European Conference on Modelling Foundations and Appl
 ications
URL:http://www.wikicfp.com/cfp/servlet/event.showcfp?eventid=11693&copyow
 nerid=18137
UID:cfp125066-A@wikicfp.com
END:VEVENT
BEGIN:VEVENT
DTSTAMP:20260419T161825Z
DTSTART;VALUE=DATE:20110127
SUMMARY:ECMFA 2011 Deadline
DESCRIPTION:Seventh European Conference on Modelling Foundations and Appl
 ications
URL:http://www.wikicfp.com/cfp/servlet/event.showcfp?eventid=11693&copyow
 nerid=18137
UID:cfp125066-D@wikicfp.com
END:VEVENT
BEGIN:VEVENT
DTSTAMP:20260419T161825Z
DTSTART;VALUE=DATE:20110310
SUMMARY:ECMFA 2011 Notification Due
DESCRIPTION:Seventh European Conference on Modelling Foundations and Appl
 ications
URL:http://www.wikicfp.com/cfp/servlet/event.showcfp?eventid=11693&copyow
 nerid=18137
UID:cfp125066-N@wikicfp.com
END:VEVENT
BEGIN:VEVENT
DTSTAMP:20260419T161825Z
DTSTART;VALUE=DATE:20110331
SUMMARY:ECMFA 2011 Final Version Due
DESCRIPTION:Seventh European Conference on Modelling Foundations and Appl
 ications
URL:http://www.wikicfp.com/cfp/servlet/event.showcfp?eventid=11693&copyow
 nerid=18137
UID:cfp125066-N@wikicfp.com
END:VEVENT
BEGIN:VEVENT
DTSTAMP:20260419T161825Z
DTSTART;VALUE=DATE:20110627
DTEND;VALUE=DATE:20110630
SUMMARY:ICSECS 2011
DESCRIPTION:2nd International Conference on Software Engineering and Comp
 uter Systems
URL:http://www.wikicfp.com/cfp/servlet/event.showcfp?eventid=11125&copyow
 nerid=18137
UID:cfp125064-E@wikicfp.com
END:VEVENT
BEGIN:VEVENT
DTSTAMP:20260419T161825Z
DTSTART;VALUE=DATE:20110412
SUMMARY:ICSECS 2011 Abstract Due
DESCRIPTION:2nd International Conference on Software Engineering and Comp
 uter Systems
URL:http://www.wikicfp.com/cfp/servlet/event.showcfp?eventid=11125&copyow
 nerid=18137
UID:cfp125064-A@wikicfp.com
END:VEVENT
BEGIN:VEVENT
DTSTAMP:20260419T161825Z
DTSTART;VALUE=DATE:20110205
SUMMARY:ICSECS 2011 Deadline
DESCRIPTION:2nd International Conference on Software Engineering and Comp
 uter Systems
URL:http://www.wikicfp.com/cfp/servlet/event.showcfp?eventid=11125&copyow
 nerid=18137
UID:cfp125064-D@wikicfp.com
END:VEVENT
BEGIN:VEVENT
DTSTAMP:20260419T161825Z
DTSTART;VALUE=DATE:20110401
SUMMARY:ICSECS 2011 Notification Due
DESCRIPTION:2nd International Conference on Software Engineering and Comp
 uter Systems
URL:http://www.wikicfp.com/cfp/servlet/event.showcfp?eventid=11125&copyow
 nerid=18137
UID:cfp125064-N@wikicfp.com
END:VEVENT
BEGIN:VEVENT
DTSTAMP:20260419T161825Z
DTSTART;VALUE=DATE:20110627
DTEND;VALUE=DATE:20110629
SUMMARY:ICMT 2011
DESCRIPTION:International Conference on Model Transformation
URL:http://www.wikicfp.com/cfp/servlet/event.showcfp?eventid=11824&copyow
 nerid=18137
UID:cfp125067-E@wikicfp.com
END:VEVENT
BEGIN:VEVENT
DTSTAMP:20260419T161825Z
DTSTART;VALUE=DATE:20110204
SUMMARY:ICMT 2011 Abstract Due
DESCRIPTION:International Conference on Model Transformation
URL:http://www.wikicfp.com/cfp/servlet/event.showcfp?eventid=11824&copyow
 nerid=18137
UID:cfp125067-A@wikicfp.com
END:VEVENT
BEGIN:VEVENT
DTSTAMP:20260419T161825Z
DTSTART;VALUE=DATE:20110211
SUMMARY:ICMT 2011 Deadline
DESCRIPTION:International Conference on Model Transformation
URL:http://www.wikicfp.com/cfp/servlet/event.showcfp?eventid=11824&copyow
 nerid=18137
UID:cfp125067-D@wikicfp.com
END:VEVENT
BEGIN:VEVENT
DTSTAMP:20260419T161825Z
DTSTART;VALUE=DATE:20110314
SUMMARY:ICMT 2011 Notification Due
DESCRIPTION:International Conference on Model Transformation
URL:http://www.wikicfp.com/cfp/servlet/event.showcfp?eventid=11824&copyow
 nerid=18137
UID:cfp125067-N@wikicfp.com
END:VEVENT
BEGIN:VEVENT
DTSTAMP:20260419T161825Z
DTSTART;VALUE=DATE:20110328
SUMMARY:ICMT 2011 Final Version Due
DESCRIPTION:International Conference on Model Transformation
URL:http://www.wikicfp.com/cfp/servlet/event.showcfp?eventid=11824&copyow
 nerid=18137
UID:cfp125067-N@wikicfp.com
END:VEVENT
BEGIN:VEVENT
DTSTAMP:20260419T161825Z
DTSTART;VALUE=DATE:20110516
DTEND;VALUE=DATE:20110519
SUMMARY:C3S2E 2011
DESCRIPTION:Fourth International C* Conference on Computer Science & Soft
 ware Engineering
URL:http://www.wikicfp.com/cfp/servlet/event.showcfp?eventid=11190&copyow
 nerid=18137
UID:cfp125070-E@wikicfp.com
END:VEVENT
BEGIN:VEVENT
DTSTAMP:20260419T161825Z
DTSTART;VALUE=DATE:20110221
SUMMARY:C3S2E 2011 Abstract Due
DESCRIPTION:Fourth International C* Conference on Computer Science & Soft
 ware Engineering
URL:http://www.wikicfp.com/cfp/servlet/event.showcfp?eventid=11190&copyow
 nerid=18137
UID:cfp125070-A@wikicfp.com
END:VEVENT
BEGIN:VEVENT
DTSTAMP:20260419T161825Z
DTSTART;VALUE=DATE:20110212
SUMMARY:C3S2E 2011 Deadline
DESCRIPTION:Fourth International C* Conference on Computer Science & Soft
 ware Engineering
URL:http://www.wikicfp.com/cfp/servlet/event.showcfp?eventid=11190&copyow
 nerid=18137
UID:cfp125070-D@wikicfp.com
END:VEVENT
BEGIN:VEVENT
DTSTAMP:20260419T161825Z
DTSTART;VALUE=DATE:20110324
SUMMARY:C3S2E 2011 Notification Due
DESCRIPTION:Fourth International C* Conference on Computer Science & Soft
 ware Engineering
URL:http://www.wikicfp.com/cfp/servlet/event.showcfp?eventid=11190&copyow
 nerid=18137
UID:cfp125070-N@wikicfp.com
END:VEVENT
BEGIN:VEVENT
DTSTAMP:20260419T161825Z
DTSTART;VALUE=DATE:20110425
SUMMARY:C3S2E 2011 Final Version Due
DESCRIPTION:Fourth International C* Conference on Computer Science & Soft
 ware Engineering
URL:http://www.wikicfp.com/cfp/servlet/event.showcfp?eventid=11190&copyow
 nerid=18137
UID:cfp125070-N@wikicfp.com
END:VEVENT
BEGIN:VEVENT
DTSTAMP:20260419T161825Z
DTSTART;VALUE=DATE:20110815
DTEND;VALUE=DATE:20110819
SUMMARY:ICGSE 2011
DESCRIPTION:6th IEEE International Conference on Global Software Engineer
 ing
URL:http://www.wikicfp.com/cfp/servlet/event.showcfp?eventid=11043&copyow
 nerid=18137
UID:cfp125063-E@wikicfp.com
END:VEVENT
BEGIN:VEVENT
DTSTAMP:20260419T161825Z
DTSTART;VALUE=DATE:20110214
SUMMARY:ICGSE 2011 Abstract Due
DESCRIPTION:6th IEEE International Conference on Global Software Engineer
 ing
URL:http://www.wikicfp.com/cfp/servlet/event.showcfp?eventid=11043&copyow
 nerid=18137
UID:cfp125063-A@wikicfp.com
END:VEVENT
BEGIN:VEVENT
DTSTAMP:20260419T161825Z
DTSTART;VALUE=DATE:20110228
SUMMARY:ICGSE 2011 Deadline
DESCRIPTION:6th IEEE International Conference on Global Software Engineer
 ing
URL:http://www.wikicfp.com/cfp/servlet/event.showcfp?eventid=11043&copyow
 nerid=18137
UID:cfp125063-D@wikicfp.com
END:VEVENT
BEGIN:VEVENT
DTSTAMP:20260419T161825Z
DTSTART;VALUE=DATE:20110425
SUMMARY:ICGSE 2011 Notification Due
DESCRIPTION:6th IEEE International Conference on Global Software Engineer
 ing
URL:http://www.wikicfp.com/cfp/servlet/event.showcfp?eventid=11043&copyow
 nerid=18137
UID:cfp125063-N@wikicfp.com
END:VEVENT
BEGIN:VEVENT
DTSTAMP:20260419T161825Z
DTSTART;VALUE=DATE:20110530
SUMMARY:ICGSE 2011 Final Version Due
DESCRIPTION:6th IEEE International Conference on Global Software Engineer
 ing
URL:http://www.wikicfp.com/cfp/servlet/event.showcfp?eventid=11043&copyow
 nerid=18137
UID:cfp125063-N@wikicfp.com
END:VEVENT
BEGIN:VEVENT
DTSTAMP:20260419T161825Z
DTSTART;VALUE=DATE:20110922
DTEND;VALUE=DATE:20110924
SUMMARY:ESEM 2011
DESCRIPTION:5th International Symposium on Empirical Software Engineering
  and Measurement
URL:http://www.wikicfp.com/cfp/servlet/event.showcfp?eventid=11609&copyow
 nerid=18137
UID:cfp125065-E@wikicfp.com
END:VEVENT
BEGIN:VEVENT
DTSTAMP:20260419T161825Z
DTSTART;VALUE=DATE:20110315
SUMMARY:ESEM 2011 Deadline
DESCRIPTION:5th International Symposium on Empirical Software Engineering
  and Measurement
URL:http://www.wikicfp.com/cfp/servlet/event.showcfp?eventid=11609&copyow
 nerid=18137
UID:cfp125065-D@wikicfp.com
END:VEVENT
BEGIN:VEVENT
DTSTAMP:20260419T161825Z
DTSTART;VALUE=DATE:20110515
SUMMARY:ESEM 2011 Notification Due
DESCRIPTION:5th International Symposium on Empirical Software Engineering
  and Measurement
URL:http://www.wikicfp.com/cfp/servlet/event.showcfp?eventid=11609&copyow
 nerid=18137
UID:cfp125065-N@wikicfp.com
END:VEVENT
BEGIN:VEVENT
DTSTAMP:20260419T161825Z
DTSTART;VALUE=DATE:20110628
SUMMARY:ESEM 2011 Final Version Due
DESCRIPTION:5th International Symposium on Empirical Software Engineering
  and Measurement
URL:http://www.wikicfp.com/cfp/servlet/event.showcfp?eventid=11609&copyow
 nerid=18137
UID:cfp125065-N@wikicfp.com
END:VEVENT
BEGIN:VEVENT
DTSTAMP:20260419T161825Z
DTSTART;VALUE=DATE:20111114
DTEND;VALUE=DATE:20111118
SUMMARY:ISSRE 2011
DESCRIPTION:22nd annual International Symposium on Software Reliability E
 ngineering
URL:http://www.wikicfp.com/cfp/servlet/event.showcfp?eventid=12507&copyow
 nerid=18137
UID:cfp125069-E@wikicfp.com
END:VEVENT
BEGIN:VEVENT
DTSTAMP:20260419T161825Z
DTSTART;VALUE=DATE:20110501
SUMMARY:ISSRE 2011 Abstract Due
DESCRIPTION:22nd annual International Symposium on Software Reliability E
 ngineering
URL:http://www.wikicfp.com/cfp/servlet/event.showcfp?eventid=12507&copyow
 nerid=18137
UID:cfp125069-A@wikicfp.com
END:VEVENT
BEGIN:VEVENT
DTSTAMP:20260419T161825Z
DTSTART;VALUE=DATE:20110510
SUMMARY:ISSRE 2011 Deadline
DESCRIPTION:22nd annual International Symposium on Software Reliability E
 ngineering
URL:http://www.wikicfp.com/cfp/servlet/event.showcfp?eventid=12507&copyow
 nerid=18137
UID:cfp125069-D@wikicfp.com
END:VEVENT
BEGIN:VEVENT
DTSTAMP:20260419T161825Z
DTSTART;VALUE=DATE:20120924
DTEND;VALUE=DATE:20120927
SUMMARY:ACSEAC 2012
DESCRIPTION:2012 African Conference on Software Engineering and Applied C
 omputing
URL:http://www.wikicfp.com/cfp/servlet/event.showcfp?eventid=9722&copyown
 erid=18137
UID:cfp125062-E@wikicfp.com
END:VEVENT
BEGIN:VEVENT
DTSTAMP:20260419T161825Z
DTSTART;VALUE=DATE:20120425
SUMMARY:ACSEAC 2012 Deadline
DESCRIPTION:2012 African Conference on Software Engineering and Applied C
 omputing
URL:http://www.wikicfp.com/cfp/servlet/event.showcfp?eventid=9722&copyown
 erid=18137
UID:cfp125062-D@wikicfp.com
END:VEVENT
BEGIN:VEVENT
DTSTAMP:20260419T161825Z
DTSTART;VALUE=DATE:20120604
SUMMARY:ACSEAC 2012 Notification Due
DESCRIPTION:2012 African Conference on Software Engineering and Applied C
 omputing
URL:http://www.wikicfp.com/cfp/servlet/event.showcfp?eventid=9722&copyown
 erid=18137
UID:cfp125062-N@wikicfp.com
END:VEVENT
BEGIN:VEVENT
DTSTAMP:20260419T161825Z
DTSTART;VALUE=DATE:20120625
SUMMARY:ACSEAC 2012 Final Version Due
DESCRIPTION:2012 African Conference on Software Engineering and Applied C
 omputing
URL:http://www.wikicfp.com/cfp/servlet/event.showcfp?eventid=9722&copyown
 erid=18137
UID:cfp125062-N@wikicfp.com
END:VEVENT
END:VCALENDAR
