BEGIN:VCALENDAR
PRODID:-//WikiCFP//geomblog 1.0//EN
VERSION:2.0
CALSCALE:GREGORIAN
BEGIN:VEVENT
DTSTAMP:20260420T140329Z
DTSTART;VALUE=DATE:20110613
DTEND;VALUE=DATE:20110616
SUMMARY:SoCG 2011
DESCRIPTION:27th ACM Symposium on Computational Geometry
URL:http://www.wikicfp.com/cfp/servlet/event.showcfp?eventid=12452&copyow
 nerid=18012
UID:cfp124258-E@wikicfp.com
END:VEVENT
BEGIN:VEVENT
DTSTAMP:20260420T140329Z
DTSTART;VALUE=DATE:20101122
SUMMARY:SoCG 2011 Abstract Due
DESCRIPTION:27th ACM Symposium on Computational Geometry
URL:http://www.wikicfp.com/cfp/servlet/event.showcfp?eventid=12452&copyow
 nerid=18012
UID:cfp124258-A@wikicfp.com
END:VEVENT
BEGIN:VEVENT
DTSTAMP:20260420T140329Z
DTSTART;VALUE=DATE:20101201
SUMMARY:SoCG 2011 Deadline
DESCRIPTION:27th ACM Symposium on Computational Geometry
URL:http://www.wikicfp.com/cfp/servlet/event.showcfp?eventid=12452&copyow
 nerid=18012
UID:cfp124258-D@wikicfp.com
END:VEVENT
BEGIN:VEVENT
DTSTAMP:20260420T140329Z
DTSTART;VALUE=DATE:20110214
SUMMARY:SoCG 2011 Notification Due
DESCRIPTION:27th ACM Symposium on Computational Geometry
URL:http://www.wikicfp.com/cfp/servlet/event.showcfp?eventid=12452&copyow
 nerid=18012
UID:cfp124258-N@wikicfp.com
END:VEVENT
END:VCALENDAR
