BEGIN:VCALENDAR
PRODID:-//WikiCFP//ampaeli 1.0//EN
VERSION:2.0
CALSCALE:GREGORIAN
BEGIN:VEVENT
DTSTAMP:20260421T234249Z
DTSTART;VALUE=DATE:20110328
DTEND;VALUE=DATE:20110402
SUMMARY:WWW 2011
DESCRIPTION:The Twentieth International WWW Conference
URL:http://www.wikicfp.com/cfp/servlet/event.showcfp?eventid=9780&copyown
 erid=17845
UID:cfp122925-E@wikicfp.com
END:VEVENT
BEGIN:VEVENT
DTSTAMP:20260421T234249Z
DTSTART;VALUE=DATE:20101029
SUMMARY:WWW 2011 Deadline
DESCRIPTION:The Twentieth International WWW Conference
URL:http://www.wikicfp.com/cfp/servlet/event.showcfp?eventid=9780&copyown
 erid=17845
UID:cfp122925-D@wikicfp.com
END:VEVENT
BEGIN:VEVENT
DTSTAMP:20260421T234249Z
DTSTART;VALUE=DATE:20110117
SUMMARY:WWW 2011 Notification Due
DESCRIPTION:The Twentieth International WWW Conference
URL:http://www.wikicfp.com/cfp/servlet/event.showcfp?eventid=9780&copyown
 erid=17845
UID:cfp122925-N@wikicfp.com
END:VEVENT
BEGIN:VEVENT
DTSTAMP:20260421T234249Z
DTSTART;VALUE=DATE:20110301
DTEND;VALUE=DATE:20110302
SUMMARY:DSEP 2011
DESCRIPTION:Workshop on Data Streams and Event Processing
URL:http://www.wikicfp.com/cfp/servlet/event.showcfp?eventid=12343&copyow
 nerid=17845
UID:cfp122919-E@wikicfp.com
END:VEVENT
BEGIN:VEVENT
DTSTAMP:20260421T234249Z
DTSTART;VALUE=DATE:20101205
SUMMARY:DSEP 2011 Deadline
DESCRIPTION:Workshop on Data Streams and Event Processing
URL:http://www.wikicfp.com/cfp/servlet/event.showcfp?eventid=12343&copyow
 nerid=17845
UID:cfp122919-D@wikicfp.com
END:VEVENT
BEGIN:VEVENT
DTSTAMP:20260421T234249Z
DTSTART;VALUE=DATE:20110112
SUMMARY:DSEP 2011 Notification Due
DESCRIPTION:Workshop on Data Streams and Event Processing
URL:http://www.wikicfp.com/cfp/servlet/event.showcfp?eventid=12343&copyow
 nerid=17845
UID:cfp122919-N@wikicfp.com
END:VEVENT
BEGIN:VEVENT
DTSTAMP:20260421T234249Z
DTSTART;VALUE=DATE:20110201
SUMMARY:DSEP 2011 Final Version Due
DESCRIPTION:Workshop on Data Streams and Event Processing
URL:http://www.wikicfp.com/cfp/servlet/event.showcfp?eventid=12343&copyow
 nerid=17845
UID:cfp122919-N@wikicfp.com
END:VEVENT
BEGIN:VEVENT
DTSTAMP:20260421T234249Z
DTSTART;VALUE=DATE:20110716
DTEND;VALUE=DATE:20110723
SUMMARY:IJCAI 2011
DESCRIPTION:Twenty-second International Joint Conference on Artificial In
 telligence
URL:http://www.wikicfp.com/cfp/servlet/event.showcfp?eventid=7115&copyown
 erid=17845
UID:cfp122924-E@wikicfp.com
END:VEVENT
BEGIN:VEVENT
DTSTAMP:20260421T234249Z
DTSTART;VALUE=DATE:20110119
SUMMARY:IJCAI 2011 Abstract Due
DESCRIPTION:Twenty-second International Joint Conference on Artificial In
 telligence
URL:http://www.wikicfp.com/cfp/servlet/event.showcfp?eventid=7115&copyown
 erid=17845
UID:cfp122924-A@wikicfp.com
END:VEVENT
BEGIN:VEVENT
DTSTAMP:20260421T234249Z
DTSTART;VALUE=DATE:20110124
SUMMARY:IJCAI 2011 Deadline
DESCRIPTION:Twenty-second International Joint Conference on Artificial In
 telligence
URL:http://www.wikicfp.com/cfp/servlet/event.showcfp?eventid=7115&copyown
 erid=17845
UID:cfp122924-D@wikicfp.com
END:VEVENT
BEGIN:VEVENT
DTSTAMP:20260421T234249Z
DTSTART;VALUE=DATE:20110331
SUMMARY:IJCAI 2011 Notification Due
DESCRIPTION:Twenty-second International Joint Conference on Artificial In
 telligence
URL:http://www.wikicfp.com/cfp/servlet/event.showcfp?eventid=7115&copyown
 erid=17845
UID:cfp122924-N@wikicfp.com
END:VEVENT
BEGIN:VEVENT
DTSTAMP:20260421T234249Z
DTSTART;VALUE=DATE:20110415
SUMMARY:IJCAI 2011 Final Version Due
DESCRIPTION:Twenty-second International Joint Conference on Artificial In
 telligence
URL:http://www.wikicfp.com/cfp/servlet/event.showcfp?eventid=7115&copyown
 erid=17845
UID:cfp122924-N@wikicfp.com
END:VEVENT
BEGIN:VEVENT
DTSTAMP:20260421T234249Z
DTSTART;VALUE=DATE:20110711
DTEND;VALUE=DATE:20110716
SUMMARY:UMAP 2011
DESCRIPTION:19th International Conference on User Modeling\, Adaptation\,
  and Personalization
URL:http://www.wikicfp.com/cfp/servlet/event.showcfp?eventid=12351&copyow
 nerid=17845
UID:cfp122921-E@wikicfp.com
END:VEVENT
BEGIN:VEVENT
DTSTAMP:20260421T234249Z
DTSTART;VALUE=DATE:20110124
SUMMARY:UMAP 2011 Abstract Due
DESCRIPTION:19th International Conference on User Modeling\, Adaptation\,
  and Personalization
URL:http://www.wikicfp.com/cfp/servlet/event.showcfp?eventid=12351&copyow
 nerid=17845
UID:cfp122921-A@wikicfp.com
END:VEVENT
BEGIN:VEVENT
DTSTAMP:20260421T234249Z
DTSTART;VALUE=DATE:20110131
SUMMARY:UMAP 2011 Deadline
DESCRIPTION:19th International Conference on User Modeling\, Adaptation\,
  and Personalization
URL:http://www.wikicfp.com/cfp/servlet/event.showcfp?eventid=12351&copyow
 nerid=17845
UID:cfp122921-D@wikicfp.com
END:VEVENT
BEGIN:VEVENT
DTSTAMP:20260421T234249Z
DTSTART;VALUE=DATE:20101215
SUMMARY:IDA 2011 Abstract Due
DESCRIPTION:Intelligent data Analysis special issue on Dynamic Networks &
  Knowledge Discovery
URL:http://www.wikicfp.com/cfp/servlet/event.showcfp?eventid=12369&copyow
 nerid=17845
UID:cfp122922-A@wikicfp.com
END:VEVENT
BEGIN:VEVENT
DTSTAMP:20260421T234249Z
DTSTART;VALUE=DATE:20110131
SUMMARY:IDA 2011 Deadline
DESCRIPTION:Intelligent data Analysis special issue on Dynamic Networks &
  Knowledge Discovery
URL:http://www.wikicfp.com/cfp/servlet/event.showcfp?eventid=12369&copyow
 nerid=17845
UID:cfp122922-D@wikicfp.com
END:VEVENT
BEGIN:VEVENT
DTSTAMP:20260421T234249Z
DTSTART;VALUE=DATE:20110430
SUMMARY:IDA 2011 Notification Due
DESCRIPTION:Intelligent data Analysis special issue on Dynamic Networks &
  Knowledge Discovery
URL:http://www.wikicfp.com/cfp/servlet/event.showcfp?eventid=12369&copyow
 nerid=17845
UID:cfp122922-N@wikicfp.com
END:VEVENT
BEGIN:VEVENT
DTSTAMP:20260421T234249Z
DTSTART;VALUE=DATE:20110530
SUMMARY:IDA 2011 Final Version Due
DESCRIPTION:Intelligent data Analysis special issue on Dynamic Networks &
  Knowledge Discovery
URL:http://www.wikicfp.com/cfp/servlet/event.showcfp?eventid=12369&copyow
 nerid=17845
UID:cfp122922-N@wikicfp.com
END:VEVENT
BEGIN:VEVENT
DTSTAMP:20260421T234249Z
DTSTART;VALUE=DATE:20110525
DTEND;VALUE=DATE:20110528
SUMMARY:ICIS 2011
DESCRIPTION:International Conference on Intelligent Systems
URL:http://www.wikicfp.com/cfp/servlet/event.showcfp?eventid=12370&copyow
 nerid=17845
UID:cfp122923-E@wikicfp.com
END:VEVENT
BEGIN:VEVENT
DTSTAMP:20260421T234249Z
DTSTART;VALUE=DATE:20110131
SUMMARY:ICIS 2011 Deadline
DESCRIPTION:International Conference on Intelligent Systems
URL:http://www.wikicfp.com/cfp/servlet/event.showcfp?eventid=12370&copyow
 nerid=17845
UID:cfp122923-D@wikicfp.com
END:VEVENT
BEGIN:VEVENT
DTSTAMP:20260421T234249Z
DTSTART;VALUE=DATE:20110228
SUMMARY:ICIS 2011 Notification Due
DESCRIPTION:International Conference on Intelligent Systems
URL:http://www.wikicfp.com/cfp/servlet/event.showcfp?eventid=12370&copyow
 nerid=17845
UID:cfp122923-N@wikicfp.com
END:VEVENT
BEGIN:VEVENT
DTSTAMP:20260421T234249Z
DTSTART;VALUE=DATE:20110331
SUMMARY:ICIS 2011 Final Version Due
DESCRIPTION:International Conference on Intelligent Systems
URL:http://www.wikicfp.com/cfp/servlet/event.showcfp?eventid=12370&copyow
 nerid=17845
UID:cfp122923-N@wikicfp.com
END:VEVENT
BEGIN:VEVENT
DTSTAMP:20260421T234249Z
DTSTART;VALUE=DATE:20110628
DTEND;VALUE=DATE:20110703
SUMMARY:ICML 2011
DESCRIPTION:The 28th International Conference on Machine Learning
URL:http://www.wikicfp.com/cfp/servlet/event.showcfp?eventid=11637&copyow
 nerid=17845
UID:cfp122918-E@wikicfp.com
END:VEVENT
BEGIN:VEVENT
DTSTAMP:20260421T234249Z
DTSTART;VALUE=DATE:20110201
SUMMARY:ICML 2011 Deadline
DESCRIPTION:The 28th International Conference on Machine Learning
URL:http://www.wikicfp.com/cfp/servlet/event.showcfp?eventid=11637&copyow
 nerid=17845
UID:cfp122918-D@wikicfp.com
END:VEVENT
BEGIN:VEVENT
DTSTAMP:20260421T234249Z
DTSTART;VALUE=DATE:20110419
SUMMARY:ICML 2011 Notification Due
DESCRIPTION:The 28th International Conference on Machine Learning
URL:http://www.wikicfp.com/cfp/servlet/event.showcfp?eventid=11637&copyow
 nerid=17845
UID:cfp122918-N@wikicfp.com
END:VEVENT
BEGIN:VEVENT
DTSTAMP:20260421T234249Z
DTSTART;VALUE=DATE:20110830
DTEND;VALUE=DATE:20110903
SUMMARY:MobileHCI 2011
DESCRIPTION:MobileHCI 2011
URL:http://www.wikicfp.com/cfp/servlet/event.showcfp?eventid=11311&copyow
 nerid=17845
UID:cfp122928-E@wikicfp.com
END:VEVENT
BEGIN:VEVENT
DTSTAMP:20260421T234249Z
DTSTART;VALUE=DATE:20110218
SUMMARY:MobileHCI 2011 Deadline
DESCRIPTION:MobileHCI 2011
URL:http://www.wikicfp.com/cfp/servlet/event.showcfp?eventid=11311&copyow
 nerid=17845
UID:cfp122928-D@wikicfp.com
END:VEVENT
BEGIN:VEVENT
DTSTAMP:20260421T234249Z
DTSTART;VALUE=DATE:20110822
DTEND;VALUE=DATE:20110828
SUMMARY:WI-IAT 2011
DESCRIPTION:The 2011 IEEE/WIC/ACM International Conference on Web Intelli
 gence
URL:http://www.wikicfp.com/cfp/servlet/event.showcfp?eventid=11424&copyow
 nerid=17845
UID:cfp122926-E@wikicfp.com
END:VEVENT
BEGIN:VEVENT
DTSTAMP:20260421T234249Z
DTSTART;VALUE=DATE:20110311
SUMMARY:WI-IAT 2011 Deadline
DESCRIPTION:The 2011 IEEE/WIC/ACM International Conference on Web Intelli
 gence
URL:http://www.wikicfp.com/cfp/servlet/event.showcfp?eventid=11424&copyow
 nerid=17845
UID:cfp122926-D@wikicfp.com
END:VEVENT
BEGIN:VEVENT
DTSTAMP:20260421T234249Z
DTSTART;VALUE=DATE:20110523
SUMMARY:WI-IAT 2011 Notification Due
DESCRIPTION:The 2011 IEEE/WIC/ACM International Conference on Web Intelli
 gence
URL:http://www.wikicfp.com/cfp/servlet/event.showcfp?eventid=11424&copyow
 nerid=17845
UID:cfp122926-N@wikicfp.com
END:VEVENT
BEGIN:VEVENT
DTSTAMP:20260421T234249Z
DTSTART;VALUE=DATE:20110610
SUMMARY:WI-IAT 2011 Final Version Due
DESCRIPTION:The 2011 IEEE/WIC/ACM International Conference on Web Intelli
 gence
URL:http://www.wikicfp.com/cfp/servlet/event.showcfp?eventid=11424&copyow
 nerid=17845
UID:cfp122926-N@wikicfp.com
END:VEVENT
BEGIN:VEVENT
DTSTAMP:20260421T234249Z
DTSTART;VALUE=DATE:20111017
DTEND;VALUE=DATE:20111022
SUMMARY:IEEE MASS 2011
DESCRIPTION:The 8th IEEE International Conference on Mobile Ad-hoc and Se
 nsor Systems
URL:http://www.wikicfp.com/cfp/servlet/event.showcfp?eventid=12344&copyow
 nerid=17845
UID:cfp122920-E@wikicfp.com
END:VEVENT
BEGIN:VEVENT
DTSTAMP:20260421T234249Z
DTSTART;VALUE=DATE:20110320
SUMMARY:IEEE MASS 2011 Abstract Due
DESCRIPTION:The 8th IEEE International Conference on Mobile Ad-hoc and Se
 nsor Systems
URL:http://www.wikicfp.com/cfp/servlet/event.showcfp?eventid=12344&copyow
 nerid=17845
UID:cfp122920-A@wikicfp.com
END:VEVENT
BEGIN:VEVENT
DTSTAMP:20260421T234249Z
DTSTART;VALUE=DATE:20110327
SUMMARY:IEEE MASS 2011 Deadline
DESCRIPTION:The 8th IEEE International Conference on Mobile Ad-hoc and Se
 nsor Systems
URL:http://www.wikicfp.com/cfp/servlet/event.showcfp?eventid=12344&copyow
 nerid=17845
UID:cfp122920-D@wikicfp.com
END:VEVENT
BEGIN:VEVENT
DTSTAMP:20260421T234249Z
DTSTART;VALUE=DATE:20110617
SUMMARY:IEEE MASS 2011 Notification Due
DESCRIPTION:The 8th IEEE International Conference on Mobile Ad-hoc and Se
 nsor Systems
URL:http://www.wikicfp.com/cfp/servlet/event.showcfp?eventid=12344&copyow
 nerid=17845
UID:cfp122920-N@wikicfp.com
END:VEVENT
BEGIN:VEVENT
DTSTAMP:20260421T234249Z
DTSTART;VALUE=DATE:20110717
SUMMARY:IEEE MASS 2011 Final Version Due
DESCRIPTION:The 8th IEEE International Conference on Mobile Ad-hoc and Se
 nsor Systems
URL:http://www.wikicfp.com/cfp/servlet/event.showcfp?eventid=12344&copyow
 nerid=17845
UID:cfp122920-N@wikicfp.com
END:VEVENT
BEGIN:VEVENT
DTSTAMP:20260421T234249Z
DTSTART;VALUE=DATE:20120416
DTEND;VALUE=DATE:20120421
SUMMARY:WWW 2012
DESCRIPTION:The Twenty-first International WWW Conference
URL:http://www.wikicfp.com/cfp/servlet/event.showcfp?eventid=9781&copyown
 erid=17845
UID:cfp216985-E@wikicfp.com
END:VEVENT
BEGIN:VEVENT
DTSTAMP:20260421T234249Z
DTSTART;VALUE=DATE:20111101
SUMMARY:WWW 2012 Abstract Due
DESCRIPTION:The Twenty-first International WWW Conference
URL:http://www.wikicfp.com/cfp/servlet/event.showcfp?eventid=9781&copyown
 erid=17845
UID:cfp216985-A@wikicfp.com
END:VEVENT
BEGIN:VEVENT
DTSTAMP:20260421T234249Z
DTSTART;VALUE=DATE:20111107
SUMMARY:WWW 2012 Deadline
DESCRIPTION:The Twenty-first International WWW Conference
URL:http://www.wikicfp.com/cfp/servlet/event.showcfp?eventid=9781&copyown
 erid=17845
UID:cfp216985-D@wikicfp.com
END:VEVENT
BEGIN:VEVENT
DTSTAMP:20260421T234249Z
DTSTART;VALUE=DATE:20120130
SUMMARY:WWW 2012 Notification Due
DESCRIPTION:The Twenty-first International WWW Conference
URL:http://www.wikicfp.com/cfp/servlet/event.showcfp?eventid=9781&copyown
 erid=17845
UID:cfp216985-N@wikicfp.com
END:VEVENT
BEGIN:VEVENT
DTSTAMP:20260421T234249Z
DTSTART;VALUE=DATE:20120613
DTEND;VALUE=DATE:20120616
SUMMARY:WIMS 2012
DESCRIPTION:International Conference on Web Intelligence\, Mining and Sem
 antics
URL:http://www.wikicfp.com/cfp/servlet/event.showcfp?eventid=18093&copyow
 nerid=17845
UID:cfp216990-E@wikicfp.com
END:VEVENT
BEGIN:VEVENT
DTSTAMP:20260421T234249Z
DTSTART;VALUE=DATE:20120107
SUMMARY:WIMS 2012 Deadline
DESCRIPTION:International Conference on Web Intelligence\, Mining and Sem
 antics
URL:http://www.wikicfp.com/cfp/servlet/event.showcfp?eventid=18093&copyow
 nerid=17845
UID:cfp216990-D@wikicfp.com
END:VEVENT
BEGIN:VEVENT
DTSTAMP:20260421T234249Z
DTSTART;VALUE=DATE:20120215
SUMMARY:WIMS 2012 Notification Due
DESCRIPTION:International Conference on Web Intelligence\, Mining and Sem
 antics
URL:http://www.wikicfp.com/cfp/servlet/event.showcfp?eventid=18093&copyow
 nerid=17845
UID:cfp216990-N@wikicfp.com
END:VEVENT
BEGIN:VEVENT
DTSTAMP:20260421T234249Z
DTSTART;VALUE=DATE:20120309
SUMMARY:WIMS 2012 Final Version Due
DESCRIPTION:International Conference on Web Intelligence\, Mining and Sem
 antics
URL:http://www.wikicfp.com/cfp/servlet/event.showcfp?eventid=18093&copyow
 nerid=17845
UID:cfp216990-N@wikicfp.com
END:VEVENT
BEGIN:VEVENT
DTSTAMP:20260421T234249Z
DTSTART;VALUE=DATE:20120812
DTEND;VALUE=DATE:20120817
SUMMARY:KDD Workshops 2012
DESCRIPTION:18th ACM SIGKDD Conference on Knowledge Discovery and Data Mi
 ning - Call for Workshops
URL:http://www.wikicfp.com/cfp/servlet/event.showcfp?eventid=18890&copyow
 nerid=17845
UID:cfp216989-E@wikicfp.com
END:VEVENT
BEGIN:VEVENT
DTSTAMP:20260421T234249Z
DTSTART;VALUE=DATE:20120115
SUMMARY:KDD Workshops 2012 Deadline
DESCRIPTION:18th ACM SIGKDD Conference on Knowledge Discovery and Data Mi
 ning - Call for Workshops
URL:http://www.wikicfp.com/cfp/servlet/event.showcfp?eventid=18890&copyow
 nerid=17845
UID:cfp216989-D@wikicfp.com
END:VEVENT
BEGIN:VEVENT
DTSTAMP:20260421T234249Z
DTSTART;VALUE=DATE:20120305
SUMMARY:KDD Workshops 2012 Notification Due
DESCRIPTION:18th ACM SIGKDD Conference on Knowledge Discovery and Data Mi
 ning - Call for Workshops
URL:http://www.wikicfp.com/cfp/servlet/event.showcfp?eventid=18890&copyow
 nerid=17845
UID:cfp216989-N@wikicfp.com
END:VEVENT
BEGIN:VEVENT
DTSTAMP:20260421T234249Z
DTSTART;VALUE=DATE:20120604
DTEND;VALUE=DATE:20120609
SUMMARY:ICWSM 2012
DESCRIPTION:The 6th International AAAI Conference on Weblogs and Social M
 edia
URL:http://www.wikicfp.com/cfp/servlet/event.showcfp?eventid=18539&copyow
 nerid=17845
UID:cfp216987-E@wikicfp.com
END:VEVENT
BEGIN:VEVENT
DTSTAMP:20260421T234249Z
DTSTART;VALUE=DATE:20120113
SUMMARY:ICWSM 2012 Abstract Due
DESCRIPTION:The 6th International AAAI Conference on Weblogs and Social M
 edia
URL:http://www.wikicfp.com/cfp/servlet/event.showcfp?eventid=18539&copyow
 nerid=17845
UID:cfp216987-A@wikicfp.com
END:VEVENT
BEGIN:VEVENT
DTSTAMP:20260421T234249Z
DTSTART;VALUE=DATE:20120118
SUMMARY:ICWSM 2012 Deadline
DESCRIPTION:The 6th International AAAI Conference on Weblogs and Social M
 edia
URL:http://www.wikicfp.com/cfp/servlet/event.showcfp?eventid=18539&copyow
 nerid=17845
UID:cfp216987-D@wikicfp.com
END:VEVENT
BEGIN:VEVENT
DTSTAMP:20260421T234249Z
DTSTART;VALUE=DATE:20120227
SUMMARY:ICWSM 2012 Notification Due
DESCRIPTION:The 6th International AAAI Conference on Weblogs and Social M
 edia
URL:http://www.wikicfp.com/cfp/servlet/event.showcfp?eventid=18539&copyow
 nerid=17845
UID:cfp216987-N@wikicfp.com
END:VEVENT
BEGIN:VEVENT
DTSTAMP:20260421T234249Z
DTSTART;VALUE=DATE:20120312
SUMMARY:ICWSM 2012 Final Version Due
DESCRIPTION:The 6th International AAAI Conference on Weblogs and Social M
 edia
URL:http://www.wikicfp.com/cfp/servlet/event.showcfp?eventid=18539&copyow
 nerid=17845
UID:cfp216987-N@wikicfp.com
END:VEVENT
BEGIN:VEVENT
DTSTAMP:20260421T234249Z
DTSTART;VALUE=DATE:20120529
DTEND;VALUE=DATE:20120602
SUMMARY:GeoDoc 2012
DESCRIPTION:Geospatial Information and Documents
URL:http://www.wikicfp.com/cfp/servlet/event.showcfp?eventid=18541&copyow
 nerid=17845
UID:cfp216988-E@wikicfp.com
END:VEVENT
BEGIN:VEVENT
DTSTAMP:20260421T234249Z
DTSTART;VALUE=DATE:20120122
SUMMARY:GeoDoc 2012 Deadline
DESCRIPTION:Geospatial Information and Documents
URL:http://www.wikicfp.com/cfp/servlet/event.showcfp?eventid=18541&copyow
 nerid=17845
UID:cfp216988-D@wikicfp.com
END:VEVENT
BEGIN:VEVENT
DTSTAMP:20260421T234249Z
DTSTART;VALUE=DATE:20120210
SUMMARY:GeoDoc 2012 Notification Due
DESCRIPTION:Geospatial Information and Documents
URL:http://www.wikicfp.com/cfp/servlet/event.showcfp?eventid=18541&copyow
 nerid=17845
UID:cfp216988-N@wikicfp.com
END:VEVENT
BEGIN:VEVENT
DTSTAMP:20260421T234249Z
DTSTART;VALUE=DATE:20120224
SUMMARY:GeoDoc 2012 Final Version Due
DESCRIPTION:Geospatial Information and Documents
URL:http://www.wikicfp.com/cfp/servlet/event.showcfp?eventid=18541&copyow
 nerid=17845
UID:cfp216988-N@wikicfp.com
END:VEVENT
BEGIN:VEVENT
DTSTAMP:20260421T234249Z
DTSTART;VALUE=DATE:20120812
DTEND;VALUE=DATE:20120817
SUMMARY:KDD 2012
DESCRIPTION:18th ACM SIGKDD Knowledge Discovery and Data Mining 
URL:http://www.wikicfp.com/cfp/servlet/event.showcfp?eventid=18347&copyow
 nerid=17845
UID:cfp216986-E@wikicfp.com
END:VEVENT
BEGIN:VEVENT
DTSTAMP:20260421T234249Z
DTSTART;VALUE=DATE:20120210
SUMMARY:KDD 2012 Deadline
DESCRIPTION:18th ACM SIGKDD Knowledge Discovery and Data Mining 
URL:http://www.wikicfp.com/cfp/servlet/event.showcfp?eventid=18347&copyow
 nerid=17845
UID:cfp216986-D@wikicfp.com
END:VEVENT
BEGIN:VEVENT
DTSTAMP:20260421T234249Z
DTSTART;VALUE=DATE:20120504
SUMMARY:KDD 2012 Notification Due
DESCRIPTION:18th ACM SIGKDD Knowledge Discovery and Data Mining 
URL:http://www.wikicfp.com/cfp/servlet/event.showcfp?eventid=18347&copyow
 nerid=17845
UID:cfp216986-N@wikicfp.com
END:VEVENT
BEGIN:VEVENT
DTSTAMP:20260421T234249Z
DTSTART;VALUE=DATE:20130803
DTEND;VALUE=DATE:20130810
SUMMARY:PANSOM 2013
DESCRIPTION:Workshop on Understanding the Positive and Negative Sides of 
 Social Media (PANSOM'13)
URL:http://www.wikicfp.com/cfp/servlet/event.showcfp?eventid=29074&copyow
 nerid=17845
UID:cfp337721-E@wikicfp.com
END:VEVENT
BEGIN:VEVENT
DTSTAMP:20260421T234249Z
DTSTART;VALUE=DATE:20130420
SUMMARY:PANSOM 2013 Deadline
DESCRIPTION:Workshop on Understanding the Positive and Negative Sides of 
 Social Media (PANSOM'13)
URL:http://www.wikicfp.com/cfp/servlet/event.showcfp?eventid=29074&copyow
 nerid=17845
UID:cfp337721-D@wikicfp.com
END:VEVENT
BEGIN:VEVENT
DTSTAMP:20260421T234249Z
DTSTART;VALUE=DATE:20130520
SUMMARY:PANSOM 2013 Notification Due
DESCRIPTION:Workshop on Understanding the Positive and Negative Sides of 
 Social Media (PANSOM'13)
URL:http://www.wikicfp.com/cfp/servlet/event.showcfp?eventid=29074&copyow
 nerid=17845
UID:cfp337721-N@wikicfp.com
END:VEVENT
BEGIN:VEVENT
DTSTAMP:20260421T234249Z
DTSTART;VALUE=DATE:20130530
SUMMARY:PANSOM 2013 Final Version Due
DESCRIPTION:Workshop on Understanding the Positive and Negative Sides of 
 Social Media (PANSOM'13)
URL:http://www.wikicfp.com/cfp/servlet/event.showcfp?eventid=29074&copyow
 nerid=17845
UID:cfp337721-N@wikicfp.com
END:VEVENT
END:VCALENDAR
