BEGIN:VCALENDAR
PRODID:-//WikiCFP//breezebreeze 1.0//EN
VERSION:2.0
CALSCALE:GREGORIAN
BEGIN:VEVENT
DTSTAMP:20260422T200643Z
DTSTART;VALUE=DATE:20221106
DTEND;VALUE=DATE:20221110
SUMMARY:SenSys 2022
DESCRIPTION:International Conference on Embedded Networked Sensor Systems
 
URL:http://www.wikicfp.com/cfp/servlet/event.showcfp?eventid=167544&copyo
 wnerid=177486
UID:cfp948921-E@wikicfp.com
END:VEVENT
BEGIN:VEVENT
DTSTAMP:20260422T200643Z
DTSTART;VALUE=DATE:20220914
SUMMARY:SenSys 2022 Final Version Due
DESCRIPTION:International Conference on Embedded Networked Sensor Systems
 
URL:http://www.wikicfp.com/cfp/servlet/event.showcfp?eventid=167544&copyo
 wnerid=177486
UID:cfp948921-N@wikicfp.com
END:VEVENT
BEGIN:VEVENT
DTSTAMP:20260422T200643Z
DTSTART;VALUE=DATE:20220523
DTEND;VALUE=DATE:20220528
SUMMARY:ICRA 2022
DESCRIPTION:International Conference on Robotics and Automation
URL:http://www.wikicfp.com/cfp/servlet/event.showcfp?eventid=139566&copyo
 wnerid=177486
UID:cfp948929-E@wikicfp.com
END:VEVENT
BEGIN:VEVENT
DTSTAMP:20260422T200643Z
DTSTART;VALUE=DATE:20210914
SUMMARY:ICRA 2022 Deadline
DESCRIPTION:International Conference on Robotics and Automation
URL:http://www.wikicfp.com/cfp/servlet/event.showcfp?eventid=139566&copyo
 wnerid=177486
UID:cfp948929-D@wikicfp.com
END:VEVENT
BEGIN:VEVENT
DTSTAMP:20260422T200643Z
DTSTART;VALUE=DATE:20220131
SUMMARY:ICRA 2022 Notification Due
DESCRIPTION:International Conference on Robotics and Automation
URL:http://www.wikicfp.com/cfp/servlet/event.showcfp?eventid=139566&copyo
 wnerid=177486
UID:cfp948929-N@wikicfp.com
END:VEVENT
BEGIN:VEVENT
DTSTAMP:20260422T200643Z
DTSTART;VALUE=DATE:20220301
SUMMARY:ICRA 2022 Final Version Due
DESCRIPTION:International Conference on Robotics and Automation
URL:http://www.wikicfp.com/cfp/servlet/event.showcfp?eventid=139566&copyo
 wnerid=177486
UID:cfp948929-N@wikicfp.com
END:VEVENT
BEGIN:VEVENT
DTSTAMP:20260422T200643Z
DTSTART;VALUE=DATE:20220610
DTEND;VALUE=DATE:20220613
SUMMARY:IWQoS 2022
DESCRIPTION:IEEE/ACM International Symposium on Quality of Service
URL:http://www.wikicfp.com/cfp/servlet/event.showcfp?eventid=151701&copyo
 wnerid=177486
UID:cfp948931-E@wikicfp.com
END:VEVENT
BEGIN:VEVENT
DTSTAMP:20260422T200643Z
DTSTART;VALUE=DATE:20220201
SUMMARY:IWQoS 2022 Abstract Due
DESCRIPTION:IEEE/ACM International Symposium on Quality of Service
URL:http://www.wikicfp.com/cfp/servlet/event.showcfp?eventid=151701&copyo
 wnerid=177486
UID:cfp948931-A@wikicfp.com
END:VEVENT
BEGIN:VEVENT
DTSTAMP:20260422T200643Z
DTSTART;VALUE=DATE:20220207
SUMMARY:IWQoS 2022 Deadline
DESCRIPTION:IEEE/ACM International Symposium on Quality of Service
URL:http://www.wikicfp.com/cfp/servlet/event.showcfp?eventid=151701&copyo
 wnerid=177486
UID:cfp948931-D@wikicfp.com
END:VEVENT
BEGIN:VEVENT
DTSTAMP:20260422T200643Z
DTSTART;VALUE=DATE:20220407
SUMMARY:IWQoS 2022 Notification Due
DESCRIPTION:IEEE/ACM International Symposium on Quality of Service
URL:http://www.wikicfp.com/cfp/servlet/event.showcfp?eventid=151701&copyo
 wnerid=177486
UID:cfp948931-N@wikicfp.com
END:VEVENT
BEGIN:VEVENT
DTSTAMP:20260422T200643Z
DTSTART;VALUE=DATE:20220501
SUMMARY:IWQoS 2022 Final Version Due
DESCRIPTION:IEEE/ACM International Symposium on Quality of Service
URL:http://www.wikicfp.com/cfp/servlet/event.showcfp?eventid=151701&copyo
 wnerid=177486
UID:cfp948931-N@wikicfp.com
END:VEVENT
BEGIN:VEVENT
DTSTAMP:20260422T200643Z
DTSTART;VALUE=DATE:20221017
DTEND;VALUE=DATE:20221023
SUMMARY:MobiHoc 2022
DESCRIPTION:Mobile Ad Hoc Networking and Computing
URL:http://www.wikicfp.com/cfp/servlet/event.showcfp?eventid=144033&copyo
 wnerid=177486
UID:cfp948927-E@wikicfp.com
END:VEVENT
BEGIN:VEVENT
DTSTAMP:20260422T200643Z
DTSTART;VALUE=DATE:20220225
SUMMARY:MobiHoc 2022 Abstract Due
DESCRIPTION:Mobile Ad Hoc Networking and Computing
URL:http://www.wikicfp.com/cfp/servlet/event.showcfp?eventid=144033&copyo
 wnerid=177486
UID:cfp948927-A@wikicfp.com
END:VEVENT
BEGIN:VEVENT
DTSTAMP:20260422T200643Z
DTSTART;VALUE=DATE:20220304
SUMMARY:MobiHoc 2022 Deadline
DESCRIPTION:Mobile Ad Hoc Networking and Computing
URL:http://www.wikicfp.com/cfp/servlet/event.showcfp?eventid=144033&copyo
 wnerid=177486
UID:cfp948927-D@wikicfp.com
END:VEVENT
BEGIN:VEVENT
DTSTAMP:20260422T200643Z
DTSTART;VALUE=DATE:20220715
SUMMARY:MobiHoc 2022 Notification Due
DESCRIPTION:Mobile Ad Hoc Networking and Computing
URL:http://www.wikicfp.com/cfp/servlet/event.showcfp?eventid=144033&copyo
 wnerid=177486
UID:cfp948927-N@wikicfp.com
END:VEVENT
BEGIN:VEVENT
DTSTAMP:20260422T200643Z
DTSTART;VALUE=DATE:20221024
DTEND;VALUE=DATE:20221028
SUMMARY:Radar 2022
DESCRIPTION:The International Conference on Radar Systems
URL:http://www.wikicfp.com/cfp/servlet/event.showcfp?eventid=154710&copyo
 wnerid=177486
UID:cfp948928-E@wikicfp.com
END:VEVENT
BEGIN:VEVENT
DTSTAMP:20260422T200643Z
DTSTART;VALUE=DATE:20220418
SUMMARY:Radar 2022 Deadline
DESCRIPTION:The International Conference on Radar Systems
URL:http://www.wikicfp.com/cfp/servlet/event.showcfp?eventid=154710&copyo
 wnerid=177486
UID:cfp948928-D@wikicfp.com
END:VEVENT
BEGIN:VEVENT
DTSTAMP:20260422T200643Z
DTSTART;VALUE=DATE:20220627
SUMMARY:Radar 2022 Notification Due
DESCRIPTION:The International Conference on Radar Systems
URL:http://www.wikicfp.com/cfp/servlet/event.showcfp?eventid=154710&copyo
 wnerid=177486
UID:cfp948928-N@wikicfp.com
END:VEVENT
BEGIN:VEVENT
DTSTAMP:20260422T200643Z
DTSTART;VALUE=DATE:20220704
SUMMARY:Radar 2022 Final Version Due
DESCRIPTION:The International Conference on Radar Systems
URL:http://www.wikicfp.com/cfp/servlet/event.showcfp?eventid=154710&copyo
 wnerid=177486
UID:cfp948928-N@wikicfp.com
END:VEVENT
BEGIN:VEVENT
DTSTAMP:20260422T200643Z
DTSTART;VALUE=DATE:20221020
DTEND;VALUE=DATE:20221023
SUMMARY:IEEE MASS  2022
DESCRIPTION:The 19th IEEE International Conference on Mobile Ad-Hoc and S
 mart Systems (MASS 2022) Denver\, Colorado\, October 20 - 22\, 2022
URL:http://www.wikicfp.com/cfp/servlet/event.showcfp?eventid=156844&copyo
 wnerid=177486
UID:cfp948919-E@wikicfp.com
END:VEVENT
BEGIN:VEVENT
DTSTAMP:20260422T200643Z
DTSTART;VALUE=DATE:20220502
SUMMARY:IEEE MASS  2022 Deadline
DESCRIPTION:The 19th IEEE International Conference on Mobile Ad-Hoc and S
 mart Systems (MASS 2022) Denver\, Colorado\, October 20 - 22\, 2022
URL:http://www.wikicfp.com/cfp/servlet/event.showcfp?eventid=156844&copyo
 wnerid=177486
UID:cfp948919-D@wikicfp.com
END:VEVENT
BEGIN:VEVENT
DTSTAMP:20260422T200643Z
DTSTART;VALUE=DATE:20220718
SUMMARY:IEEE MASS  2022 Notification Due
DESCRIPTION:The 19th IEEE International Conference on Mobile Ad-Hoc and S
 mart Systems (MASS 2022) Denver\, Colorado\, October 20 - 22\, 2022
URL:http://www.wikicfp.com/cfp/servlet/event.showcfp?eventid=156844&copyo
 wnerid=177486
UID:cfp948919-N@wikicfp.com
END:VEVENT
BEGIN:VEVENT
DTSTAMP:20260422T200643Z
DTSTART;VALUE=DATE:20220808
SUMMARY:IEEE MASS  2022 Final Version Due
DESCRIPTION:The 19th IEEE International Conference on Mobile Ad-Hoc and S
 mart Systems (MASS 2022) Denver\, Colorado\, October 20 - 22\, 2022
URL:http://www.wikicfp.com/cfp/servlet/event.showcfp?eventid=156844&copyo
 wnerid=177486
UID:cfp948919-N@wikicfp.com
END:VEVENT
BEGIN:VEVENT
DTSTAMP:20260422T200643Z
DTSTART;VALUE=DATE:20220920
DTEND;VALUE=DATE:20220924
SUMMARY:IEEE SECON 2022
DESCRIPTION:The 19th annual IEEE International Conference on Sensing\, Co
 mmunication\, and Networking
URL:http://www.wikicfp.com/cfp/servlet/event.showcfp?eventid=156772&copyo
 wnerid=177486
UID:cfp948930-E@wikicfp.com
END:VEVENT
BEGIN:VEVENT
DTSTAMP:20260422T200643Z
DTSTART;VALUE=DATE:20220502
SUMMARY:IEEE SECON 2022 Abstract Due
DESCRIPTION:The 19th annual IEEE International Conference on Sensing\, Co
 mmunication\, and Networking
URL:http://www.wikicfp.com/cfp/servlet/event.showcfp?eventid=156772&copyo
 wnerid=177486
UID:cfp948930-A@wikicfp.com
END:VEVENT
BEGIN:VEVENT
DTSTAMP:20260422T200643Z
DTSTART;VALUE=DATE:20220509
SUMMARY:IEEE SECON 2022 Deadline
DESCRIPTION:The 19th annual IEEE International Conference on Sensing\, Co
 mmunication\, and Networking
URL:http://www.wikicfp.com/cfp/servlet/event.showcfp?eventid=156772&copyo
 wnerid=177486
UID:cfp948930-D@wikicfp.com
END:VEVENT
BEGIN:VEVENT
DTSTAMP:20260422T200643Z
DTSTART;VALUE=DATE:20220715
SUMMARY:IEEE SECON 2022 Notification Due
DESCRIPTION:The 19th annual IEEE International Conference on Sensing\, Co
 mmunication\, and Networking
URL:http://www.wikicfp.com/cfp/servlet/event.showcfp?eventid=156772&copyo
 wnerid=177486
UID:cfp948930-N@wikicfp.com
END:VEVENT
BEGIN:VEVENT
DTSTAMP:20260422T200643Z
DTSTART;VALUE=DATE:20220729
SUMMARY:IEEE SECON 2022 Final Version Due
DESCRIPTION:The 19th annual IEEE International Conference on Sensing\, Co
 mmunication\, and Networking
URL:http://www.wikicfp.com/cfp/servlet/event.showcfp?eventid=156772&copyo
 wnerid=177486
UID:cfp948930-N@wikicfp.com
END:VEVENT
BEGIN:VEVENT
DTSTAMP:20260422T200643Z
DTSTART;VALUE=DATE:20221205
DTEND;VALUE=DATE:20221209
SUMMARY:RTSS 2022
DESCRIPTION:Real-Time Systems Symposium
URL:http://www.wikicfp.com/cfp/servlet/event.showcfp?eventid=163205&copyo
 wnerid=177486
UID:cfp948924-E@wikicfp.com
END:VEVENT
BEGIN:VEVENT
DTSTAMP:20260422T200643Z
DTSTART;VALUE=DATE:20220526
SUMMARY:RTSS 2022 Deadline
DESCRIPTION:Real-Time Systems Symposium
URL:http://www.wikicfp.com/cfp/servlet/event.showcfp?eventid=163205&copyo
 wnerid=177486
UID:cfp948924-D@wikicfp.com
END:VEVENT
BEGIN:VEVENT
DTSTAMP:20260422T200643Z
DTSTART;VALUE=DATE:20220805
SUMMARY:RTSS 2022 Notification Due
DESCRIPTION:Real-Time Systems Symposium
URL:http://www.wikicfp.com/cfp/servlet/event.showcfp?eventid=163205&copyo
 wnerid=177486
UID:cfp948924-N@wikicfp.com
END:VEVENT
BEGIN:VEVENT
DTSTAMP:20260422T200643Z
DTSTART;VALUE=DATE:20230417
DTEND;VALUE=DATE:20230420
SUMMARY:NSDI 2023
DESCRIPTION:20th USENIX Symposium on Networked Systems Design and Impleme
 ntation
URL:http://www.wikicfp.com/cfp/servlet/event.showcfp?eventid=156447&copyo
 wnerid=177486
UID:cfp948922-E@wikicfp.com
END:VEVENT
BEGIN:VEVENT
DTSTAMP:20260422T200643Z
DTSTART;VALUE=DATE:20220913
SUMMARY:NSDI 2023 Abstract Due
DESCRIPTION:20th USENIX Symposium on Networked Systems Design and Impleme
 ntation
URL:http://www.wikicfp.com/cfp/servlet/event.showcfp?eventid=156447&copyo
 wnerid=177486
UID:cfp948922-A@wikicfp.com
END:VEVENT
BEGIN:VEVENT
DTSTAMP:20260422T200643Z
DTSTART;VALUE=DATE:20220920
SUMMARY:NSDI 2023 Deadline
DESCRIPTION:20th USENIX Symposium on Networked Systems Design and Impleme
 ntation
URL:http://www.wikicfp.com/cfp/servlet/event.showcfp?eventid=156447&copyo
 wnerid=177486
UID:cfp948922-D@wikicfp.com
END:VEVENT
BEGIN:VEVENT
DTSTAMP:20260422T200643Z
DTSTART;VALUE=DATE:20221215
SUMMARY:NSDI 2023 Notification Due
DESCRIPTION:20th USENIX Symposium on Networked Systems Design and Impleme
 ntation
URL:http://www.wikicfp.com/cfp/servlet/event.showcfp?eventid=156447&copyo
 wnerid=177486
UID:cfp948922-N@wikicfp.com
END:VEVENT
BEGIN:VEVENT
DTSTAMP:20260422T200643Z
DTSTART;VALUE=DATE:20220301
SUMMARY:NSDI 2023 Final Version Due
DESCRIPTION:20th USENIX Symposium on Networked Systems Design and Impleme
 ntation
URL:http://www.wikicfp.com/cfp/servlet/event.showcfp?eventid=156447&copyo
 wnerid=177486
UID:cfp948922-N@wikicfp.com
END:VEVENT
BEGIN:VEVENT
DTSTAMP:20260422T200643Z
DTSTART;VALUE=DATE:20230718
DTEND;VALUE=DATE:20230722
SUMMARY:ICDCS 2023
DESCRIPTION:The 43rd IEEE International Conference on Distributed Computi
 ng Systems
URL:http://www.wikicfp.com/cfp/servlet/event.showcfp?eventid=169141&copyo
 wnerid=177486
UID:cfp948926-E@wikicfp.com
END:VEVENT
BEGIN:VEVENT
DTSTAMP:20260422T200643Z
DTSTART;VALUE=DATE:20230114
SUMMARY:ICDCS 2023 Abstract Due
DESCRIPTION:The 43rd IEEE International Conference on Distributed Computi
 ng Systems
URL:http://www.wikicfp.com/cfp/servlet/event.showcfp?eventid=169141&copyo
 wnerid=177486
UID:cfp948926-A@wikicfp.com
END:VEVENT
BEGIN:VEVENT
DTSTAMP:20260422T200643Z
DTSTART;VALUE=DATE:20230121
SUMMARY:ICDCS 2023 Deadline
DESCRIPTION:The 43rd IEEE International Conference on Distributed Computi
 ng Systems
URL:http://www.wikicfp.com/cfp/servlet/event.showcfp?eventid=169141&copyo
 wnerid=177486
UID:cfp948926-D@wikicfp.com
END:VEVENT
BEGIN:VEVENT
DTSTAMP:20260422T200643Z
DTSTART;VALUE=DATE:20230403
SUMMARY:ICDCS 2023 Notification Due
DESCRIPTION:The 43rd IEEE International Conference on Distributed Computi
 ng Systems
URL:http://www.wikicfp.com/cfp/servlet/event.showcfp?eventid=169141&copyo
 wnerid=177486
UID:cfp948926-N@wikicfp.com
END:VEVENT
BEGIN:VEVENT
DTSTAMP:20260422T200643Z
DTSTART;VALUE=DATE:20230508
SUMMARY:ICDCS 2023 Final Version Due
DESCRIPTION:The 43rd IEEE International Conference on Distributed Computi
 ng Systems
URL:http://www.wikicfp.com/cfp/servlet/event.showcfp?eventid=169141&copyo
 wnerid=177486
UID:cfp948926-N@wikicfp.com
END:VEVENT
BEGIN:VEVENT
DTSTAMP:20260422T200643Z
DTSTART;VALUE=DATE:20231001
DTEND;VALUE=DATE:20231101
SUMMARY:MobiCom 2023
DESCRIPTION:The 29th Annual International Conference On Mobile Computing 
 And Networking (Winter Deadline)
URL:http://www.wikicfp.com/cfp/servlet/event.showcfp?eventid=166672&copyo
 wnerid=177486
UID:cfp948920-E@wikicfp.com
END:VEVENT
BEGIN:VEVENT
DTSTAMP:20260422T200643Z
DTSTART;VALUE=DATE:20230310
SUMMARY:MobiCom 2023 Abstract Due
DESCRIPTION:The 29th Annual International Conference On Mobile Computing 
 And Networking (Winter Deadline)
URL:http://www.wikicfp.com/cfp/servlet/event.showcfp?eventid=166672&copyo
 wnerid=177486
UID:cfp948920-A@wikicfp.com
END:VEVENT
BEGIN:VEVENT
DTSTAMP:20260422T200643Z
DTSTART;VALUE=DATE:20230317
SUMMARY:MobiCom 2023 Deadline
DESCRIPTION:The 29th Annual International Conference On Mobile Computing 
 And Networking (Winter Deadline)
URL:http://www.wikicfp.com/cfp/servlet/event.showcfp?eventid=166672&copyo
 wnerid=177486
UID:cfp948920-D@wikicfp.com
END:VEVENT
BEGIN:VEVENT
DTSTAMP:20260422T200643Z
DTSTART;VALUE=DATE:20230620
SUMMARY:MobiCom 2023 Notification Due
DESCRIPTION:The 29th Annual International Conference On Mobile Computing 
 And Networking (Winter Deadline)
URL:http://www.wikicfp.com/cfp/servlet/event.showcfp?eventid=166672&copyo
 wnerid=177486
UID:cfp948920-N@wikicfp.com
END:VEVENT
BEGIN:VEVENT
DTSTAMP:20260422T200643Z
DTSTART;VALUE=DATE:20230517
DTEND;VALUE=DATE:20230521
SUMMARY:INFOCOM 2023
DESCRIPTION:INFOCOM 2023 : International Conference on Computer Communica
 tions
URL:http://www.wikicfp.com/cfp/servlet/event.showcfp?eventid=108295&copyo
 wnerid=177486
UID:cfp948925-E@wikicfp.com
END:VEVENT
BEGIN:VEVENT
DTSTAMP:20260422T200643Z
DTSTART;VALUE=DATE:20230725
SUMMARY:INFOCOM 2023 Abstract Due
DESCRIPTION:INFOCOM 2023 : International Conference on Computer Communica
 tions
URL:http://www.wikicfp.com/cfp/servlet/event.showcfp?eventid=108295&copyo
 wnerid=177486
UID:cfp948925-A@wikicfp.com
END:VEVENT
BEGIN:VEVENT
DTSTAMP:20260422T200643Z
DTSTART;VALUE=DATE:20230801
SUMMARY:INFOCOM 2023 Deadline
DESCRIPTION:INFOCOM 2023 : International Conference on Computer Communica
 tions
URL:http://www.wikicfp.com/cfp/servlet/event.showcfp?eventid=108295&copyo
 wnerid=177486
UID:cfp948925-D@wikicfp.com
END:VEVENT
BEGIN:VEVENT
DTSTAMP:20260422T200643Z
DTSTART;VALUE=DATE:20240622
DTEND;VALUE=DATE:20240624
SUMMARY:DaMi 2024
DESCRIPTION:10th International Conference on Data Mining
URL:http://www.wikicfp.com/cfp/servlet/event.showcfp?eventid=158031&copyo
 wnerid=177486
UID:cfp948923-E@wikicfp.com
END:VEVENT
BEGIN:VEVENT
DTSTAMP:20260422T200643Z
DTSTART;VALUE=DATE:20240608
SUMMARY:DaMi 2024 Deadline
DESCRIPTION:10th International Conference on Data Mining
URL:http://www.wikicfp.com/cfp/servlet/event.showcfp?eventid=158031&copyo
 wnerid=177486
UID:cfp948923-D@wikicfp.com
END:VEVENT
BEGIN:VEVENT
DTSTAMP:20260422T200643Z
DTSTART;VALUE=DATE:20240619
SUMMARY:DaMi 2024 Notification Due
DESCRIPTION:10th International Conference on Data Mining
URL:http://www.wikicfp.com/cfp/servlet/event.showcfp?eventid=158031&copyo
 wnerid=177486
UID:cfp948923-N@wikicfp.com
END:VEVENT
BEGIN:VEVENT
DTSTAMP:20260422T200643Z
DTSTART;VALUE=DATE:20240620
SUMMARY:DaMi 2024 Final Version Due
DESCRIPTION:10th International Conference on Data Mining
URL:http://www.wikicfp.com/cfp/servlet/event.showcfp?eventid=158031&copyo
 wnerid=177486
UID:cfp948923-N@wikicfp.com
END:VEVENT
END:VCALENDAR
