BEGIN:VCALENDAR
PRODID:-//WikiCFP//Zhang1cn 1.0//EN
VERSION:2.0
CALSCALE:GREGORIAN
BEGIN:VEVENT
DTSTAMP:20260422T205212Z
DTSTART;VALUE=DATE:20221210
DTEND;VALUE=DATE:20221215
SUMMARY:Metaverse 2022
DESCRIPTION:International Conference on Metaverse
URL:http://www.wikicfp.com/cfp/servlet/event.showcfp?eventid=163440&copyo
 wnerid=176759
UID:cfp945401-E@wikicfp.com
END:VEVENT
BEGIN:VEVENT
DTSTAMP:20260422T205212Z
DTSTART;VALUE=DATE:20220626
SUMMARY:Metaverse 2022 Abstract Due
DESCRIPTION:International Conference on Metaverse
URL:http://www.wikicfp.com/cfp/servlet/event.showcfp?eventid=163440&copyo
 wnerid=176759
UID:cfp945401-A@wikicfp.com
END:VEVENT
BEGIN:VEVENT
DTSTAMP:20260422T205212Z
DTSTART;VALUE=DATE:20220815
SUMMARY:Metaverse 2022 Deadline
DESCRIPTION:International Conference on Metaverse
URL:http://www.wikicfp.com/cfp/servlet/event.showcfp?eventid=163440&copyo
 wnerid=176759
UID:cfp945401-D@wikicfp.com
END:VEVENT
BEGIN:VEVENT
DTSTAMP:20260422T205212Z
DTSTART;VALUE=DATE:20220913
SUMMARY:Metaverse 2022 Notification Due
DESCRIPTION:International Conference on Metaverse
URL:http://www.wikicfp.com/cfp/servlet/event.showcfp?eventid=163440&copyo
 wnerid=176759
UID:cfp945401-N@wikicfp.com
END:VEVENT
BEGIN:VEVENT
DTSTAMP:20260422T205212Z
DTSTART;VALUE=DATE:20220920
SUMMARY:Metaverse 2022 Final Version Due
DESCRIPTION:International Conference on Metaverse
URL:http://www.wikicfp.com/cfp/servlet/event.showcfp?eventid=163440&copyo
 wnerid=176759
UID:cfp945401-N@wikicfp.com
END:VEVENT
END:VCALENDAR
