BEGIN:VCALENDAR
PRODID:-//WikiCFP//NinaGerber 1.0//EN
VERSION:2.0
CALSCALE:GREGORIAN
BEGIN:VEVENT
DTSTAMP:20260420T135024Z
DTSTART;VALUE=DATE:20230215
DTEND;VALUE=DATE:20230216
SUMMARY:TecPsy 2023
DESCRIPTION:International Symposium on Technikpsychologie
URL:http://www.wikicfp.com/cfp/servlet/event.showcfp?eventid=165787&copyo
 wnerid=176042
UID:cfp940935-E@wikicfp.com
END:VEVENT
BEGIN:VEVENT
DTSTAMP:20260420T135024Z
DTSTART;VALUE=DATE:20220902
SUMMARY:TecPsy 2023 Deadline
DESCRIPTION:International Symposium on Technikpsychologie
URL:http://www.wikicfp.com/cfp/servlet/event.showcfp?eventid=165787&copyo
 wnerid=176042
UID:cfp940935-D@wikicfp.com
END:VEVENT
BEGIN:VEVENT
DTSTAMP:20260420T135024Z
DTSTART;VALUE=DATE:20221102
SUMMARY:TecPsy 2023 Notification Due
DESCRIPTION:International Symposium on Technikpsychologie
URL:http://www.wikicfp.com/cfp/servlet/event.showcfp?eventid=165787&copyo
 wnerid=176042
UID:cfp940935-N@wikicfp.com
END:VEVENT
BEGIN:VEVENT
DTSTAMP:20260420T135024Z
DTSTART;VALUE=DATE:20221130
SUMMARY:TecPsy 2023 Final Version Due
DESCRIPTION:International Symposium on Technikpsychologie
URL:http://www.wikicfp.com/cfp/servlet/event.showcfp?eventid=165787&copyo
 wnerid=176042
UID:cfp940935-N@wikicfp.com
END:VEVENT
END:VCALENDAR
