BEGIN:VCALENDAR
PRODID:-//WikiCFP//sungc 1.0//EN
VERSION:2.0
CALSCALE:GREGORIAN
BEGIN:VEVENT
DTSTAMP:20260423T162249Z
DTSTART;VALUE=DATE:20221207
DTEND;VALUE=DATE:20221212
SUMMARY:EMNLP 2022
DESCRIPTION:Conference on Empirical Methods in Natural Language Processin
 g
URL:http://www.wikicfp.com/cfp/servlet/event.showcfp?eventid=158775&copyo
 wnerid=175575
UID:cfp938024-E@wikicfp.com
END:VEVENT
BEGIN:VEVENT
DTSTAMP:20260423T162249Z
DTSTART;VALUE=DATE:20220617
SUMMARY:EMNLP 2022 Abstract Due
DESCRIPTION:Conference on Empirical Methods in Natural Language Processin
 g
URL:http://www.wikicfp.com/cfp/servlet/event.showcfp?eventid=158775&copyo
 wnerid=175575
UID:cfp938024-A@wikicfp.com
END:VEVENT
BEGIN:VEVENT
DTSTAMP:20260423T162249Z
DTSTART;VALUE=DATE:20220624
SUMMARY:EMNLP 2022 Deadline
DESCRIPTION:Conference on Empirical Methods in Natural Language Processin
 g
URL:http://www.wikicfp.com/cfp/servlet/event.showcfp?eventid=158775&copyo
 wnerid=175575
UID:cfp938024-D@wikicfp.com
END:VEVENT
BEGIN:VEVENT
DTSTAMP:20260423T162249Z
DTSTART;VALUE=DATE:20221006
SUMMARY:EMNLP 2022 Notification Due
DESCRIPTION:Conference on Empirical Methods in Natural Language Processin
 g
URL:http://www.wikicfp.com/cfp/servlet/event.showcfp?eventid=158775&copyo
 wnerid=175575
UID:cfp938024-N@wikicfp.com
END:VEVENT
BEGIN:VEVENT
DTSTAMP:20260423T162249Z
DTSTART;VALUE=DATE:20221021
SUMMARY:EMNLP 2022 Final Version Due
DESCRIPTION:Conference on Empirical Methods in Natural Language Processin
 g
URL:http://www.wikicfp.com/cfp/servlet/event.showcfp?eventid=158775&copyo
 wnerid=175575
UID:cfp938024-N@wikicfp.com
END:VEVENT
BEGIN:VEVENT
DTSTAMP:20260423T162249Z
DTSTART;VALUE=DATE:20221121
DTEND;VALUE=DATE:20221124
SUMMARY:AACL-IJCNLP 2022
DESCRIPTION:The 2nd Conference of the Asia-Pacific Chapter of the Associa
 tion for Computational Linguistics and the 12th International Joint Conf
 erence on Natural Language Processing
URL:http://www.wikicfp.com/cfp/servlet/event.showcfp?eventid=158597&copyo
 wnerid=175575
UID:cfp938023-E@wikicfp.com
END:VEVENT
BEGIN:VEVENT
DTSTAMP:20260423T162249Z
DTSTART;VALUE=DATE:20220715
SUMMARY:AACL-IJCNLP 2022 Deadline
DESCRIPTION:The 2nd Conference of the Asia-Pacific Chapter of the Associa
 tion for Computational Linguistics and the 12th International Joint Conf
 erence on Natural Language Processing
URL:http://www.wikicfp.com/cfp/servlet/event.showcfp?eventid=158597&copyo
 wnerid=175575
UID:cfp938023-D@wikicfp.com
END:VEVENT
BEGIN:VEVENT
DTSTAMP:20260423T162249Z
DTSTART;VALUE=DATE:20220920
SUMMARY:AACL-IJCNLP 2022 Notification Due
DESCRIPTION:The 2nd Conference of the Asia-Pacific Chapter of the Associa
 tion for Computational Linguistics and the 12th International Joint Conf
 erence on Natural Language Processing
URL:http://www.wikicfp.com/cfp/servlet/event.showcfp?eventid=158597&copyo
 wnerid=175575
UID:cfp938023-N@wikicfp.com
END:VEVENT
BEGIN:VEVENT
DTSTAMP:20260423T162249Z
DTSTART;VALUE=DATE:20221010
SUMMARY:AACL-IJCNLP 2022 Final Version Due
DESCRIPTION:The 2nd Conference of the Asia-Pacific Chapter of the Associa
 tion for Computational Linguistics and the 12th International Joint Conf
 erence on Natural Language Processing
URL:http://www.wikicfp.com/cfp/servlet/event.showcfp?eventid=158597&copyo
 wnerid=175575
UID:cfp938023-N@wikicfp.com
END:VEVENT
BEGIN:VEVENT
DTSTAMP:20260423T162249Z
DTSTART;VALUE=DATE:20221217
DTEND;VALUE=DATE:20221221
SUMMARY:IEEE Big Data - MMBD 2022
DESCRIPTION:IEEE Big Data 2022 Workshop on Multimodal Big Data
URL:http://www.wikicfp.com/cfp/servlet/event.showcfp?eventid=137856&copyo
 wnerid=175575
UID:cfp938025-E@wikicfp.com
END:VEVENT
BEGIN:VEVENT
DTSTAMP:20260423T162249Z
DTSTART;VALUE=DATE:20220926
SUMMARY:IEEE Big Data - MMBD 2022 Deadline
DESCRIPTION:IEEE Big Data 2022 Workshop on Multimodal Big Data
URL:http://www.wikicfp.com/cfp/servlet/event.showcfp?eventid=137856&copyo
 wnerid=175575
UID:cfp938025-D@wikicfp.com
END:VEVENT
BEGIN:VEVENT
DTSTAMP:20260423T162249Z
DTSTART;VALUE=DATE:20221101
SUMMARY:IEEE Big Data - MMBD 2022 Notification Due
DESCRIPTION:IEEE Big Data 2022 Workshop on Multimodal Big Data
URL:http://www.wikicfp.com/cfp/servlet/event.showcfp?eventid=137856&copyo
 wnerid=175575
UID:cfp938025-N@wikicfp.com
END:VEVENT
BEGIN:VEVENT
DTSTAMP:20260423T162249Z
DTSTART;VALUE=DATE:20221120
SUMMARY:IEEE Big Data - MMBD 2022 Final Version Due
DESCRIPTION:IEEE Big Data 2022 Workshop on Multimodal Big Data
URL:http://www.wikicfp.com/cfp/servlet/event.showcfp?eventid=137856&copyo
 wnerid=175575
UID:cfp938025-N@wikicfp.com
END:VEVENT
END:VCALENDAR
