BEGIN:VCALENDAR
PRODID:-//WikiCFP//duongtd 1.0//EN
VERSION:2.0
CALSCALE:GREGORIAN
BEGIN:VEVENT
DTSTAMP:20260422T061854Z
DTSTART;VALUE=DATE:20221024
DTEND;VALUE=DATE:20221025
SUMMARY:FAVPQC 2022
DESCRIPTION:International Workshop on Formal Analysis and Verification of
  Post-Quantum Cryptographic Protocols
URL:http://www.wikicfp.com/cfp/servlet/event.showcfp?eventid=163195&copyo
 wnerid=175211
UID:cfp935815-E@wikicfp.com
END:VEVENT
BEGIN:VEVENT
DTSTAMP:20260422T061854Z
DTSTART;VALUE=DATE:20220915
SUMMARY:FAVPQC 2022 Deadline
DESCRIPTION:International Workshop on Formal Analysis and Verification of
  Post-Quantum Cryptographic Protocols
URL:http://www.wikicfp.com/cfp/servlet/event.showcfp?eventid=163195&copyo
 wnerid=175211
UID:cfp935815-D@wikicfp.com
END:VEVENT
BEGIN:VEVENT
DTSTAMP:20260422T061854Z
DTSTART;VALUE=DATE:20220930
SUMMARY:FAVPQC 2022 Notification Due
DESCRIPTION:International Workshop on Formal Analysis and Verification of
  Post-Quantum Cryptographic Protocols
URL:http://www.wikicfp.com/cfp/servlet/event.showcfp?eventid=163195&copyo
 wnerid=175211
UID:cfp935815-N@wikicfp.com
END:VEVENT
BEGIN:VEVENT
DTSTAMP:20260422T061854Z
DTSTART;VALUE=DATE:20221014
SUMMARY:FAVPQC 2022 Final Version Due
DESCRIPTION:International Workshop on Formal Analysis and Verification of
  Post-Quantum Cryptographic Protocols
URL:http://www.wikicfp.com/cfp/servlet/event.showcfp?eventid=163195&copyo
 wnerid=175211
UID:cfp935815-N@wikicfp.com
END:VEVENT
END:VCALENDAR
