BEGIN:VCALENDAR
PRODID:-//WikiCFP//dativa19 1.0//EN
VERSION:2.0
CALSCALE:GREGORIAN
BEGIN:VEVENT
DTSTAMP:20260422T125530Z
DTSTART;VALUE=DATE:20221109
DTEND;VALUE=DATE:20221111
SUMMARY:CEIAAIT 2022
DESCRIPTION:5to. Congreso Estudiantil de Inteligencia Artificial Aplicada
  a la ingenierÃ­a y  TecnologÃ­a 
URL:http://www.wikicfp.com/cfp/servlet/event.showcfp?eventid=162854&copyo
 wnerid=175107
UID:cfp935040-E@wikicfp.com
END:VEVENT
BEGIN:VEVENT
DTSTAMP:20260422T125530Z
DTSTART;VALUE=DATE:20221010
SUMMARY:CEIAAIT 2022 Deadline
DESCRIPTION:5to. Congreso Estudiantil de Inteligencia Artificial Aplicada
  a la ingenierÃ­a y  TecnologÃ­a 
URL:http://www.wikicfp.com/cfp/servlet/event.showcfp?eventid=162854&copyo
 wnerid=175107
UID:cfp935040-D@wikicfp.com
END:VEVENT
BEGIN:VEVENT
DTSTAMP:20260422T125530Z
DTSTART;VALUE=DATE:20221024
SUMMARY:CEIAAIT 2022 Notification Due
DESCRIPTION:5to. Congreso Estudiantil de Inteligencia Artificial Aplicada
  a la ingenierÃ­a y  TecnologÃ­a 
URL:http://www.wikicfp.com/cfp/servlet/event.showcfp?eventid=162854&copyo
 wnerid=175107
UID:cfp935040-N@wikicfp.com
END:VEVENT
BEGIN:VEVENT
DTSTAMP:20260422T125530Z
DTSTART;VALUE=DATE:20221105
SUMMARY:CEIAAIT 2022 Final Version Due
DESCRIPTION:5to. Congreso Estudiantil de Inteligencia Artificial Aplicada
  a la ingenierÃ­a y  TecnologÃ­a 
URL:http://www.wikicfp.com/cfp/servlet/event.showcfp?eventid=162854&copyo
 wnerid=175107
UID:cfp935040-N@wikicfp.com
END:VEVENT
BEGIN:VEVENT
DTSTAMP:20260422T125530Z
DTSTART;VALUE=DATE:20221109
DTEND;VALUE=DATE:20221112
SUMMARY:CIMCIA 2022
DESCRIPTION:Congreso Internacional de MecatrÃ³nica\, Control e Inteligenc
 ia Artificial
URL:http://www.wikicfp.com/cfp/servlet/event.showcfp?eventid=164902&copyo
 wnerid=175107
UID:cfp939214-E@wikicfp.com
END:VEVENT
BEGIN:VEVENT
DTSTAMP:20260422T125530Z
DTSTART;VALUE=DATE:20221010
SUMMARY:CIMCIA 2022 Deadline
DESCRIPTION:Congreso Internacional de MecatrÃ³nica\, Control e Inteligenc
 ia Artificial
URL:http://www.wikicfp.com/cfp/servlet/event.showcfp?eventid=164902&copyo
 wnerid=175107
UID:cfp939214-D@wikicfp.com
END:VEVENT
BEGIN:VEVENT
DTSTAMP:20260422T125530Z
DTSTART;VALUE=DATE:20221024
SUMMARY:CIMCIA 2022 Notification Due
DESCRIPTION:Congreso Internacional de MecatrÃ³nica\, Control e Inteligenc
 ia Artificial
URL:http://www.wikicfp.com/cfp/servlet/event.showcfp?eventid=164902&copyo
 wnerid=175107
UID:cfp939214-N@wikicfp.com
END:VEVENT
BEGIN:VEVENT
DTSTAMP:20260422T125530Z
DTSTART;VALUE=DATE:20221105
SUMMARY:CIMCIA 2022 Final Version Due
DESCRIPTION:Congreso Internacional de MecatrÃ³nica\, Control e Inteligenc
 ia Artificial
URL:http://www.wikicfp.com/cfp/servlet/event.showcfp?eventid=164902&copyo
 wnerid=175107
UID:cfp939214-N@wikicfp.com
END:VEVENT
END:VCALENDAR
