BEGIN:VCALENDAR
PRODID:-//WikiCFP//zhuxu 1.0//EN
VERSION:2.0
CALSCALE:GREGORIAN
BEGIN:VEVENT
DTSTAMP:20260423T024827Z
DTSTART;VALUE=DATE:20220527
DTEND;VALUE=DATE:20220530
SUMMARY:ACM--ICBBT--Ei Compendex and Scopus 2022
DESCRIPTION:ACM--2022 14th International Conference on Bioinformatics and
  Biomedical Technology (ICBBT 2022)--Ei Compendex\, Scopus
URL:http://www.wikicfp.com/cfp/servlet/event.showcfp?eventid=149478&copyo
 wnerid=174054
UID:cfp926344-E@wikicfp.com
END:VEVENT
BEGIN:VEVENT
DTSTAMP:20260423T024827Z
DTSTART;VALUE=DATE:20220415
SUMMARY:ACM--ICBBT--Ei Compendex and Scopus 2022 Deadline
DESCRIPTION:ACM--2022 14th International Conference on Bioinformatics and
  Biomedical Technology (ICBBT 2022)--Ei Compendex\, Scopus
URL:http://www.wikicfp.com/cfp/servlet/event.showcfp?eventid=149478&copyo
 wnerid=174054
UID:cfp926344-D@wikicfp.com
END:VEVENT
BEGIN:VEVENT
DTSTAMP:20260423T024827Z
DTSTART;VALUE=DATE:20220918
DTEND;VALUE=DATE:20220921
SUMMARY:ICBEB 2022
DESCRIPTION:2022 6th International Conference on Biomedical Engineering a
 nd Bioinformatics (ICBEB 2022)
URL:http://www.wikicfp.com/cfp/servlet/event.showcfp?eventid=155412&copyo
 wnerid=174054
UID:cfp926346-E@wikicfp.com
END:VEVENT
BEGIN:VEVENT
DTSTAMP:20260423T024827Z
DTSTART;VALUE=DATE:20220725
SUMMARY:ICBEB 2022 Deadline
DESCRIPTION:2022 6th International Conference on Biomedical Engineering a
 nd Bioinformatics (ICBEB 2022)
URL:http://www.wikicfp.com/cfp/servlet/event.showcfp?eventid=155412&copyo
 wnerid=174054
UID:cfp926346-D@wikicfp.com
END:VEVENT
BEGIN:VEVENT
DTSTAMP:20260423T024827Z
DTSTART;VALUE=DATE:20221028
DTEND;VALUE=DATE:20221031
SUMMARY:ICBSP--Ei 2022
DESCRIPTION:2022 7th International Conference on Biomedical Imaging\, Sig
 nal Processing (ICBSP 2022)
URL:http://www.wikicfp.com/cfp/servlet/event.showcfp?eventid=155725&copyo
 wnerid=174054
UID:cfp926347-E@wikicfp.com
END:VEVENT
BEGIN:VEVENT
DTSTAMP:20260423T024827Z
DTSTART;VALUE=DATE:20220905
SUMMARY:ICBSP--Ei 2022 Deadline
DESCRIPTION:2022 7th International Conference on Biomedical Imaging\, Sig
 nal Processing (ICBSP 2022)
URL:http://www.wikicfp.com/cfp/servlet/event.showcfp?eventid=155725&copyo
 wnerid=174054
UID:cfp926347-D@wikicfp.com
END:VEVENT
END:VCALENDAR
