BEGIN:VCALENDAR
PRODID:-//WikiCFP//LiveComLAB 1.0//EN
VERSION:2.0
CALSCALE:GREGORIAN
BEGIN:VEVENT
DTSTAMP:20260424T214509Z
DTSTART;VALUE=DATE:20220721
DTEND;VALUE=DATE:20220722
SUMMARY:LiveCom-LAB 2022 2022
DESCRIPTION:LiveCom-LAB 2022 - Game Changing: Live-Kommunikation in der D
 igitalen RealitÃ¤t
URL:http://www.wikicfp.com/cfp/servlet/event.showcfp?eventid=156909&copyo
 wnerid=173932
UID:cfp925774-E@wikicfp.com
END:VEVENT
BEGIN:VEVENT
DTSTAMP:20260424T214509Z
DTSTART;VALUE=DATE:20220430
SUMMARY:LiveCom-LAB 2022 2022 Deadline
DESCRIPTION:LiveCom-LAB 2022 - Game Changing: Live-Kommunikation in der D
 igitalen RealitÃ¤t
URL:http://www.wikicfp.com/cfp/servlet/event.showcfp?eventid=156909&copyo
 wnerid=173932
UID:cfp925774-D@wikicfp.com
END:VEVENT
BEGIN:VEVENT
DTSTAMP:20260424T214509Z
DTSTART;VALUE=DATE:20220515
SUMMARY:LiveCom-LAB 2022 2022 Notification Due
DESCRIPTION:LiveCom-LAB 2022 - Game Changing: Live-Kommunikation in der D
 igitalen RealitÃ¤t
URL:http://www.wikicfp.com/cfp/servlet/event.showcfp?eventid=156909&copyo
 wnerid=173932
UID:cfp925774-N@wikicfp.com
END:VEVENT
BEGIN:VEVENT
DTSTAMP:20260424T214509Z
DTSTART;VALUE=DATE:20220714
SUMMARY:LiveCom-LAB 2022 2022 Final Version Due
DESCRIPTION:LiveCom-LAB 2022 - Game Changing: Live-Kommunikation in der D
 igitalen RealitÃ¤t
URL:http://www.wikicfp.com/cfp/servlet/event.showcfp?eventid=156909&copyo
 wnerid=173932
UID:cfp925774-N@wikicfp.com
END:VEVENT
END:VCALENDAR
