BEGIN:VCALENDAR
PRODID:-//WikiCFP//dtrieschnigg 1.0//EN
VERSION:2.0
CALSCALE:GREGORIAN
BEGIN:VEVENT
DTSTAMP:20260422T074017Z
DTSTART;VALUE=DATE:20110209
DTEND;VALUE=DATE:20110213
SUMMARY:WSDM 2011
DESCRIPTION:Fourth International Conference on Web Search and Data Mining
 
URL:http://www.wikicfp.com/cfp/servlet/event.showcfp?eventid=10010&copyow
 nerid=17366
UID:cfp122345-E@wikicfp.com
END:VEVENT
BEGIN:VEVENT
DTSTAMP:20260422T074017Z
DTSTART;VALUE=DATE:20100801
SUMMARY:WSDM 2011 Deadline
DESCRIPTION:Fourth International Conference on Web Search and Data Mining
 
URL:http://www.wikicfp.com/cfp/servlet/event.showcfp?eventid=10010&copyow
 nerid=17366
UID:cfp122345-D@wikicfp.com
END:VEVENT
BEGIN:VEVENT
DTSTAMP:20260422T074017Z
DTSTART;VALUE=DATE:20101015
SUMMARY:WSDM 2011 Notification Due
DESCRIPTION:Fourth International Conference on Web Search and Data Mining
 
URL:http://www.wikicfp.com/cfp/servlet/event.showcfp?eventid=10010&copyow
 nerid=17366
UID:cfp122345-N@wikicfp.com
END:VEVENT
BEGIN:VEVENT
DTSTAMP:20260422T074017Z
DTSTART;VALUE=DATE:20101030
SUMMARY:WSDM 2011 Final Version Due
DESCRIPTION:Fourth International Conference on Web Search and Data Mining
 
URL:http://www.wikicfp.com/cfp/servlet/event.showcfp?eventid=10010&copyow
 nerid=17366
UID:cfp122345-N@wikicfp.com
END:VEVENT
BEGIN:VEVENT
DTSTAMP:20260422T074017Z
DTSTART;VALUE=DATE:20110204
DTEND;VALUE=DATE:20110205
SUMMARY:DIR 2011
DESCRIPTION:11th Dutch-Belgian Information Retrieval workshop
URL:http://www.wikicfp.com/cfp/servlet/event.showcfp?eventid=12144&copyow
 nerid=17366
UID:cfp118935-E@wikicfp.com
END:VEVENT
BEGIN:VEVENT
DTSTAMP:20260422T074017Z
DTSTART;VALUE=DATE:20101119
SUMMARY:DIR 2011 Deadline
DESCRIPTION:11th Dutch-Belgian Information Retrieval workshop
URL:http://www.wikicfp.com/cfp/servlet/event.showcfp?eventid=12144&copyow
 nerid=17366
UID:cfp118935-D@wikicfp.com
END:VEVENT
BEGIN:VEVENT
DTSTAMP:20260422T074017Z
DTSTART;VALUE=DATE:20101220
SUMMARY:DIR 2011 Notification Due
DESCRIPTION:11th Dutch-Belgian Information Retrieval workshop
URL:http://www.wikicfp.com/cfp/servlet/event.showcfp?eventid=12144&copyow
 nerid=17366
UID:cfp118935-N@wikicfp.com
END:VEVENT
BEGIN:VEVENT
DTSTAMP:20260422T074017Z
DTSTART;VALUE=DATE:20110724
DTEND;VALUE=DATE:20110729
SUMMARY:SIGIR 2011
DESCRIPTION:The 34th International ACM SIGIR Conference on Research and D
 evelopment in Information Retrieval
URL:http://www.wikicfp.com/cfp/servlet/event.showcfp?eventid=11874&copyow
 nerid=17366
UID:cfp118861-E@wikicfp.com
END:VEVENT
BEGIN:VEVENT
DTSTAMP:20260422T074017Z
DTSTART;VALUE=DATE:20110117
SUMMARY:SIGIR 2011 Abstract Due
DESCRIPTION:The 34th International ACM SIGIR Conference on Research and D
 evelopment in Information Retrieval
URL:http://www.wikicfp.com/cfp/servlet/event.showcfp?eventid=11874&copyow
 nerid=17366
UID:cfp118861-A@wikicfp.com
END:VEVENT
BEGIN:VEVENT
DTSTAMP:20260422T074017Z
DTSTART;VALUE=DATE:20110124
SUMMARY:SIGIR 2011 Deadline
DESCRIPTION:The 34th International ACM SIGIR Conference on Research and D
 evelopment in Information Retrieval
URL:http://www.wikicfp.com/cfp/servlet/event.showcfp?eventid=11874&copyow
 nerid=17366
UID:cfp118861-D@wikicfp.com
END:VEVENT
BEGIN:VEVENT
DTSTAMP:20260422T074017Z
DTSTART;VALUE=DATE:20110408
SUMMARY:SIGIR 2011 Notification Due
DESCRIPTION:The 34th International ACM SIGIR Conference on Research and D
 evelopment in Information Retrieval
URL:http://www.wikicfp.com/cfp/servlet/event.showcfp?eventid=11874&copyow
 nerid=17366
UID:cfp118861-N@wikicfp.com
END:VEVENT
BEGIN:VEVENT
DTSTAMP:20260422T074017Z
DTSTART;VALUE=DATE:20111024
DTEND;VALUE=DATE:20111029
SUMMARY:CIKM 2011
DESCRIPTION:20th ACM Conference on Information and Knowledge Management 
URL:http://www.wikicfp.com/cfp/servlet/event.showcfp?eventid=10309&copyow
 nerid=17366
UID:cfp118868-E@wikicfp.com
END:VEVENT
BEGIN:VEVENT
DTSTAMP:20260422T074017Z
DTSTART;VALUE=DATE:20110517
SUMMARY:CIKM 2011 Abstract Due
DESCRIPTION:20th ACM Conference on Information and Knowledge Management 
URL:http://www.wikicfp.com/cfp/servlet/event.showcfp?eventid=10309&copyow
 nerid=17366
UID:cfp118868-A@wikicfp.com
END:VEVENT
BEGIN:VEVENT
DTSTAMP:20260422T074017Z
DTSTART;VALUE=DATE:20110524
SUMMARY:CIKM 2011 Deadline
DESCRIPTION:20th ACM Conference on Information and Knowledge Management 
URL:http://www.wikicfp.com/cfp/servlet/event.showcfp?eventid=10309&copyow
 nerid=17366
UID:cfp118868-D@wikicfp.com
END:VEVENT
BEGIN:VEVENT
DTSTAMP:20260422T074017Z
DTSTART;VALUE=DATE:20110719
SUMMARY:CIKM 2011 Notification Due
DESCRIPTION:20th ACM Conference on Information and Knowledge Management 
URL:http://www.wikicfp.com/cfp/servlet/event.showcfp?eventid=10309&copyow
 nerid=17366
UID:cfp118868-N@wikicfp.com
END:VEVENT
BEGIN:VEVENT
DTSTAMP:20260422T074017Z
DTSTART;VALUE=DATE:20110816
SUMMARY:CIKM 2011 Final Version Due
DESCRIPTION:20th ACM Conference on Information and Knowledge Management 
URL:http://www.wikicfp.com/cfp/servlet/event.showcfp?eventid=10309&copyow
 nerid=17366
UID:cfp118868-N@wikicfp.com
END:VEVENT
END:VCALENDAR
