BEGIN:VCALENDAR
PRODID:-//WikiCFP//VinDemTU 1.0//EN
VERSION:2.0
CALSCALE:GREGORIAN
BEGIN:VEVENT
DTSTAMP:20260420T125617Z
DTSTART;VALUE=DATE:20220926
DTEND;VALUE=DATE:20221001
SUMMARY:IC2E 2022
DESCRIPTION:IEEE International Conferences on Cloud Engineering - Call fo
 r workshops
URL:http://www.wikicfp.com/cfp/servlet/event.showcfp?eventid=154691&copyo
 wnerid=173185
UID:cfp920118-E@wikicfp.com
END:VEVENT
BEGIN:VEVENT
DTSTAMP:20260420T125617Z
DTSTART;VALUE=DATE:20220314
SUMMARY:IC2E 2022 Deadline
DESCRIPTION:IEEE International Conferences on Cloud Engineering - Call fo
 r workshops
URL:http://www.wikicfp.com/cfp/servlet/event.showcfp?eventid=154691&copyo
 wnerid=173185
UID:cfp920118-D@wikicfp.com
END:VEVENT
BEGIN:VEVENT
DTSTAMP:20260420T125617Z
DTSTART;VALUE=DATE:20220321
SUMMARY:IC2E 2022 Notification Due
DESCRIPTION:IEEE International Conferences on Cloud Engineering - Call fo
 r workshops
URL:http://www.wikicfp.com/cfp/servlet/event.showcfp?eventid=154691&copyo
 wnerid=173185
UID:cfp920118-N@wikicfp.com
END:VEVENT
BEGIN:VEVENT
DTSTAMP:20260420T125617Z
DTSTART;VALUE=DATE:20220926
DTEND;VALUE=DATE:20221001
SUMMARY:IC2E 2022
DESCRIPTION:IEEE International Conference on Cloud Engineering 2022
URL:http://www.wikicfp.com/cfp/servlet/event.showcfp?eventid=154692&copyo
 wnerid=173185
UID:cfp920123-E@wikicfp.com
END:VEVENT
BEGIN:VEVENT
DTSTAMP:20260420T125617Z
DTSTART;VALUE=DATE:20220325
SUMMARY:IC2E 2022 Abstract Due
DESCRIPTION:IEEE International Conference on Cloud Engineering 2022
URL:http://www.wikicfp.com/cfp/servlet/event.showcfp?eventid=154692&copyo
 wnerid=173185
UID:cfp920123-A@wikicfp.com
END:VEVENT
BEGIN:VEVENT
DTSTAMP:20260420T125617Z
DTSTART;VALUE=DATE:20220401
SUMMARY:IC2E 2022 Deadline
DESCRIPTION:IEEE International Conference on Cloud Engineering 2022
URL:http://www.wikicfp.com/cfp/servlet/event.showcfp?eventid=154692&copyo
 wnerid=173185
UID:cfp920123-D@wikicfp.com
END:VEVENT
BEGIN:VEVENT
DTSTAMP:20260420T125617Z
DTSTART;VALUE=DATE:20220615
SUMMARY:IC2E 2022 Notification Due
DESCRIPTION:IEEE International Conference on Cloud Engineering 2022
URL:http://www.wikicfp.com/cfp/servlet/event.showcfp?eventid=154692&copyo
 wnerid=173185
UID:cfp920123-N@wikicfp.com
END:VEVENT
BEGIN:VEVENT
DTSTAMP:20260420T125617Z
DTSTART;VALUE=DATE:20220801
SUMMARY:IC2E 2022 Final Version Due
DESCRIPTION:IEEE International Conference on Cloud Engineering 2022
URL:http://www.wikicfp.com/cfp/servlet/event.showcfp?eventid=154692&copyo
 wnerid=173185
UID:cfp920123-N@wikicfp.com
END:VEVENT
BEGIN:VEVENT
DTSTAMP:20260420T125617Z
DTSTART;VALUE=DATE:20220926
DTEND;VALUE=DATE:20221001
SUMMARY:IC2E 2022
DESCRIPTION:IEEE International Conference on Cloud Engineering - Call for
  Tutorials
URL:http://www.wikicfp.com/cfp/servlet/event.showcfp?eventid=154693&copyo
 wnerid=173185
UID:cfp920124-E@wikicfp.com
END:VEVENT
BEGIN:VEVENT
DTSTAMP:20260420T125617Z
DTSTART;VALUE=DATE:20220505
SUMMARY:IC2E 2022 Deadline
DESCRIPTION:IEEE International Conference on Cloud Engineering - Call for
  Tutorials
URL:http://www.wikicfp.com/cfp/servlet/event.showcfp?eventid=154693&copyo
 wnerid=173185
UID:cfp920124-D@wikicfp.com
END:VEVENT
BEGIN:VEVENT
DTSTAMP:20260420T125617Z
DTSTART;VALUE=DATE:20220519
SUMMARY:IC2E 2022 Notification Due
DESCRIPTION:IEEE International Conference on Cloud Engineering - Call for
  Tutorials
URL:http://www.wikicfp.com/cfp/servlet/event.showcfp?eventid=154693&copyo
 wnerid=173185
UID:cfp920124-N@wikicfp.com
END:VEVENT
END:VCALENDAR
