BEGIN:VCALENDAR
PRODID:-//WikiCFP//educlj 1.0//EN
VERSION:2.0
CALSCALE:GREGORIAN
BEGIN:VEVENT
DTSTAMP:20260419T194147Z
DTSTART;VALUE=DATE:20210906
DTEND;VALUE=DATE:20210909
SUMMARY:RANLP 2021
DESCRIPTION:RECENT ADVANCES IN NATURAL LANGUAGE PROCESSING
URL:http://www.wikicfp.com/cfp/servlet/event.showcfp?eventid=125527&copyo
 wnerid=172801
UID:cfp923894-E@wikicfp.com
END:VEVENT
BEGIN:VEVENT
DTSTAMP:20260419T194147Z
DTSTART;VALUE=DATE:20210515
SUMMARY:RANLP 2021 Deadline
DESCRIPTION:RECENT ADVANCES IN NATURAL LANGUAGE PROCESSING
URL:http://www.wikicfp.com/cfp/servlet/event.showcfp?eventid=125527&copyo
 wnerid=172801
UID:cfp923894-D@wikicfp.com
END:VEVENT
BEGIN:VEVENT
DTSTAMP:20260419T194147Z
DTSTART;VALUE=DATE:20210626
SUMMARY:RANLP 2021 Notification Due
DESCRIPTION:RECENT ADVANCES IN NATURAL LANGUAGE PROCESSING
URL:http://www.wikicfp.com/cfp/servlet/event.showcfp?eventid=125527&copyo
 wnerid=172801
UID:cfp923894-N@wikicfp.com
END:VEVENT
BEGIN:VEVENT
DTSTAMP:20260419T194147Z
DTSTART;VALUE=DATE:20210731
SUMMARY:RANLP 2021 Final Version Due
DESCRIPTION:RECENT ADVANCES IN NATURAL LANGUAGE PROCESSING
URL:http://www.wikicfp.com/cfp/servlet/event.showcfp?eventid=125527&copyo
 wnerid=172801
UID:cfp923894-N@wikicfp.com
END:VEVENT
BEGIN:VEVENT
DTSTAMP:20260419T194147Z
DTSTART;VALUE=DATE:20220615
DTEND;VALUE=DATE:20220618
SUMMARY:NLDB 2022
DESCRIPTION:27th International Conference on Natural Language & Informati
 on Systems
URL:http://www.wikicfp.com/cfp/servlet/event.showcfp?eventid=152113&copyo
 wnerid=172801
UID:cfp923880-E@wikicfp.com
END:VEVENT
BEGIN:VEVENT
DTSTAMP:20260419T194147Z
DTSTART;VALUE=DATE:20220228
SUMMARY:NLDB 2022 Deadline
DESCRIPTION:27th International Conference on Natural Language & Informati
 on Systems
URL:http://www.wikicfp.com/cfp/servlet/event.showcfp?eventid=152113&copyo
 wnerid=172801
UID:cfp923880-D@wikicfp.com
END:VEVENT
BEGIN:VEVENT
DTSTAMP:20260419T194147Z
DTSTART;VALUE=DATE:20220401
SUMMARY:NLDB 2022 Notification Due
DESCRIPTION:27th International Conference on Natural Language & Informati
 on Systems
URL:http://www.wikicfp.com/cfp/servlet/event.showcfp?eventid=152113&copyo
 wnerid=172801
UID:cfp923880-N@wikicfp.com
END:VEVENT
BEGIN:VEVENT
DTSTAMP:20260419T194147Z
DTSTART;VALUE=DATE:20220412
SUMMARY:NLDB 2022 Final Version Due
DESCRIPTION:27th International Conference on Natural Language & Informati
 on Systems
URL:http://www.wikicfp.com/cfp/servlet/event.showcfp?eventid=152113&copyo
 wnerid=172801
UID:cfp923880-N@wikicfp.com
END:VEVENT
BEGIN:VEVENT
DTSTAMP:20260419T194147Z
DTSTART;VALUE=DATE:20220509
DTEND;VALUE=DATE:20220511
SUMMARY:EMAS 2022
DESCRIPTION:10th International Workshop on Engineering Multi-Agent System
 s
URL:http://www.wikicfp.com/cfp/servlet/event.showcfp?eventid=155644&copyo
 wnerid=172801
UID:cfp924704-E@wikicfp.com
END:VEVENT
BEGIN:VEVENT
DTSTAMP:20260419T194147Z
DTSTART;VALUE=DATE:20220304
SUMMARY:EMAS 2022 Deadline
DESCRIPTION:10th International Workshop on Engineering Multi-Agent System
 s
URL:http://www.wikicfp.com/cfp/servlet/event.showcfp?eventid=155644&copyo
 wnerid=172801
UID:cfp924704-D@wikicfp.com
END:VEVENT
BEGIN:VEVENT
DTSTAMP:20260419T194147Z
DTSTART;VALUE=DATE:20220408
SUMMARY:EMAS 2022 Notification Due
DESCRIPTION:10th International Workshop on Engineering Multi-Agent System
 s
URL:http://www.wikicfp.com/cfp/servlet/event.showcfp?eventid=155644&copyo
 wnerid=172801
UID:cfp924704-N@wikicfp.com
END:VEVENT
BEGIN:VEVENT
DTSTAMP:20260419T194147Z
DTSTART;VALUE=DATE:20220422
SUMMARY:EMAS 2022 Final Version Due
DESCRIPTION:10th International Workshop on Engineering Multi-Agent System
 s
URL:http://www.wikicfp.com/cfp/servlet/event.showcfp?eventid=155644&copyo
 wnerid=172801
UID:cfp924704-N@wikicfp.com
END:VEVENT
BEGIN:VEVENT
DTSTAMP:20260419T194147Z
DTSTART;VALUE=DATE:20220830
DTEND;VALUE=DATE:20220903
SUMMARY:MDAI 2022
DESCRIPTION:19th Modeling Decisions for Artificial Intelligence
URL:http://www.wikicfp.com/cfp/servlet/event.showcfp?eventid=153302&copyo
 wnerid=172801
UID:cfp924707-E@wikicfp.com
END:VEVENT
BEGIN:VEVENT
DTSTAMP:20260419T194147Z
DTSTART;VALUE=DATE:20220315
SUMMARY:MDAI 2022 Deadline
DESCRIPTION:19th Modeling Decisions for Artificial Intelligence
URL:http://www.wikicfp.com/cfp/servlet/event.showcfp?eventid=153302&copyo
 wnerid=172801
UID:cfp924707-D@wikicfp.com
END:VEVENT
BEGIN:VEVENT
DTSTAMP:20260419T194147Z
DTSTART;VALUE=DATE:20220502
SUMMARY:MDAI 2022 Notification Due
DESCRIPTION:19th Modeling Decisions for Artificial Intelligence
URL:http://www.wikicfp.com/cfp/servlet/event.showcfp?eventid=153302&copyo
 wnerid=172801
UID:cfp924707-N@wikicfp.com
END:VEVENT
BEGIN:VEVENT
DTSTAMP:20260419T194147Z
DTSTART;VALUE=DATE:20220522
SUMMARY:MDAI 2022 Final Version Due
DESCRIPTION:19th Modeling Decisions for Artificial Intelligence
URL:http://www.wikicfp.com/cfp/servlet/event.showcfp?eventid=153302&copyo
 wnerid=172801
UID:cfp924707-N@wikicfp.com
END:VEVENT
BEGIN:VEVENT
DTSTAMP:20260419T194147Z
DTSTART;VALUE=DATE:20220718
DTEND;VALUE=DATE:20220723
SUMMARY:INLG 2022
DESCRIPTION:15th International Natural Language Generation Conference
URL:http://www.wikicfp.com/cfp/servlet/event.showcfp?eventid=154598&copyo
 wnerid=172801
UID:cfp923888-E@wikicfp.com
END:VEVENT
BEGIN:VEVENT
DTSTAMP:20260419T194147Z
DTSTART;VALUE=DATE:20220315
SUMMARY:INLG 2022 Deadline
DESCRIPTION:15th International Natural Language Generation Conference
URL:http://www.wikicfp.com/cfp/servlet/event.showcfp?eventid=154598&copyo
 wnerid=172801
UID:cfp923888-D@wikicfp.com
END:VEVENT
BEGIN:VEVENT
DTSTAMP:20260419T194147Z
DTSTART;VALUE=DATE:20220921
DTEND;VALUE=DATE:20220924
SUMMARY:SEPLN 2022
DESCRIPTION:38th International Conference of The Spanish Society for Natu
 ral Language Processing
URL:http://www.wikicfp.com/cfp/servlet/event.showcfp?eventid=154989&copyo
 wnerid=172801
UID:cfp923889-E@wikicfp.com
END:VEVENT
BEGIN:VEVENT
DTSTAMP:20260419T194147Z
DTSTART;VALUE=DATE:20220320
SUMMARY:SEPLN 2022 Deadline
DESCRIPTION:38th International Conference of The Spanish Society for Natu
 ral Language Processing
URL:http://www.wikicfp.com/cfp/servlet/event.showcfp?eventid=154989&copyo
 wnerid=172801
UID:cfp923889-D@wikicfp.com
END:VEVENT
BEGIN:VEVENT
DTSTAMP:20260419T194147Z
DTSTART;VALUE=DATE:20220506
SUMMARY:SEPLN 2022 Notification Due
DESCRIPTION:38th International Conference of The Spanish Society for Natu
 ral Language Processing
URL:http://www.wikicfp.com/cfp/servlet/event.showcfp?eventid=154989&copyo
 wnerid=172801
UID:cfp923889-N@wikicfp.com
END:VEVENT
BEGIN:VEVENT
DTSTAMP:20260419T194147Z
DTSTART;VALUE=DATE:20220520
SUMMARY:SEPLN 2022 Final Version Due
DESCRIPTION:38th International Conference of The Spanish Society for Natu
 ral Language Processing
URL:http://www.wikicfp.com/cfp/servlet/event.showcfp?eventid=154989&copyo
 wnerid=172801
UID:cfp923889-N@wikicfp.com
END:VEVENT
BEGIN:VEVENT
DTSTAMP:20260419T194147Z
DTSTART;VALUE=DATE:20220919
DTEND;VALUE=DATE:20220924
SUMMARY:ECMLPKDD 2022
DESCRIPTION:European Conference on Machine Learning and Principles and Pr
 actice of Knowledge Discovery in Databases
URL:http://www.wikicfp.com/cfp/servlet/event.showcfp?eventid=154027&copyo
 wnerid=172801
UID:cfp923881-E@wikicfp.com
END:VEVENT
BEGIN:VEVENT
DTSTAMP:20260419T194147Z
DTSTART;VALUE=DATE:20220330
SUMMARY:ECMLPKDD 2022 Abstract Due
DESCRIPTION:European Conference on Machine Learning and Principles and Pr
 actice of Knowledge Discovery in Databases
URL:http://www.wikicfp.com/cfp/servlet/event.showcfp?eventid=154027&copyo
 wnerid=172801
UID:cfp923881-A@wikicfp.com
END:VEVENT
BEGIN:VEVENT
DTSTAMP:20260419T194147Z
DTSTART;VALUE=DATE:20220406
SUMMARY:ECMLPKDD 2022 Deadline
DESCRIPTION:European Conference on Machine Learning and Principles and Pr
 actice of Knowledge Discovery in Databases
URL:http://www.wikicfp.com/cfp/servlet/event.showcfp?eventid=154027&copyo
 wnerid=172801
UID:cfp923881-D@wikicfp.com
END:VEVENT
BEGIN:VEVENT
DTSTAMP:20260419T194147Z
DTSTART;VALUE=DATE:20220614
SUMMARY:ECMLPKDD 2022 Notification Due
DESCRIPTION:European Conference on Machine Learning and Principles and Pr
 actice of Knowledge Discovery in Databases
URL:http://www.wikicfp.com/cfp/servlet/event.showcfp?eventid=154027&copyo
 wnerid=172801
UID:cfp923881-N@wikicfp.com
END:VEVENT
BEGIN:VEVENT
DTSTAMP:20260419T194147Z
DTSTART;VALUE=DATE:20220701
SUMMARY:ECMLPKDD 2022 Final Version Due
DESCRIPTION:European Conference on Machine Learning and Principles and Pr
 actice of Knowledge Discovery in Databases
URL:http://www.wikicfp.com/cfp/servlet/event.showcfp?eventid=154027&copyo
 wnerid=172801
UID:cfp923881-N@wikicfp.com
END:VEVENT
BEGIN:VEVENT
DTSTAMP:20260419T194147Z
DTSTART;VALUE=DATE:20220625
DTEND;VALUE=DATE:20220626
SUMMARY:MWE 2022
DESCRIPTION:18th Workshop on Multiword Expressions
URL:http://www.wikicfp.com/cfp/servlet/event.showcfp?eventid=154173&copyo
 wnerid=172801
UID:cfp925464-E@wikicfp.com
END:VEVENT
BEGIN:VEVENT
DTSTAMP:20260419T194147Z
DTSTART;VALUE=DATE:20220408
SUMMARY:MWE 2022 Deadline
DESCRIPTION:18th Workshop on Multiword Expressions
URL:http://www.wikicfp.com/cfp/servlet/event.showcfp?eventid=154173&copyo
 wnerid=172801
UID:cfp925464-D@wikicfp.com
END:VEVENT
BEGIN:VEVENT
DTSTAMP:20260419T194147Z
DTSTART;VALUE=DATE:20220503
SUMMARY:MWE 2022 Notification Due
DESCRIPTION:18th Workshop on Multiword Expressions
URL:http://www.wikicfp.com/cfp/servlet/event.showcfp?eventid=154173&copyo
 wnerid=172801
UID:cfp925464-N@wikicfp.com
END:VEVENT
BEGIN:VEVENT
DTSTAMP:20260419T194147Z
DTSTART;VALUE=DATE:20220523
SUMMARY:MWE 2022 Final Version Due
DESCRIPTION:18th Workshop on Multiword Expressions
URL:http://www.wikicfp.com/cfp/servlet/event.showcfp?eventid=154173&copyo
 wnerid=172801
UID:cfp925464-N@wikicfp.com
END:VEVENT
BEGIN:VEVENT
DTSTAMP:20260419T194147Z
DTSTART;VALUE=DATE:20220905
DTEND;VALUE=DATE:20220909
SUMMARY:CLEF 2022
DESCRIPTION:13th Conference and Labs of the Evaluation Forum
URL:http://www.wikicfp.com/cfp/servlet/event.showcfp?eventid=154311&copyo
 wnerid=172801
UID:cfp925465-E@wikicfp.com
END:VEVENT
BEGIN:VEVENT
DTSTAMP:20260419T194147Z
DTSTART;VALUE=DATE:20220502
SUMMARY:CLEF 2022 Deadline
DESCRIPTION:13th Conference and Labs of the Evaluation Forum
URL:http://www.wikicfp.com/cfp/servlet/event.showcfp?eventid=154311&copyo
 wnerid=172801
UID:cfp925465-D@wikicfp.com
END:VEVENT
BEGIN:VEVENT
DTSTAMP:20260419T194147Z
DTSTART;VALUE=DATE:20220530
SUMMARY:CLEF 2022 Notification Due
DESCRIPTION:13th Conference and Labs of the Evaluation Forum
URL:http://www.wikicfp.com/cfp/servlet/event.showcfp?eventid=154311&copyo
 wnerid=172801
UID:cfp925465-N@wikicfp.com
END:VEVENT
BEGIN:VEVENT
DTSTAMP:20260419T194147Z
DTSTART;VALUE=DATE:20220620
SUMMARY:CLEF 2022 Final Version Due
DESCRIPTION:13th Conference and Labs of the Evaluation Forum
URL:http://www.wikicfp.com/cfp/servlet/event.showcfp?eventid=154311&copyo
 wnerid=172801
UID:cfp925465-N@wikicfp.com
END:VEVENT
BEGIN:VEVENT
DTSTAMP:20260419T194147Z
DTSTART;VALUE=DATE:20221130
DTEND;VALUE=DATE:20221204
SUMMARY:ICDM 2022
DESCRIPTION:22nd IEEE International Conference on Data Mining 
URL:http://www.wikicfp.com/cfp/servlet/event.showcfp?eventid=155490&copyo
 wnerid=172801
UID:cfp923883-E@wikicfp.com
END:VEVENT
BEGIN:VEVENT
DTSTAMP:20260419T194147Z
DTSTART;VALUE=DATE:20220610
SUMMARY:ICDM 2022 Deadline
DESCRIPTION:22nd IEEE International Conference on Data Mining 
URL:http://www.wikicfp.com/cfp/servlet/event.showcfp?eventid=155490&copyo
 wnerid=172801
UID:cfp923883-D@wikicfp.com
END:VEVENT
BEGIN:VEVENT
DTSTAMP:20260419T194147Z
DTSTART;VALUE=DATE:20220831
SUMMARY:ICDM 2022 Notification Due
DESCRIPTION:22nd IEEE International Conference on Data Mining 
URL:http://www.wikicfp.com/cfp/servlet/event.showcfp?eventid=155490&copyo
 wnerid=172801
UID:cfp923883-N@wikicfp.com
END:VEVENT
BEGIN:VEVENT
DTSTAMP:20260419T194147Z
DTSTART;VALUE=DATE:20221001
SUMMARY:ICDM 2022 Final Version Due
DESCRIPTION:22nd IEEE International Conference on Data Mining 
URL:http://www.wikicfp.com/cfp/servlet/event.showcfp?eventid=155490&copyo
 wnerid=172801
UID:cfp923883-N@wikicfp.com
END:VEVENT
BEGIN:VEVENT
DTSTAMP:20260419T194147Z
DTSTART;VALUE=DATE:20230718
DTEND;VALUE=DATE:20230723
SUMMARY:IJCNN 2023
DESCRIPTION:International Joint Conference on Neural Networks
URL:http://www.wikicfp.com/cfp/servlet/event.showcfp?eventid=152256&copyo
 wnerid=172801
UID:cfp923885-E@wikicfp.com
END:VEVENT
BEGIN:VEVENT
DTSTAMP:20260419T194147Z
DTSTART;VALUE=DATE:20230115
SUMMARY:IJCNN 2023 Deadline
DESCRIPTION:International Joint Conference on Neural Networks
URL:http://www.wikicfp.com/cfp/servlet/event.showcfp?eventid=152256&copyo
 wnerid=172801
UID:cfp923885-D@wikicfp.com
END:VEVENT
BEGIN:VEVENT
DTSTAMP:20260419T194147Z
DTSTART;VALUE=DATE:20230410
SUMMARY:IJCNN 2023 Notification Due
DESCRIPTION:International Joint Conference on Neural Networks
URL:http://www.wikicfp.com/cfp/servlet/event.showcfp?eventid=152256&copyo
 wnerid=172801
UID:cfp923885-N@wikicfp.com
END:VEVENT
BEGIN:VEVENT
DTSTAMP:20260419T194147Z
DTSTART;VALUE=DATE:20230425
SUMMARY:IJCNN 2023 Final Version Due
DESCRIPTION:International Joint Conference on Neural Networks
URL:http://www.wikicfp.com/cfp/servlet/event.showcfp?eventid=152256&copyo
 wnerid=172801
UID:cfp923885-N@wikicfp.com
END:VEVENT
END:VCALENDAR
