BEGIN:VCALENDAR
PRODID:-//WikiCFP//yjgui 1.0//EN
VERSION:2.0
CALSCALE:GREGORIAN
BEGIN:VEVENT
DTSTAMP:20260422T102043Z
DTSTART;VALUE=DATE:20220212
DTEND;VALUE=DATE:20220217
SUMMARY:CGO 2022
DESCRIPTION:IEEE/ACM International Symposium on Code Generation and Optim
 ization
URL:http://www.wikicfp.com/cfp/servlet/event.showcfp?eventid=135196&copyo
 wnerid=172503
UID:cfp917244-E@wikicfp.com
END:VEVENT
BEGIN:VEVENT
DTSTAMP:20260422T102043Z
DTSTART;VALUE=DATE:20210827
SUMMARY:CGO 2022 Abstract Due
DESCRIPTION:IEEE/ACM International Symposium on Code Generation and Optim
 ization
URL:http://www.wikicfp.com/cfp/servlet/event.showcfp?eventid=135196&copyo
 wnerid=172503
UID:cfp917244-A@wikicfp.com
END:VEVENT
BEGIN:VEVENT
DTSTAMP:20260422T102043Z
DTSTART;VALUE=DATE:20210903
SUMMARY:CGO 2022 Deadline
DESCRIPTION:IEEE/ACM International Symposium on Code Generation and Optim
 ization
URL:http://www.wikicfp.com/cfp/servlet/event.showcfp?eventid=135196&copyo
 wnerid=172503
UID:cfp917244-D@wikicfp.com
END:VEVENT
BEGIN:VEVENT
DTSTAMP:20260422T102043Z
DTSTART;VALUE=DATE:20211105
SUMMARY:CGO 2022 Notification Due
DESCRIPTION:IEEE/ACM International Symposium on Code Generation and Optim
 ization
URL:http://www.wikicfp.com/cfp/servlet/event.showcfp?eventid=135196&copyo
 wnerid=172503
UID:cfp917244-N@wikicfp.com
END:VEVENT
BEGIN:VEVENT
DTSTAMP:20260422T102043Z
DTSTART;VALUE=DATE:20220116
DTEND;VALUE=DATE:20220119
SUMMARY:VMCAI 2022
DESCRIPTION:Verification\, Model Checking and Abstract Interpretation
URL:http://www.wikicfp.com/cfp/servlet/event.showcfp?eventid=152720&copyo
 wnerid=172503
UID:cfp931268-E@wikicfp.com
END:VEVENT
BEGIN:VEVENT
DTSTAMP:20260422T102043Z
DTSTART;VALUE=DATE:20210909
SUMMARY:VMCAI 2022 Deadline
DESCRIPTION:Verification\, Model Checking and Abstract Interpretation
URL:http://www.wikicfp.com/cfp/servlet/event.showcfp?eventid=152720&copyo
 wnerid=172503
UID:cfp931268-D@wikicfp.com
END:VEVENT
BEGIN:VEVENT
DTSTAMP:20260422T102043Z
DTSTART;VALUE=DATE:20211011
SUMMARY:VMCAI 2022 Notification Due
DESCRIPTION:Verification\, Model Checking and Abstract Interpretation
URL:http://www.wikicfp.com/cfp/servlet/event.showcfp?eventid=152720&copyo
 wnerid=172503
UID:cfp931268-N@wikicfp.com
END:VEVENT
BEGIN:VEVENT
DTSTAMP:20260422T102043Z
DTSTART;VALUE=DATE:20211115
SUMMARY:VMCAI 2022 Final Version Due
DESCRIPTION:Verification\, Model Checking and Abstract Interpretation
URL:http://www.wikicfp.com/cfp/servlet/event.showcfp?eventid=152720&copyo
 wnerid=172503
UID:cfp931268-N@wikicfp.com
END:VEVENT
BEGIN:VEVENT
DTSTAMP:20260422T102043Z
DTSTART;VALUE=DATE:20220613
DTEND;VALUE=DATE:20220618
SUMMARY:PLDI 2022
DESCRIPTION:The 43rd ACM SIGPLAN Conference on Programming Language Desig
 n and Implementation
URL:http://www.wikicfp.com/cfp/servlet/event.showcfp?eventid=143762&copyo
 wnerid=172503
UID:cfp917243-E@wikicfp.com
END:VEVENT
BEGIN:VEVENT
DTSTAMP:20260422T102043Z
DTSTART;VALUE=DATE:20211119
SUMMARY:PLDI 2022 Deadline
DESCRIPTION:The 43rd ACM SIGPLAN Conference on Programming Language Desig
 n and Implementation
URL:http://www.wikicfp.com/cfp/servlet/event.showcfp?eventid=143762&copyo
 wnerid=172503
UID:cfp917243-D@wikicfp.com
END:VEVENT
BEGIN:VEVENT
DTSTAMP:20260422T102043Z
DTSTART;VALUE=DATE:20220225
SUMMARY:PLDI 2022 Notification Due
DESCRIPTION:The 43rd ACM SIGPLAN Conference on Programming Language Desig
 n and Implementation
URL:http://www.wikicfp.com/cfp/servlet/event.showcfp?eventid=143762&copyo
 wnerid=172503
UID:cfp917243-N@wikicfp.com
END:VEVENT
BEGIN:VEVENT
DTSTAMP:20260422T102043Z
DTSTART;VALUE=DATE:20220718
DTEND;VALUE=DATE:20220723
SUMMARY:ISSTA 2022
DESCRIPTION:International Symposium on Software Testing and Analysis
URL:http://www.wikicfp.com/cfp/servlet/event.showcfp?eventid=150011&copyo
 wnerid=172503
UID:cfp931267-E@wikicfp.com
END:VEVENT
BEGIN:VEVENT
DTSTAMP:20260422T102043Z
DTSTART;VALUE=DATE:20220128
SUMMARY:ISSTA 2022 Deadline
DESCRIPTION:International Symposium on Software Testing and Analysis
URL:http://www.wikicfp.com/cfp/servlet/event.showcfp?eventid=150011&copyo
 wnerid=172503
UID:cfp931267-D@wikicfp.com
END:VEVENT
BEGIN:VEVENT
DTSTAMP:20260422T102043Z
DTSTART;VALUE=DATE:20220411
SUMMARY:ISSTA 2022 Notification Due
DESCRIPTION:International Symposium on Software Testing and Analysis
URL:http://www.wikicfp.com/cfp/servlet/event.showcfp?eventid=150011&copyo
 wnerid=172503
UID:cfp931267-N@wikicfp.com
END:VEVENT
BEGIN:VEVENT
DTSTAMP:20260422T102043Z
DTSTART;VALUE=DATE:20220606
DTEND;VALUE=DATE:20220611
SUMMARY:ECOOP 2022
DESCRIPTION:European Conference on Object-Oriented Programming
URL:http://www.wikicfp.com/cfp/servlet/event.showcfp?eventid=145678&copyo
 wnerid=172503
UID:cfp917241-E@wikicfp.com
END:VEVENT
BEGIN:VEVENT
DTSTAMP:20260422T102043Z
DTSTART;VALUE=DATE:20220301
SUMMARY:ECOOP 2022 Deadline
DESCRIPTION:European Conference on Object-Oriented Programming
URL:http://www.wikicfp.com/cfp/servlet/event.showcfp?eventid=145678&copyo
 wnerid=172503
UID:cfp917241-D@wikicfp.com
END:VEVENT
BEGIN:VEVENT
DTSTAMP:20260422T102043Z
DTSTART;VALUE=DATE:20220423
SUMMARY:ECOOP 2022 Notification Due
DESCRIPTION:European Conference on Object-Oriented Programming
URL:http://www.wikicfp.com/cfp/servlet/event.showcfp?eventid=145678&copyo
 wnerid=172503
UID:cfp917241-N@wikicfp.com
END:VEVENT
BEGIN:VEVENT
DTSTAMP:20260422T102043Z
DTSTART;VALUE=DATE:20221114
DTEND;VALUE=DATE:20221119
SUMMARY:ESEC/FSE 2022
DESCRIPTION:The ACM Joint European Software Engineering Conference and Sy
 mposium on the Foundations of Software Engineering
URL:http://www.wikicfp.com/cfp/servlet/event.showcfp?eventid=143170&copyo
 wnerid=172503
UID:cfp917240-E@wikicfp.com
END:VEVENT
BEGIN:VEVENT
DTSTAMP:20260422T102043Z
DTSTART;VALUE=DATE:20220311
SUMMARY:ESEC/FSE 2022 Abstract Due
DESCRIPTION:The ACM Joint European Software Engineering Conference and Sy
 mposium on the Foundations of Software Engineering
URL:http://www.wikicfp.com/cfp/servlet/event.showcfp?eventid=143170&copyo
 wnerid=172503
UID:cfp917240-A@wikicfp.com
END:VEVENT
BEGIN:VEVENT
DTSTAMP:20260422T102043Z
DTSTART;VALUE=DATE:20220318
SUMMARY:ESEC/FSE 2022 Deadline
DESCRIPTION:The ACM Joint European Software Engineering Conference and Sy
 mposium on the Foundations of Software Engineering
URL:http://www.wikicfp.com/cfp/servlet/event.showcfp?eventid=143170&copyo
 wnerid=172503
UID:cfp917240-D@wikicfp.com
END:VEVENT
BEGIN:VEVENT
DTSTAMP:20260422T102043Z
DTSTART;VALUE=DATE:20220608
SUMMARY:ESEC/FSE 2022 Notification Due
DESCRIPTION:The ACM Joint European Software Engineering Conference and Sy
 mposium on the Foundations of Software Engineering
URL:http://www.wikicfp.com/cfp/servlet/event.showcfp?eventid=143170&copyo
 wnerid=172503
UID:cfp917240-N@wikicfp.com
END:VEVENT
BEGIN:VEVENT
DTSTAMP:20260422T102043Z
DTSTART;VALUE=DATE:20220916
SUMMARY:ESEC/FSE 2022 Final Version Due
DESCRIPTION:The ACM Joint European Software Engineering Conference and Sy
 mposium on the Foundations of Software Engineering
URL:http://www.wikicfp.com/cfp/servlet/event.showcfp?eventid=143170&copyo
 wnerid=172503
UID:cfp917240-N@wikicfp.com
END:VEVENT
BEGIN:VEVENT
DTSTAMP:20260422T102043Z
DTSTART;VALUE=DATE:20221114
DTEND;VALUE=DATE:20221120
SUMMARY:OOPSLA 2022
DESCRIPTION:The ACM SIGPLAN conference on Systems\, Programming\, Languag
 es\, and Applications: Software for Humanity
URL:http://www.wikicfp.com/cfp/servlet/event.showcfp?eventid=153283&copyo
 wnerid=172503
UID:cfp917245-E@wikicfp.com
END:VEVENT
BEGIN:VEVENT
DTSTAMP:20260422T102043Z
DTSTART;VALUE=DATE:20220415
SUMMARY:OOPSLA 2022 Deadline
DESCRIPTION:The ACM SIGPLAN conference on Systems\, Programming\, Languag
 es\, and Applications: Software for Humanity
URL:http://www.wikicfp.com/cfp/servlet/event.showcfp?eventid=153283&copyo
 wnerid=172503
UID:cfp917245-D@wikicfp.com
END:VEVENT
BEGIN:VEVENT
DTSTAMP:20260422T102043Z
DTSTART;VALUE=DATE:20220630
SUMMARY:OOPSLA 2022 Notification Due
DESCRIPTION:The ACM SIGPLAN conference on Systems\, Programming\, Languag
 es\, and Applications: Software for Humanity
URL:http://www.wikicfp.com/cfp/servlet/event.showcfp?eventid=153283&copyo
 wnerid=172503
UID:cfp917245-N@wikicfp.com
END:VEVENT
BEGIN:VEVENT
DTSTAMP:20260422T102043Z
DTSTART;VALUE=DATE:20221205
DTEND;VALUE=DATE:20221211
SUMMARY:sas 2022
DESCRIPTION:29th Static Analysis Symposium
URL:http://www.wikicfp.com/cfp/servlet/event.showcfp?eventid=157137&copyo
 wnerid=172503
UID:cfp931266-E@wikicfp.com
END:VEVENT
BEGIN:VEVENT
DTSTAMP:20260422T102043Z
DTSTART;VALUE=DATE:20220504
SUMMARY:sas 2022 Deadline
DESCRIPTION:29th Static Analysis Symposium
URL:http://www.wikicfp.com/cfp/servlet/event.showcfp?eventid=157137&copyo
 wnerid=172503
UID:cfp931266-D@wikicfp.com
END:VEVENT
BEGIN:VEVENT
DTSTAMP:20260422T102043Z
DTSTART;VALUE=DATE:20220715
SUMMARY:sas 2022 Notification Due
DESCRIPTION:29th Static Analysis Symposium
URL:http://www.wikicfp.com/cfp/servlet/event.showcfp?eventid=157137&copyo
 wnerid=172503
UID:cfp931266-N@wikicfp.com
END:VEVENT
BEGIN:VEVENT
DTSTAMP:20260422T102043Z
DTSTART;VALUE=DATE:20220916
SUMMARY:sas 2022 Final Version Due
DESCRIPTION:29th Static Analysis Symposium
URL:http://www.wikicfp.com/cfp/servlet/event.showcfp?eventid=157137&copyo
 wnerid=172503
UID:cfp931266-N@wikicfp.com
END:VEVENT
BEGIN:VEVENT
DTSTAMP:20260422T102043Z
DTSTART;VALUE=DATE:20220926
DTEND;VALUE=DATE:20221002
SUMMARY:ASE 2022
DESCRIPTION:37th IEEE/ACM International Conference on Automated Software 
 Engineering
URL:http://www.wikicfp.com/cfp/servlet/event.showcfp?eventid=149330&copyo
 wnerid=172503
UID:cfp917239-E@wikicfp.com
END:VEVENT
BEGIN:VEVENT
DTSTAMP:20260422T102043Z
DTSTART;VALUE=DATE:20220426
SUMMARY:ASE 2022 Abstract Due
DESCRIPTION:37th IEEE/ACM International Conference on Automated Software 
 Engineering
URL:http://www.wikicfp.com/cfp/servlet/event.showcfp?eventid=149330&copyo
 wnerid=172503
UID:cfp917239-A@wikicfp.com
END:VEVENT
BEGIN:VEVENT
DTSTAMP:20260422T102043Z
DTSTART;VALUE=DATE:20220506
SUMMARY:ASE 2022 Deadline
DESCRIPTION:37th IEEE/ACM International Conference on Automated Software 
 Engineering
URL:http://www.wikicfp.com/cfp/servlet/event.showcfp?eventid=149330&copyo
 wnerid=172503
UID:cfp917239-D@wikicfp.com
END:VEVENT
BEGIN:VEVENT
DTSTAMP:20260422T102043Z
DTSTART;VALUE=DATE:20220720
SUMMARY:ASE 2022 Notification Due
DESCRIPTION:37th IEEE/ACM International Conference on Automated Software 
 Engineering
URL:http://www.wikicfp.com/cfp/servlet/event.showcfp?eventid=149330&copyo
 wnerid=172503
UID:cfp917239-N@wikicfp.com
END:VEVENT
BEGIN:VEVENT
DTSTAMP:20260422T102043Z
DTSTART;VALUE=DATE:20230115
DTEND;VALUE=DATE:20230122
SUMMARY:POPL 2023
DESCRIPTION:50th Symposium on Principles of Programming Languages
URL:http://www.wikicfp.com/cfp/servlet/event.showcfp?eventid=156688&copyo
 wnerid=172503
UID:cfp931388-E@wikicfp.com
END:VEVENT
BEGIN:VEVENT
DTSTAMP:20260422T102043Z
DTSTART;VALUE=DATE:20220707
SUMMARY:POPL 2023 Deadline
DESCRIPTION:50th Symposium on Principles of Programming Languages
URL:http://www.wikicfp.com/cfp/servlet/event.showcfp?eventid=156688&copyo
 wnerid=172503
UID:cfp931388-D@wikicfp.com
END:VEVENT
BEGIN:VEVENT
DTSTAMP:20260422T102043Z
DTSTART;VALUE=DATE:20230514
DTEND;VALUE=DATE:20230521
SUMMARY:ICSE 2023
DESCRIPTION:45th International Conference on Software Engineering
URL:http://www.wikicfp.com/cfp/servlet/event.showcfp?eventid=156689&copyo
 wnerid=172503
UID:cfp931265-E@wikicfp.com
END:VEVENT
BEGIN:VEVENT
DTSTAMP:20260422T102043Z
DTSTART;VALUE=DATE:20220901
SUMMARY:ICSE 2023 Deadline
DESCRIPTION:45th International Conference on Software Engineering
URL:http://www.wikicfp.com/cfp/servlet/event.showcfp?eventid=156689&copyo
 wnerid=172503
UID:cfp931265-D@wikicfp.com
END:VEVENT
BEGIN:VEVENT
DTSTAMP:20260422T102043Z
DTSTART;VALUE=DATE:20221209
SUMMARY:ICSE 2023 Notification Due
DESCRIPTION:45th International Conference on Software Engineering
URL:http://www.wikicfp.com/cfp/servlet/event.showcfp?eventid=156689&copyo
 wnerid=172503
UID:cfp931265-N@wikicfp.com
END:VEVENT
END:VCALENDAR
