BEGIN:VCALENDAR
PRODID:-//WikiCFP//tlouail 1.0//EN
VERSION:2.0
CALSCALE:GREGORIAN
BEGIN:VEVENT
DTSTAMP:20260422T171500Z
DTSTART;VALUE=DATE:20210927
DTEND;VALUE=DATE:20211002
SUMMARY:RecSys 2021
DESCRIPTION:15th ACM Conference on Recommender Systems
URL:http://www.wikicfp.com/cfp/servlet/event.showcfp?eventid=129866&copyo
 wnerid=172387
UID:cfp916703-E@wikicfp.com
END:VEVENT
BEGIN:VEVENT
DTSTAMP:20260422T171500Z
DTSTART;VALUE=DATE:20210427
SUMMARY:RecSys 2021 Abstract Due
DESCRIPTION:15th ACM Conference on Recommender Systems
URL:http://www.wikicfp.com/cfp/servlet/event.showcfp?eventid=129866&copyo
 wnerid=172387
UID:cfp916703-A@wikicfp.com
END:VEVENT
BEGIN:VEVENT
DTSTAMP:20260422T171500Z
DTSTART;VALUE=DATE:20210504
SUMMARY:RecSys 2021 Deadline
DESCRIPTION:15th ACM Conference on Recommender Systems
URL:http://www.wikicfp.com/cfp/servlet/event.showcfp?eventid=129866&copyo
 wnerid=172387
UID:cfp916703-D@wikicfp.com
END:VEVENT
BEGIN:VEVENT
DTSTAMP:20260422T171500Z
DTSTART;VALUE=DATE:20210706
SUMMARY:RecSys 2021 Notification Due
DESCRIPTION:15th ACM Conference on Recommender Systems
URL:http://www.wikicfp.com/cfp/servlet/event.showcfp?eventid=129866&copyo
 wnerid=172387
UID:cfp916703-N@wikicfp.com
END:VEVENT
BEGIN:VEVENT
DTSTAMP:20260422T171500Z
DTSTART;VALUE=DATE:20210727
SUMMARY:RecSys 2021 Final Version Due
DESCRIPTION:15th ACM Conference on Recommender Systems
URL:http://www.wikicfp.com/cfp/servlet/event.showcfp?eventid=129866&copyo
 wnerid=172387
UID:cfp916703-N@wikicfp.com
END:VEVENT
BEGIN:VEVENT
DTSTAMP:20260422T171500Z
DTSTART;VALUE=DATE:20211108
DTEND;VALUE=DATE:20211113
SUMMARY:ISMIR 2021
DESCRIPTION:22nd International Society for Music Information Retrieval Co
 nference
URL:http://www.wikicfp.com/cfp/servlet/event.showcfp?eventid=125129&copyo
 wnerid=172387
UID:cfp916707-E@wikicfp.com
END:VEVENT
BEGIN:VEVENT
DTSTAMP:20260422T171500Z
DTSTART;VALUE=DATE:20210508
SUMMARY:ISMIR 2021 Deadline
DESCRIPTION:22nd International Society for Music Information Retrieval Co
 nference
URL:http://www.wikicfp.com/cfp/servlet/event.showcfp?eventid=125129&copyo
 wnerid=172387
UID:cfp916707-D@wikicfp.com
END:VEVENT
BEGIN:VEVENT
DTSTAMP:20260422T171500Z
DTSTART;VALUE=DATE:20210515
SUMMARY:ISMIR 2021 Notification Due
DESCRIPTION:22nd International Society for Music Information Retrieval Co
 nference
URL:http://www.wikicfp.com/cfp/servlet/event.showcfp?eventid=125129&copyo
 wnerid=172387
UID:cfp916707-N@wikicfp.com
END:VEVENT
BEGIN:VEVENT
DTSTAMP:20260422T171500Z
DTSTART;VALUE=DATE:20210802
SUMMARY:ISMIR 2021 Final Version Due
DESCRIPTION:22nd International Society for Music Information Retrieval Co
 nference
URL:http://www.wikicfp.com/cfp/servlet/event.showcfp?eventid=125129&copyo
 wnerid=172387
UID:cfp916707-N@wikicfp.com
END:VEVENT
BEGIN:VEVENT
DTSTAMP:20260422T171500Z
DTSTART;VALUE=DATE:20220101
DTEND;VALUE=DATE:20220102
SUMMARY:ICWSM 2022
DESCRIPTION:International Conference on Web and Social Media (3rd deadlin
 e)
URL:http://www.wikicfp.com/cfp/servlet/event.showcfp?eventid=129340&copyo
 wnerid=172387
UID:cfp916697-E@wikicfp.com
END:VEVENT
BEGIN:VEVENT
DTSTAMP:20260422T171500Z
DTSTART;VALUE=DATE:20220115
SUMMARY:ICWSM 2022 Deadline
DESCRIPTION:International Conference on Web and Social Media (3rd deadlin
 e)
URL:http://www.wikicfp.com/cfp/servlet/event.showcfp?eventid=129340&copyo
 wnerid=172387
UID:cfp916697-D@wikicfp.com
END:VEVENT
BEGIN:VEVENT
DTSTAMP:20260422T171500Z
DTSTART;VALUE=DATE:20220315
SUMMARY:ICWSM 2022 Notification Due
DESCRIPTION:International Conference on Web and Social Media (3rd deadlin
 e)
URL:http://www.wikicfp.com/cfp/servlet/event.showcfp?eventid=129340&copyo
 wnerid=172387
UID:cfp916697-N@wikicfp.com
END:VEVENT
BEGIN:VEVENT
DTSTAMP:20260422T171500Z
DTSTART;VALUE=DATE:20220711
DTEND;VALUE=DATE:20220716
SUMMARY:SIGIR 2022
DESCRIPTION:The 45th International ACM SIGIR Conference on Research and D
 evelopment in Information Retrieval
URL:http://www.wikicfp.com/cfp/servlet/event.showcfp?eventid=140225&copyo
 wnerid=172387
UID:cfp916704-E@wikicfp.com
END:VEVENT
BEGIN:VEVENT
DTSTAMP:20260422T171500Z
DTSTART;VALUE=DATE:20220121
SUMMARY:SIGIR 2022 Abstract Due
DESCRIPTION:The 45th International ACM SIGIR Conference on Research and D
 evelopment in Information Retrieval
URL:http://www.wikicfp.com/cfp/servlet/event.showcfp?eventid=140225&copyo
 wnerid=172387
UID:cfp916704-A@wikicfp.com
END:VEVENT
BEGIN:VEVENT
DTSTAMP:20260422T171500Z
DTSTART;VALUE=DATE:20220128
SUMMARY:SIGIR 2022 Deadline
DESCRIPTION:The 45th International ACM SIGIR Conference on Research and D
 evelopment in Information Retrieval
URL:http://www.wikicfp.com/cfp/servlet/event.showcfp?eventid=140225&copyo
 wnerid=172387
UID:cfp916704-D@wikicfp.com
END:VEVENT
BEGIN:VEVENT
DTSTAMP:20260422T171500Z
DTSTART;VALUE=DATE:20220331
SUMMARY:SIGIR 2022 Notification Due
DESCRIPTION:The 45th International ACM SIGIR Conference on Research and D
 evelopment in Information Retrieval
URL:http://www.wikicfp.com/cfp/servlet/event.showcfp?eventid=140225&copyo
 wnerid=172387
UID:cfp916704-N@wikicfp.com
END:VEVENT
BEGIN:VEVENT
DTSTAMP:20260422T171500Z
DTSTART;VALUE=DATE:20220718
DTEND;VALUE=DATE:20220720
SUMMARY:SMSociety 2022
DESCRIPTION:12th International Conference on Social Media & Society
URL:http://www.wikicfp.com/cfp/servlet/event.showcfp?eventid=143533&copyo
 wnerid=172387
UID:cfp916706-E@wikicfp.com
END:VEVENT
BEGIN:VEVENT
DTSTAMP:20260422T171500Z
DTSTART;VALUE=DATE:20220131
SUMMARY:SMSociety 2022 Deadline
DESCRIPTION:12th International Conference on Social Media & Society
URL:http://www.wikicfp.com/cfp/servlet/event.showcfp?eventid=143533&copyo
 wnerid=172387
UID:cfp916706-D@wikicfp.com
END:VEVENT
BEGIN:VEVENT
DTSTAMP:20260422T171500Z
DTSTART;VALUE=DATE:20220331
SUMMARY:SMSociety 2022 Notification Due
DESCRIPTION:12th International Conference on Social Media & Society
URL:http://www.wikicfp.com/cfp/servlet/event.showcfp?eventid=143533&copyo
 wnerid=172387
UID:cfp916706-N@wikicfp.com
END:VEVENT
BEGIN:VEVENT
DTSTAMP:20260422T171500Z
DTSTART;VALUE=DATE:20220430
SUMMARY:SMSociety 2022 Final Version Due
DESCRIPTION:12th International Conference on Social Media & Society
URL:http://www.wikicfp.com/cfp/servlet/event.showcfp?eventid=143533&copyo
 wnerid=172387
UID:cfp916706-N@wikicfp.com
END:VEVENT
BEGIN:VEVENT
DTSTAMP:20260422T171500Z
DTSTART;VALUE=DATE:20220814
DTEND;VALUE=DATE:20220819
SUMMARY:KDD 2022
DESCRIPTION:28th ACM SIGKDD Conference on Knowledge Discovery and Data Mi
 ning
URL:http://www.wikicfp.com/cfp/servlet/event.showcfp?eventid=151535&copyo
 wnerid=172387
UID:cfp916705-E@wikicfp.com
END:VEVENT
BEGIN:VEVENT
DTSTAMP:20260422T171500Z
DTSTART;VALUE=DATE:20220210
SUMMARY:KDD 2022 Deadline
DESCRIPTION:28th ACM SIGKDD Conference on Knowledge Discovery and Data Mi
 ning
URL:http://www.wikicfp.com/cfp/servlet/event.showcfp?eventid=151535&copyo
 wnerid=172387
UID:cfp916705-D@wikicfp.com
END:VEVENT
BEGIN:VEVENT
DTSTAMP:20260422T171500Z
DTSTART;VALUE=DATE:20220519
SUMMARY:KDD 2022 Notification Due
DESCRIPTION:28th ACM SIGKDD Conference on Knowledge Discovery and Data Mi
 ning
URL:http://www.wikicfp.com/cfp/servlet/event.showcfp?eventid=151535&copyo
 wnerid=172387
UID:cfp916705-N@wikicfp.com
END:VEVENT
BEGIN:VEVENT
DTSTAMP:20260422T171500Z
DTSTART;VALUE=DATE:20220609
SUMMARY:KDD 2022 Final Version Due
DESCRIPTION:28th ACM SIGKDD Conference on Knowledge Discovery and Data Mi
 ning
URL:http://www.wikicfp.com/cfp/servlet/event.showcfp?eventid=151535&copyo
 wnerid=172387
UID:cfp916705-N@wikicfp.com
END:VEVENT
END:VCALENDAR
