BEGIN:VCALENDAR
PRODID:-//WikiCFP//15272764587 1.0//EN
VERSION:2.0
CALSCALE:GREGORIAN
BEGIN:VEVENT
DTSTAMP:20260419T192906Z
DTSTART;VALUE=DATE:20220725
DTEND;VALUE=DATE:20220728
SUMMARY:SEA 2022
DESCRIPTION:20th Symposium on Experimental Algorithms
URL:http://www.wikicfp.com/cfp/servlet/event.showcfp?eventid=152797&copyo
 wnerid=172234
UID:cfp915800-E@wikicfp.com
END:VEVENT
BEGIN:VEVENT
DTSTAMP:20260419T192906Z
DTSTART;VALUE=DATE:20220121
SUMMARY:SEA 2022 Abstract Due
DESCRIPTION:20th Symposium on Experimental Algorithms
URL:http://www.wikicfp.com/cfp/servlet/event.showcfp?eventid=152797&copyo
 wnerid=172234
UID:cfp915800-A@wikicfp.com
END:VEVENT
BEGIN:VEVENT
DTSTAMP:20260419T192906Z
DTSTART;VALUE=DATE:20220128
SUMMARY:SEA 2022 Deadline
DESCRIPTION:20th Symposium on Experimental Algorithms
URL:http://www.wikicfp.com/cfp/servlet/event.showcfp?eventid=152797&copyo
 wnerid=172234
UID:cfp915800-D@wikicfp.com
END:VEVENT
BEGIN:VEVENT
DTSTAMP:20260419T192906Z
DTSTART;VALUE=DATE:20220331
SUMMARY:SEA 2022 Notification Due
DESCRIPTION:20th Symposium on Experimental Algorithms
URL:http://www.wikicfp.com/cfp/servlet/event.showcfp?eventid=152797&copyo
 wnerid=172234
UID:cfp915800-N@wikicfp.com
END:VEVENT
BEGIN:VEVENT
DTSTAMP:20260419T192906Z
DTSTART;VALUE=DATE:20220429
SUMMARY:SEA 2022 Final Version Due
DESCRIPTION:20th Symposium on Experimental Algorithms
URL:http://www.wikicfp.com/cfp/servlet/event.showcfp?eventid=152797&copyo
 wnerid=172234
UID:cfp915800-N@wikicfp.com
END:VEVENT
BEGIN:VEVENT
DTSTAMP:20260419T192906Z
DTSTART;VALUE=DATE:20220715
DTEND;VALUE=DATE:20220720
SUMMARY:ICSI 2022
DESCRIPTION:International Conference on Swarm Intelligence
URL:http://www.wikicfp.com/cfp/servlet/event.showcfp?eventid=152500&copyo
 wnerid=172234
UID:cfp915801-E@wikicfp.com
END:VEVENT
BEGIN:VEVENT
DTSTAMP:20260419T192906Z
DTSTART;VALUE=DATE:20220201
SUMMARY:ICSI 2022 Deadline
DESCRIPTION:International Conference on Swarm Intelligence
URL:http://www.wikicfp.com/cfp/servlet/event.showcfp?eventid=152500&copyo
 wnerid=172234
UID:cfp915801-D@wikicfp.com
END:VEVENT
BEGIN:VEVENT
DTSTAMP:20260419T192906Z
DTSTART;VALUE=DATE:20220423
SUMMARY:ICSI 2022 Final Version Due
DESCRIPTION:International Conference on Swarm Intelligence
URL:http://www.wikicfp.com/cfp/servlet/event.showcfp?eventid=152500&copyo
 wnerid=172234
UID:cfp915801-N@wikicfp.com
END:VEVENT
BEGIN:VEVENT
DTSTAMP:20260419T192906Z
DTSTART;VALUE=DATE:20221204
DTEND;VALUE=DATE:20221208
SUMMARY:IEEE SSCI 2022
DESCRIPTION:2022 IEEE Symposium Series on Computational Intelligence
URL:http://www.wikicfp.com/cfp/servlet/event.showcfp?eventid=152339&copyo
 wnerid=172234
UID:cfp915982-E@wikicfp.com
END:VEVENT
BEGIN:VEVENT
DTSTAMP:20260419T192906Z
DTSTART;VALUE=DATE:20220624
SUMMARY:IEEE SSCI 2022 Deadline
DESCRIPTION:2022 IEEE Symposium Series on Computational Intelligence
URL:http://www.wikicfp.com/cfp/servlet/event.showcfp?eventid=152339&copyo
 wnerid=172234
UID:cfp915982-D@wikicfp.com
END:VEVENT
BEGIN:VEVENT
DTSTAMP:20260419T192906Z
DTSTART;VALUE=DATE:20220721
SUMMARY:IEEE SSCI 2022 Notification Due
DESCRIPTION:2022 IEEE Symposium Series on Computational Intelligence
URL:http://www.wikicfp.com/cfp/servlet/event.showcfp?eventid=152339&copyo
 wnerid=172234
UID:cfp915982-N@wikicfp.com
END:VEVENT
END:VCALENDAR
