BEGIN:VCALENDAR
PRODID:-//WikiCFP//BSidesTampa 1.0//EN
VERSION:2.0
CALSCALE:GREGORIAN
BEGIN:VEVENT
DTSTAMP:20260421T021611Z
DTSTART;VALUE=DATE:20220304
DTEND;VALUE=DATE:20220306
SUMMARY:B-Sides Tampa 2022
DESCRIPTION:B-Sides Tampa IT Security Conference 2022
URL:http://www.wikicfp.com/cfp/servlet/event.showcfp?eventid=149318&copyo
 wnerid=171445
UID:cfp909506-E@wikicfp.com
END:VEVENT
BEGIN:VEVENT
DTSTAMP:20260421T021611Z
DTSTART;VALUE=DATE:20220116
SUMMARY:B-Sides Tampa 2022 Deadline
DESCRIPTION:B-Sides Tampa IT Security Conference 2022
URL:http://www.wikicfp.com/cfp/servlet/event.showcfp?eventid=149318&copyo
 wnerid=171445
UID:cfp909506-D@wikicfp.com
END:VEVENT
BEGIN:VEVENT
DTSTAMP:20260421T021611Z
DTSTART;VALUE=DATE:20220205
SUMMARY:B-Sides Tampa 2022 Notification Due
DESCRIPTION:B-Sides Tampa IT Security Conference 2022
URL:http://www.wikicfp.com/cfp/servlet/event.showcfp?eventid=149318&copyo
 wnerid=171445
UID:cfp909506-N@wikicfp.com
END:VEVENT
BEGIN:VEVENT
DTSTAMP:20260421T021611Z
DTSTART;VALUE=DATE:20220116
SUMMARY:B-Sides Tampa 2022 Final Version Due
DESCRIPTION:B-Sides Tampa IT Security Conference 2022
URL:http://www.wikicfp.com/cfp/servlet/event.showcfp?eventid=149318&copyo
 wnerid=171445
UID:cfp909506-N@wikicfp.com
END:VEVENT
END:VCALENDAR
