BEGIN:VCALENDAR
PRODID:-//WikiCFP//JDE65 1.0//EN
VERSION:2.0
CALSCALE:GREGORIAN
BEGIN:VEVENT
DTSTAMP:20260424T045414Z
DTSTART;VALUE=DATE:20220730
DTEND;VALUE=DATE:20220801
SUMMARY:AISC 2022
DESCRIPTION:10th International Conference on Artificial Intelligence\, So
 ft Computing
URL:http://www.wikicfp.com/cfp/servlet/event.showcfp?eventid=122802&copyo
 wnerid=171273
UID:cfp912075-E@wikicfp.com
END:VEVENT
BEGIN:VEVENT
DTSTAMP:20260424T045414Z
DTSTART;VALUE=DATE:20220709
SUMMARY:AISC 2022 Deadline
DESCRIPTION:10th International Conference on Artificial Intelligence\, So
 ft Computing
URL:http://www.wikicfp.com/cfp/servlet/event.showcfp?eventid=122802&copyo
 wnerid=171273
UID:cfp912075-D@wikicfp.com
END:VEVENT
BEGIN:VEVENT
DTSTAMP:20260424T045414Z
DTSTART;VALUE=DATE:20220722
SUMMARY:AISC 2022 Notification Due
DESCRIPTION:10th International Conference on Artificial Intelligence\, So
 ft Computing
URL:http://www.wikicfp.com/cfp/servlet/event.showcfp?eventid=122802&copyo
 wnerid=171273
UID:cfp912075-N@wikicfp.com
END:VEVENT
BEGIN:VEVENT
DTSTAMP:20260424T045414Z
DTSTART;VALUE=DATE:20220724
SUMMARY:AISC 2022 Final Version Due
DESCRIPTION:10th International Conference on Artificial Intelligence\, So
 ft Computing
URL:http://www.wikicfp.com/cfp/servlet/event.showcfp?eventid=122802&copyo
 wnerid=171273
UID:cfp912075-N@wikicfp.com
END:VEVENT
BEGIN:VEVENT
DTSTAMP:20260424T045414Z
DTSTART;VALUE=DATE:20240525
SUMMARY:CSEIJ 2024 Deadline
DESCRIPTION:Computer Science & Engineering: An International Journal
URL:http://www.wikicfp.com/cfp/servlet/event.showcfp?eventid=133661&copyo
 wnerid=171273
UID:cfp912076-D@wikicfp.com
END:VEVENT
BEGIN:VEVENT
DTSTAMP:20260424T045414Z
DTSTART;VALUE=DATE:20240620
SUMMARY:CSEIJ 2024 Notification Due
DESCRIPTION:Computer Science & Engineering: An International Journal
URL:http://www.wikicfp.com/cfp/servlet/event.showcfp?eventid=133661&copyo
 wnerid=171273
UID:cfp912076-N@wikicfp.com
END:VEVENT
BEGIN:VEVENT
DTSTAMP:20260424T045414Z
DTSTART;VALUE=DATE:20240627
SUMMARY:CSEIJ 2024 Final Version Due
DESCRIPTION:Computer Science & Engineering: An International Journal
URL:http://www.wikicfp.com/cfp/servlet/event.showcfp?eventid=133661&copyo
 wnerid=171273
UID:cfp912076-N@wikicfp.com
END:VEVENT
END:VCALENDAR
