BEGIN:VCALENDAR
PRODID:-//WikiCFP//psque 1.0//EN
VERSION:2.0
CALSCALE:GREGORIAN
BEGIN:VEVENT
DTSTAMP:20260424T210235Z
DTSTART;VALUE=DATE:20210620
DTEND;VALUE=DATE:20210626
SUMMARY:SIGMOD 2021
DESCRIPTION:International Conference on Management of Data (1st Cycle)
URL:http://www.wikicfp.com/cfp/servlet/event.showcfp?eventid=109978&copyo
 wnerid=171042
UID:cfp906323-E@wikicfp.com
END:VEVENT
BEGIN:VEVENT
DTSTAMP:20260424T210235Z
DTSTART;VALUE=DATE:20200707
SUMMARY:SIGMOD 2021 Deadline
DESCRIPTION:International Conference on Management of Data (1st Cycle)
URL:http://www.wikicfp.com/cfp/servlet/event.showcfp?eventid=109978&copyo
 wnerid=171042
UID:cfp906323-D@wikicfp.com
END:VEVENT
BEGIN:VEVENT
DTSTAMP:20260424T210235Z
DTSTART;VALUE=DATE:20200914
SUMMARY:SIGMOD 2021 Notification Due
DESCRIPTION:International Conference on Management of Data (1st Cycle)
URL:http://www.wikicfp.com/cfp/servlet/event.showcfp?eventid=109978&copyo
 wnerid=171042
UID:cfp906323-N@wikicfp.com
END:VEVENT
BEGIN:VEVENT
DTSTAMP:20260424T210235Z
DTSTART;VALUE=DATE:20210620
DTEND;VALUE=DATE:20210626
SUMMARY:SIGMOD 2021
DESCRIPTION:International Conference on Management of Data (2nd Cycle)
URL:http://www.wikicfp.com/cfp/servlet/event.showcfp?eventid=109965&copyo
 wnerid=171042
UID:cfp906322-E@wikicfp.com
END:VEVENT
BEGIN:VEVENT
DTSTAMP:20260424T210235Z
DTSTART;VALUE=DATE:20200922
SUMMARY:SIGMOD 2021 Deadline
DESCRIPTION:International Conference on Management of Data (2nd Cycle)
URL:http://www.wikicfp.com/cfp/servlet/event.showcfp?eventid=109965&copyo
 wnerid=171042
UID:cfp906322-D@wikicfp.com
END:VEVENT
BEGIN:VEVENT
DTSTAMP:20260424T210235Z
DTSTART;VALUE=DATE:20201130
SUMMARY:SIGMOD 2021 Notification Due
DESCRIPTION:International Conference on Management of Data (2nd Cycle)
URL:http://www.wikicfp.com/cfp/servlet/event.showcfp?eventid=109965&copyo
 wnerid=171042
UID:cfp906322-N@wikicfp.com
END:VEVENT
BEGIN:VEVENT
DTSTAMP:20260424T210235Z
DTSTART;VALUE=DATE:20210323
DTEND;VALUE=DATE:20210327
SUMMARY:EDBT 2021
DESCRIPTION: 24th International Conference on Extending Database Technolo
 gy
URL:http://www.wikicfp.com/cfp/servlet/event.showcfp?eventid=115626&copyo
 wnerid=171042
UID:cfp906320-E@wikicfp.com
END:VEVENT
BEGIN:VEVENT
DTSTAMP:20260424T210235Z
DTSTART;VALUE=DATE:20201002
SUMMARY:EDBT 2021 Abstract Due
DESCRIPTION: 24th International Conference on Extending Database Technolo
 gy
URL:http://www.wikicfp.com/cfp/servlet/event.showcfp?eventid=115626&copyo
 wnerid=171042
UID:cfp906320-A@wikicfp.com
END:VEVENT
BEGIN:VEVENT
DTSTAMP:20260424T210235Z
DTSTART;VALUE=DATE:20201009
SUMMARY:EDBT 2021 Deadline
DESCRIPTION: 24th International Conference on Extending Database Technolo
 gy
URL:http://www.wikicfp.com/cfp/servlet/event.showcfp?eventid=115626&copyo
 wnerid=171042
UID:cfp906320-D@wikicfp.com
END:VEVENT
BEGIN:VEVENT
DTSTAMP:20260424T210235Z
DTSTART;VALUE=DATE:20201115
SUMMARY:EDBT 2021 Notification Due
DESCRIPTION: 24th International Conference on Extending Database Technolo
 gy
URL:http://www.wikicfp.com/cfp/servlet/event.showcfp?eventid=115626&copyo
 wnerid=171042
UID:cfp906320-N@wikicfp.com
END:VEVENT
BEGIN:VEVENT
DTSTAMP:20260424T210235Z
DTSTART;VALUE=DATE:20210208
SUMMARY:EDBT 2021 Final Version Due
DESCRIPTION: 24th International Conference on Extending Database Technolo
 gy
URL:http://www.wikicfp.com/cfp/servlet/event.showcfp?eventid=115626&copyo
 wnerid=171042
UID:cfp906320-N@wikicfp.com
END:VEVENT
BEGIN:VEVENT
DTSTAMP:20260424T210235Z
DTSTART;VALUE=DATE:20211101
DTEND;VALUE=DATE:20211106
SUMMARY:CIKM 2021
DESCRIPTION:Conference on Information and Knowledge Management
URL:http://www.wikicfp.com/cfp/servlet/event.showcfp?eventid=129660&copyo
 wnerid=171042
UID:cfp906319-E@wikicfp.com
END:VEVENT
BEGIN:VEVENT
DTSTAMP:20260424T210235Z
DTSTART;VALUE=DATE:20210519
SUMMARY:CIKM 2021 Abstract Due
DESCRIPTION:Conference on Information and Knowledge Management
URL:http://www.wikicfp.com/cfp/servlet/event.showcfp?eventid=129660&copyo
 wnerid=171042
UID:cfp906319-A@wikicfp.com
END:VEVENT
BEGIN:VEVENT
DTSTAMP:20260424T210235Z
DTSTART;VALUE=DATE:20210526
SUMMARY:CIKM 2021 Deadline
DESCRIPTION:Conference on Information and Knowledge Management
URL:http://www.wikicfp.com/cfp/servlet/event.showcfp?eventid=129660&copyo
 wnerid=171042
UID:cfp906319-D@wikicfp.com
END:VEVENT
BEGIN:VEVENT
DTSTAMP:20260424T210235Z
DTSTART;VALUE=DATE:20210809
SUMMARY:CIKM 2021 Notification Due
DESCRIPTION:Conference on Information and Knowledge Management
URL:http://www.wikicfp.com/cfp/servlet/event.showcfp?eventid=129660&copyo
 wnerid=171042
UID:cfp906319-N@wikicfp.com
END:VEVENT
BEGIN:VEVENT
DTSTAMP:20260424T210235Z
DTSTART;VALUE=DATE:20210823
SUMMARY:CIKM 2021 Final Version Due
DESCRIPTION:Conference on Information and Knowledge Management
URL:http://www.wikicfp.com/cfp/servlet/event.showcfp?eventid=129660&copyo
 wnerid=171042
UID:cfp906319-N@wikicfp.com
END:VEVENT
BEGIN:VEVENT
DTSTAMP:20260424T210235Z
DTSTART;VALUE=DATE:20220329
DTEND;VALUE=DATE:20220402
SUMMARY:EDBT 2022
DESCRIPTION:25th International Conference on Extending Database Technolog
 y
URL:http://www.wikicfp.com/cfp/servlet/event.showcfp?eventid=130865&copyo
 wnerid=171042
UID:cfp906321-E@wikicfp.com
END:VEVENT
BEGIN:VEVENT
DTSTAMP:20260424T210235Z
DTSTART;VALUE=DATE:20210601
SUMMARY:EDBT 2022 Deadline
DESCRIPTION:25th International Conference on Extending Database Technolog
 y
URL:http://www.wikicfp.com/cfp/servlet/event.showcfp?eventid=130865&copyo
 wnerid=171042
UID:cfp906321-D@wikicfp.com
END:VEVENT
BEGIN:VEVENT
DTSTAMP:20260424T210235Z
DTSTART;VALUE=DATE:20210801
SUMMARY:EDBT 2022 Notification Due
DESCRIPTION:25th International Conference on Extending Database Technolog
 y
URL:http://www.wikicfp.com/cfp/servlet/event.showcfp?eventid=130865&copyo
 wnerid=171042
UID:cfp906321-N@wikicfp.com
END:VEVENT
END:VCALENDAR
