BEGIN:VCALENDAR
PRODID:-//WikiCFP//mariette 1.0//EN
VERSION:2.0
CALSCALE:GREGORIAN
BEGIN:VEVENT
DTSTAMP:20260422T060555Z
DTSTART;VALUE=DATE:20110406
DTEND;VALUE=DATE:20110409
SUMMARY:DCAI 2011
DESCRIPTION:International Symposium on Distributed Computing and Artifici
 al Intelligence
URL:http://www.wikicfp.com/cfp/servlet/event.showcfp?eventid=11826&copyow
 nerid=17100
UID:cfp116744-E@wikicfp.com
END:VEVENT
BEGIN:VEVENT
DTSTAMP:20260422T060555Z
DTSTART;VALUE=DATE:20101031
SUMMARY:DCAI 2011 Deadline
DESCRIPTION:International Symposium on Distributed Computing and Artifici
 al Intelligence
URL:http://www.wikicfp.com/cfp/servlet/event.showcfp?eventid=11826&copyow
 nerid=17100
UID:cfp116744-D@wikicfp.com
END:VEVENT
BEGIN:VEVENT
DTSTAMP:20260422T060555Z
DTSTART;VALUE=DATE:20101128
SUMMARY:DCAI 2011 Notification Due
DESCRIPTION:International Symposium on Distributed Computing and Artifici
 al Intelligence
URL:http://www.wikicfp.com/cfp/servlet/event.showcfp?eventid=11826&copyow
 nerid=17100
UID:cfp116744-N@wikicfp.com
END:VEVENT
BEGIN:VEVENT
DTSTAMP:20260422T060555Z
DTSTART;VALUE=DATE:20101230
SUMMARY:DCAI 2011 Final Version Due
DESCRIPTION:International Symposium on Distributed Computing and Artifici
 al Intelligence
URL:http://www.wikicfp.com/cfp/servlet/event.showcfp?eventid=11826&copyow
 nerid=17100
UID:cfp116744-N@wikicfp.com
END:VEVENT
BEGIN:VEVENT
DTSTAMP:20260422T060555Z
DTSTART;VALUE=DATE:20110630
DTEND;VALUE=DATE:20110703
SUMMARY:CISIS 2011
DESCRIPTION:CISIS 2011 Track: Socially Inspired and Computational Intelli
 gence
URL:http://www.wikicfp.com/cfp/servlet/event.showcfp?eventid=11815&copyow
 nerid=17100
UID:cfp116745-E@wikicfp.com
END:VEVENT
BEGIN:VEVENT
DTSTAMP:20260422T060555Z
DTSTART;VALUE=DATE:20110325
SUMMARY:CISIS 2011 Abstract Due
DESCRIPTION:CISIS 2011 Track: Socially Inspired and Computational Intelli
 gence
URL:http://www.wikicfp.com/cfp/servlet/event.showcfp?eventid=11815&copyow
 nerid=17100
UID:cfp116745-A@wikicfp.com
END:VEVENT
BEGIN:VEVENT
DTSTAMP:20260422T060555Z
DTSTART;VALUE=DATE:20101201
SUMMARY:CISIS 2011 Deadline
DESCRIPTION:CISIS 2011 Track: Socially Inspired and Computational Intelli
 gence
URL:http://www.wikicfp.com/cfp/servlet/event.showcfp?eventid=11815&copyow
 nerid=17100
UID:cfp116745-D@wikicfp.com
END:VEVENT
BEGIN:VEVENT
DTSTAMP:20260422T060555Z
DTSTART;VALUE=DATE:20110215
SUMMARY:CISIS 2011 Notification Due
DESCRIPTION:CISIS 2011 Track: Socially Inspired and Computational Intelli
 gence
URL:http://www.wikicfp.com/cfp/servlet/event.showcfp?eventid=11815&copyow
 nerid=17100
UID:cfp116745-N@wikicfp.com
END:VEVENT
BEGIN:VEVENT
DTSTAMP:20260422T060555Z
DTSTART;VALUE=DATE:20110325
SUMMARY:CISIS 2011 Final Version Due
DESCRIPTION:CISIS 2011 Track: Socially Inspired and Computational Intelli
 gence
URL:http://www.wikicfp.com/cfp/servlet/event.showcfp?eventid=11815&copyow
 nerid=17100
UID:cfp116745-N@wikicfp.com
END:VEVENT
BEGIN:VEVENT
DTSTAMP:20260422T060555Z
DTSTART;VALUE=DATE:20110704
DTEND;VALUE=DATE:20110709
SUMMARY:HPCS 2011
DESCRIPTION:International Conference on High Performance Computing & Simu
 lation
URL:http://www.wikicfp.com/cfp/servlet/event.showcfp?eventid=11776&copyow
 nerid=17100
UID:cfp116746-E@wikicfp.com
END:VEVENT
BEGIN:VEVENT
DTSTAMP:20260422T060555Z
DTSTART;VALUE=DATE:20110111
SUMMARY:HPCS 2011 Deadline
DESCRIPTION:International Conference on High Performance Computing & Simu
 lation
URL:http://www.wikicfp.com/cfp/servlet/event.showcfp?eventid=11776&copyow
 nerid=17100
UID:cfp116746-D@wikicfp.com
END:VEVENT
BEGIN:VEVENT
DTSTAMP:20260422T060555Z
DTSTART;VALUE=DATE:20110314
SUMMARY:HPCS 2011 Notification Due
DESCRIPTION:International Conference on High Performance Computing & Simu
 lation
URL:http://www.wikicfp.com/cfp/servlet/event.showcfp?eventid=11776&copyow
 nerid=17100
UID:cfp116746-N@wikicfp.com
END:VEVENT
BEGIN:VEVENT
DTSTAMP:20260422T060555Z
DTSTART;VALUE=DATE:20110413
SUMMARY:HPCS 2011 Final Version Due
DESCRIPTION:International Conference on High Performance Computing & Simu
 lation
URL:http://www.wikicfp.com/cfp/servlet/event.showcfp?eventid=11776&copyow
 nerid=17100
UID:cfp116746-N@wikicfp.com
END:VEVENT
BEGIN:VEVENT
DTSTAMP:20260422T060555Z
DTSTART;VALUE=DATE:20110614
DTEND;VALUE=DATE:20110618
SUMMARY:ICANN 2011
DESCRIPTION:21st International Conference on Artificial Neural Networks
URL:http://www.wikicfp.com/cfp/servlet/event.showcfp?eventid=11830&copyow
 nerid=17100
UID:cfp116742-E@wikicfp.com
END:VEVENT
BEGIN:VEVENT
DTSTAMP:20260422T060555Z
DTSTART;VALUE=DATE:20110114
SUMMARY:ICANN 2011 Deadline
DESCRIPTION:21st International Conference on Artificial Neural Networks
URL:http://www.wikicfp.com/cfp/servlet/event.showcfp?eventid=11830&copyow
 nerid=17100
UID:cfp116742-D@wikicfp.com
END:VEVENT
BEGIN:VEVENT
DTSTAMP:20260422T060555Z
DTSTART;VALUE=DATE:20110724
DTEND;VALUE=DATE:20110729
SUMMARY:SIGIR 2011
DESCRIPTION:The 34th International ACM SIGIR Conference on Research and D
 evelopment in Information Retrieval
URL:http://www.wikicfp.com/cfp/servlet/event.showcfp?eventid=11874&copyow
 nerid=17100
UID:cfp116739-E@wikicfp.com
END:VEVENT
BEGIN:VEVENT
DTSTAMP:20260422T060555Z
DTSTART;VALUE=DATE:20110117
SUMMARY:SIGIR 2011 Abstract Due
DESCRIPTION:The 34th International ACM SIGIR Conference on Research and D
 evelopment in Information Retrieval
URL:http://www.wikicfp.com/cfp/servlet/event.showcfp?eventid=11874&copyow
 nerid=17100
UID:cfp116739-A@wikicfp.com
END:VEVENT
BEGIN:VEVENT
DTSTAMP:20260422T060555Z
DTSTART;VALUE=DATE:20110124
SUMMARY:SIGIR 2011 Deadline
DESCRIPTION:The 34th International ACM SIGIR Conference on Research and D
 evelopment in Information Retrieval
URL:http://www.wikicfp.com/cfp/servlet/event.showcfp?eventid=11874&copyow
 nerid=17100
UID:cfp116739-D@wikicfp.com
END:VEVENT
BEGIN:VEVENT
DTSTAMP:20260422T060555Z
DTSTART;VALUE=DATE:20110408
SUMMARY:SIGIR 2011 Notification Due
DESCRIPTION:The 34th International ACM SIGIR Conference on Research and D
 evelopment in Information Retrieval
URL:http://www.wikicfp.com/cfp/servlet/event.showcfp?eventid=11874&copyow
 nerid=17100
UID:cfp116739-N@wikicfp.com
END:VEVENT
BEGIN:VEVENT
DTSTAMP:20260422T060555Z
DTSTART;VALUE=DATE:20110521
DTEND;VALUE=DATE:20110523
SUMMARY:MSR 2011
DESCRIPTION:Mining Software Repositories
URL:http://www.wikicfp.com/cfp/servlet/event.showcfp?eventid=11939&copyow
 nerid=17100
UID:cfp116740-E@wikicfp.com
END:VEVENT
BEGIN:VEVENT
DTSTAMP:20260422T060555Z
DTSTART;VALUE=DATE:20110126
SUMMARY:MSR 2011 Deadline
DESCRIPTION:Mining Software Repositories
URL:http://www.wikicfp.com/cfp/servlet/event.showcfp?eventid=11939&copyow
 nerid=17100
UID:cfp116740-D@wikicfp.com
END:VEVENT
BEGIN:VEVENT
DTSTAMP:20260422T060555Z
DTSTART;VALUE=DATE:20110304
SUMMARY:MSR 2011 Notification Due
DESCRIPTION:Mining Software Repositories
URL:http://www.wikicfp.com/cfp/servlet/event.showcfp?eventid=11939&copyow
 nerid=17100
UID:cfp116740-N@wikicfp.com
END:VEVENT
BEGIN:VEVENT
DTSTAMP:20260422T060555Z
DTSTART;VALUE=DATE:20110325
SUMMARY:MSR 2011 Final Version Due
DESCRIPTION:Mining Software Repositories
URL:http://www.wikicfp.com/cfp/servlet/event.showcfp?eventid=11939&copyow
 nerid=17100
UID:cfp116740-N@wikicfp.com
END:VEVENT
BEGIN:VEVENT
DTSTAMP:20260422T060555Z
DTSTART;VALUE=DATE:20110606
DTEND;VALUE=DATE:20110610
SUMMARY:HT 2011
DESCRIPTION:22nd ACM Conference on Hypertext and Hypermedia
URL:http://www.wikicfp.com/cfp/servlet/event.showcfp?eventid=11875&copyow
 nerid=17100
UID:cfp116741-E@wikicfp.com
END:VEVENT
BEGIN:VEVENT
DTSTAMP:20260422T060555Z
DTSTART;VALUE=DATE:20110129
SUMMARY:HT 2011 Deadline
DESCRIPTION:22nd ACM Conference on Hypertext and Hypermedia
URL:http://www.wikicfp.com/cfp/servlet/event.showcfp?eventid=11875&copyow
 nerid=17100
UID:cfp116741-D@wikicfp.com
END:VEVENT
BEGIN:VEVENT
DTSTAMP:20260422T060555Z
DTSTART;VALUE=DATE:20110315
SUMMARY:HT 2011 Notification Due
DESCRIPTION:22nd ACM Conference on Hypertext and Hypermedia
URL:http://www.wikicfp.com/cfp/servlet/event.showcfp?eventid=11875&copyow
 nerid=17100
UID:cfp116741-N@wikicfp.com
END:VEVENT
BEGIN:VEVENT
DTSTAMP:20260422T060555Z
DTSTART;VALUE=DATE:20110706
DTEND;VALUE=DATE:20110710
SUMMARY:SMC 2011
DESCRIPTION:8th Sound and Music Computing Conference 
URL:http://www.wikicfp.com/cfp/servlet/event.showcfp?eventid=11828&copyow
 nerid=17100
UID:cfp116743-E@wikicfp.com
END:VEVENT
BEGIN:VEVENT
DTSTAMP:20260422T060555Z
DTSTART;VALUE=DATE:20110325
SUMMARY:SMC 2011 Deadline
DESCRIPTION:8th Sound and Music Computing Conference 
URL:http://www.wikicfp.com/cfp/servlet/event.showcfp?eventid=11828&copyow
 nerid=17100
UID:cfp116743-D@wikicfp.com
END:VEVENT
BEGIN:VEVENT
DTSTAMP:20260422T060555Z
DTSTART;VALUE=DATE:20110506
SUMMARY:SMC 2011 Notification Due
DESCRIPTION:8th Sound and Music Computing Conference 
URL:http://www.wikicfp.com/cfp/servlet/event.showcfp?eventid=11828&copyow
 nerid=17100
UID:cfp116743-N@wikicfp.com
END:VEVENT
BEGIN:VEVENT
DTSTAMP:20260422T060555Z
DTSTART;VALUE=DATE:20110520
SUMMARY:SMC 2011 Final Version Due
DESCRIPTION:8th Sound and Music Computing Conference 
URL:http://www.wikicfp.com/cfp/servlet/event.showcfp?eventid=11828&copyow
 nerid=17100
UID:cfp116743-N@wikicfp.com
END:VEVENT
END:VCALENDAR
