BEGIN:VCALENDAR
PRODID:-//WikiCFP//GerhardK90 1.0//EN
VERSION:2.0
CALSCALE:GREGORIAN
BEGIN:VEVENT
DTSTAMP:20260422T083808Z
DTSTART;VALUE=DATE:20220330
DTEND;VALUE=DATE:20220402
SUMMARY:AISTATS 2022
DESCRIPTION:25th International Conference on Artificial Intelligence and 
 Statistics
URL:http://www.wikicfp.com/cfp/servlet/event.showcfp?eventid=138697&copyo
 wnerid=170881
UID:cfp904787-E@wikicfp.com
END:VEVENT
BEGIN:VEVENT
DTSTAMP:20260422T083808Z
DTSTART;VALUE=DATE:20211008
SUMMARY:AISTATS 2022 Abstract Due
DESCRIPTION:25th International Conference on Artificial Intelligence and 
 Statistics
URL:http://www.wikicfp.com/cfp/servlet/event.showcfp?eventid=138697&copyo
 wnerid=170881
UID:cfp904787-A@wikicfp.com
END:VEVENT
BEGIN:VEVENT
DTSTAMP:20260422T083808Z
DTSTART;VALUE=DATE:20211015
SUMMARY:AISTATS 2022 Deadline
DESCRIPTION:25th International Conference on Artificial Intelligence and 
 Statistics
URL:http://www.wikicfp.com/cfp/servlet/event.showcfp?eventid=138697&copyo
 wnerid=170881
UID:cfp904787-D@wikicfp.com
END:VEVENT
BEGIN:VEVENT
DTSTAMP:20260422T083808Z
DTSTART;VALUE=DATE:20220118
SUMMARY:AISTATS 2022 Notification Due
DESCRIPTION:25th International Conference on Artificial Intelligence and 
 Statistics
URL:http://www.wikicfp.com/cfp/servlet/event.showcfp?eventid=138697&copyo
 wnerid=170881
UID:cfp904787-N@wikicfp.com
END:VEVENT
BEGIN:VEVENT
DTSTAMP:20260422T083808Z
DTSTART;VALUE=DATE:20220223
SUMMARY:AISTATS 2022 Final Version Due
DESCRIPTION:25th International Conference on Artificial Intelligence and 
 Statistics
URL:http://www.wikicfp.com/cfp/servlet/event.showcfp?eventid=138697&copyo
 wnerid=170881
UID:cfp904787-N@wikicfp.com
END:VEVENT
BEGIN:VEVENT
DTSTAMP:20260422T083808Z
DTSTART;VALUE=DATE:20220222
DTEND;VALUE=DATE:20220302
SUMMARY:FL-AAAI 2022
DESCRIPTION:International Workshop on Trustable\, Verifiable and Auditabl
 e Federated Learning in Conjunction with AAAI 2022
URL:http://www.wikicfp.com/cfp/servlet/event.showcfp?eventid=144308&copyo
 wnerid=170881
UID:cfp904792-E@wikicfp.com
END:VEVENT
BEGIN:VEVENT
DTSTAMP:20260422T083808Z
DTSTART;VALUE=DATE:20211112
SUMMARY:FL-AAAI 2022 Deadline
DESCRIPTION:International Workshop on Trustable\, Verifiable and Auditabl
 e Federated Learning in Conjunction with AAAI 2022
URL:http://www.wikicfp.com/cfp/servlet/event.showcfp?eventid=144308&copyo
 wnerid=170881
UID:cfp904792-D@wikicfp.com
END:VEVENT
BEGIN:VEVENT
DTSTAMP:20260422T083808Z
DTSTART;VALUE=DATE:20211203
SUMMARY:FL-AAAI 2022 Notification Due
DESCRIPTION:International Workshop on Trustable\, Verifiable and Auditabl
 e Federated Learning in Conjunction with AAAI 2022
URL:http://www.wikicfp.com/cfp/servlet/event.showcfp?eventid=144308&copyo
 wnerid=170881
UID:cfp904792-N@wikicfp.com
END:VEVENT
BEGIN:VEVENT
DTSTAMP:20260422T083808Z
DTSTART;VALUE=DATE:20220619
DTEND;VALUE=DATE:20220625
SUMMARY:CVPR 2022
DESCRIPTION:Computer Vision and Pattern Recognition
URL:http://www.wikicfp.com/cfp/servlet/event.showcfp?eventid=137738&copyo
 wnerid=170881
UID:cfp904794-E@wikicfp.com
END:VEVENT
BEGIN:VEVENT
DTSTAMP:20260422T083808Z
DTSTART;VALUE=DATE:20211109
SUMMARY:CVPR 2022 Abstract Due
DESCRIPTION:Computer Vision and Pattern Recognition
URL:http://www.wikicfp.com/cfp/servlet/event.showcfp?eventid=137738&copyo
 wnerid=170881
UID:cfp904794-A@wikicfp.com
END:VEVENT
BEGIN:VEVENT
DTSTAMP:20260422T083808Z
DTSTART;VALUE=DATE:20211116
SUMMARY:CVPR 2022 Deadline
DESCRIPTION:Computer Vision and Pattern Recognition
URL:http://www.wikicfp.com/cfp/servlet/event.showcfp?eventid=137738&copyo
 wnerid=170881
UID:cfp904794-D@wikicfp.com
END:VEVENT
BEGIN:VEVENT
DTSTAMP:20260422T083808Z
DTSTART;VALUE=DATE:20220302
SUMMARY:CVPR 2022 Notification Due
DESCRIPTION:Computer Vision and Pattern Recognition
URL:http://www.wikicfp.com/cfp/servlet/event.showcfp?eventid=137738&copyo
 wnerid=170881
UID:cfp904794-N@wikicfp.com
END:VEVENT
BEGIN:VEVENT
DTSTAMP:20260422T083808Z
DTSTART;VALUE=DATE:20211231
SUMMARY:JDSA SI 2021 Deadline
DESCRIPTION:Springer Journal Special Issue on Data Science for Next-Gener
 ation Recommender Systems
URL:http://www.wikicfp.com/cfp/servlet/event.showcfp?eventid=96265&copyow
 nerid=170881
UID:cfp904788-D@wikicfp.com
END:VEVENT
BEGIN:VEVENT
DTSTAMP:20260422T083808Z
DTSTART;VALUE=DATE:20220115
SUMMARY:Intelligence for Engineering 2022 Deadline
DESCRIPTION:ASME JCISE Special Issue on Machine Intelligence for Engineer
 ing under Uncertainties
URL:http://www.wikicfp.com/cfp/servlet/event.showcfp?eventid=138224&copyo
 wnerid=170881
UID:cfp904790-D@wikicfp.com
END:VEVENT
BEGIN:VEVENT
DTSTAMP:20260422T083808Z
DTSTART;VALUE=DATE:20220615
SUMMARY:Intelligence for Engineering 2022 Notification Due
DESCRIPTION:ASME JCISE Special Issue on Machine Intelligence for Engineer
 ing under Uncertainties
URL:http://www.wikicfp.com/cfp/servlet/event.showcfp?eventid=138224&copyo
 wnerid=170881
UID:cfp904790-N@wikicfp.com
END:VEVENT
BEGIN:VEVENT
DTSTAMP:20260422T083808Z
DTSTART;VALUE=DATE:20220607
DTEND;VALUE=DATE:20220611
SUMMARY:ICPRS 2022
DESCRIPTION:12th International Conference on Pattern Recognition Systems
URL:http://www.wikicfp.com/cfp/servlet/event.showcfp?eventid=138787&copyo
 wnerid=170881
UID:cfp904791-E@wikicfp.com
END:VEVENT
BEGIN:VEVENT
DTSTAMP:20260422T083808Z
DTSTART;VALUE=DATE:20220123
SUMMARY:ICPRS 2022 Deadline
DESCRIPTION:12th International Conference on Pattern Recognition Systems
URL:http://www.wikicfp.com/cfp/servlet/event.showcfp?eventid=138787&copyo
 wnerid=170881
UID:cfp904791-D@wikicfp.com
END:VEVENT
BEGIN:VEVENT
DTSTAMP:20260422T083808Z
DTSTART;VALUE=DATE:20220310
SUMMARY:ICPRS 2022 Notification Due
DESCRIPTION:12th International Conference on Pattern Recognition Systems
URL:http://www.wikicfp.com/cfp/servlet/event.showcfp?eventid=138787&copyo
 wnerid=170881
UID:cfp904791-N@wikicfp.com
END:VEVENT
BEGIN:VEVENT
DTSTAMP:20260422T083808Z
DTSTART;VALUE=DATE:20220407
SUMMARY:ICPRS 2022 Final Version Due
DESCRIPTION:12th International Conference on Pattern Recognition Systems
URL:http://www.wikicfp.com/cfp/servlet/event.showcfp?eventid=138787&copyo
 wnerid=170881
UID:cfp904791-N@wikicfp.com
END:VEVENT
BEGIN:VEVENT
DTSTAMP:20260422T083808Z
DTSTART;VALUE=DATE:20230922
DTEND;VALUE=DATE:20230925
SUMMARY:WSPML 2023
DESCRIPTION:2023 4th International Workshop on Signal Processing and Mach
 ine Learning (WSPML 2023)
URL:http://www.wikicfp.com/cfp/servlet/event.showcfp?eventid=100409&copyo
 wnerid=170881
UID:cfp904789-E@wikicfp.com
END:VEVENT
BEGIN:VEVENT
DTSTAMP:20260422T083808Z
DTSTART;VALUE=DATE:20230820
SUMMARY:WSPML 2023 Deadline
DESCRIPTION:2023 4th International Workshop on Signal Processing and Mach
 ine Learning (WSPML 2023)
URL:http://www.wikicfp.com/cfp/servlet/event.showcfp?eventid=100409&copyo
 wnerid=170881
UID:cfp904789-D@wikicfp.com
END:VEVENT
BEGIN:VEVENT
DTSTAMP:20260422T083808Z
DTSTART;VALUE=DATE:20230820
SUMMARY:WSPML 2023 Notification Due
DESCRIPTION:2023 4th International Workshop on Signal Processing and Mach
 ine Learning (WSPML 2023)
URL:http://www.wikicfp.com/cfp/servlet/event.showcfp?eventid=100409&copyo
 wnerid=170881
UID:cfp904789-N@wikicfp.com
END:VEVENT
BEGIN:VEVENT
DTSTAMP:20260422T083808Z
DTSTART;VALUE=DATE:20230820
SUMMARY:WSPML 2023 Final Version Due
DESCRIPTION:2023 4th International Workshop on Signal Processing and Mach
 ine Learning (WSPML 2023)
URL:http://www.wikicfp.com/cfp/servlet/event.showcfp?eventid=100409&copyo
 wnerid=170881
UID:cfp904789-N@wikicfp.com
END:VEVENT
END:VCALENDAR
