BEGIN:VCALENDAR
PRODID:-//WikiCFP//Dongbohuang 1.0//EN
VERSION:2.0
CALSCALE:GREGORIAN
BEGIN:VEVENT
DTSTAMP:20260421T230212Z
DTSTART;VALUE=DATE:20210711
DTEND;VALUE=DATE:20210716
SUMMARY:SIGIR 2021
DESCRIPTION:The 44th International ACM SIGIR Conference on Research and D
 evelopment in Information Retrieval
URL:http://www.wikicfp.com/cfp/servlet/event.showcfp?eventid=117755&copyo
 wnerid=170700
UID:cfp902732-E@wikicfp.com
END:VEVENT
BEGIN:VEVENT
DTSTAMP:20260421T230212Z
DTSTART;VALUE=DATE:20210202
SUMMARY:SIGIR 2021 Abstract Due
DESCRIPTION:The 44th International ACM SIGIR Conference on Research and D
 evelopment in Information Retrieval
URL:http://www.wikicfp.com/cfp/servlet/event.showcfp?eventid=117755&copyo
 wnerid=170700
UID:cfp902732-A@wikicfp.com
END:VEVENT
BEGIN:VEVENT
DTSTAMP:20260421T230212Z
DTSTART;VALUE=DATE:20210209
SUMMARY:SIGIR 2021 Deadline
DESCRIPTION:The 44th International ACM SIGIR Conference on Research and D
 evelopment in Information Retrieval
URL:http://www.wikicfp.com/cfp/servlet/event.showcfp?eventid=117755&copyo
 wnerid=170700
UID:cfp902732-D@wikicfp.com
END:VEVENT
BEGIN:VEVENT
DTSTAMP:20260421T230212Z
DTSTART;VALUE=DATE:20210419
SUMMARY:SIGIR 2021 Notification Due
DESCRIPTION:The 44th International ACM SIGIR Conference on Research and D
 evelopment in Information Retrieval
URL:http://www.wikicfp.com/cfp/servlet/event.showcfp?eventid=117755&copyo
 wnerid=170700
UID:cfp902732-N@wikicfp.com
END:VEVENT
END:VCALENDAR
