BEGIN:VCALENDAR
PRODID:-//WikiCFP//Dragon1008 1.0//EN
VERSION:2.0
CALSCALE:GREGORIAN
BEGIN:VEVENT
DTSTAMP:20260425T103227Z
DTSTART;VALUE=DATE:20210719
DTEND;VALUE=DATE:20210722
SUMMARY:ITISE 2021
DESCRIPTION:7th International Conference on Time Series and Forecasting (
 ITISE 2021)
URL:http://www.wikicfp.com/cfp/servlet/event.showcfp?eventid=118949&copyo
 wnerid=170600
UID:cfp901569-E@wikicfp.com
END:VEVENT
BEGIN:VEVENT
DTSTAMP:20260425T103227Z
DTSTART;VALUE=DATE:20210215
SUMMARY:ITISE 2021 Deadline
DESCRIPTION:7th International Conference on Time Series and Forecasting (
 ITISE 2021)
URL:http://www.wikicfp.com/cfp/servlet/event.showcfp?eventid=118949&copyo
 wnerid=170600
UID:cfp901569-D@wikicfp.com
END:VEVENT
BEGIN:VEVENT
DTSTAMP:20260425T103227Z
DTSTART;VALUE=DATE:20210405
SUMMARY:ITISE 2021 Notification Due
DESCRIPTION:7th International Conference on Time Series and Forecasting (
 ITISE 2021)
URL:http://www.wikicfp.com/cfp/servlet/event.showcfp?eventid=118949&copyo
 wnerid=170600
UID:cfp901569-N@wikicfp.com
END:VEVENT
BEGIN:VEVENT
DTSTAMP:20260425T103227Z
DTSTART;VALUE=DATE:20210515
SUMMARY:ITISE 2021 Final Version Due
DESCRIPTION:7th International Conference on Time Series and Forecasting (
 ITISE 2021)
URL:http://www.wikicfp.com/cfp/servlet/event.showcfp?eventid=118949&copyo
 wnerid=170600
UID:cfp901569-N@wikicfp.com
END:VEVENT
END:VCALENDAR
