BEGIN:VCALENDAR
PRODID:-//WikiCFP//vocoda 1.0//EN
VERSION:2.0
CALSCALE:GREGORIAN
BEGIN:VEVENT
DTSTAMP:20260424T142630Z
DTSTART;VALUE=DATE:20210927
DTEND;VALUE=DATE:20211002
SUMMARY:IROS 2021
DESCRIPTION:International Conference on Intelligent Robots and Systems
URL:http://www.wikicfp.com/cfp/servlet/event.showcfp?eventid=115617&copyo
 wnerid=170494
UID:cfp900528-E@wikicfp.com
END:VEVENT
BEGIN:VEVENT
DTSTAMP:20260424T142630Z
DTSTART;VALUE=DATE:20210301
SUMMARY:IROS 2021 Deadline
DESCRIPTION:International Conference on Intelligent Robots and Systems
URL:http://www.wikicfp.com/cfp/servlet/event.showcfp?eventid=115617&copyo
 wnerid=170494
UID:cfp900528-D@wikicfp.com
END:VEVENT
BEGIN:VEVENT
DTSTAMP:20260424T142630Z
DTSTART;VALUE=DATE:20210808
DTEND;VALUE=DATE:20210813
SUMMARY:RO-MAN 2021
DESCRIPTION:Robot and Human Interactive Communication
URL:http://www.wikicfp.com/cfp/servlet/event.showcfp?eventid=139568&copyo
 wnerid=170494
UID:cfp900517-E@wikicfp.com
END:VEVENT
BEGIN:VEVENT
DTSTAMP:20260424T142630Z
DTSTART;VALUE=DATE:20210406
SUMMARY:RO-MAN 2021 Deadline
DESCRIPTION:Robot and Human Interactive Communication
URL:http://www.wikicfp.com/cfp/servlet/event.showcfp?eventid=139568&copyo
 wnerid=170494
UID:cfp900517-D@wikicfp.com
END:VEVENT
BEGIN:VEVENT
DTSTAMP:20260424T142630Z
DTSTART;VALUE=DATE:20210610
SUMMARY:RO-MAN 2021 Notification Due
DESCRIPTION:Robot and Human Interactive Communication
URL:http://www.wikicfp.com/cfp/servlet/event.showcfp?eventid=139568&copyo
 wnerid=170494
UID:cfp900517-N@wikicfp.com
END:VEVENT
BEGIN:VEVENT
DTSTAMP:20260424T142630Z
DTSTART;VALUE=DATE:20210702
SUMMARY:RO-MAN 2021 Final Version Due
DESCRIPTION:Robot and Human Interactive Communication
URL:http://www.wikicfp.com/cfp/servlet/event.showcfp?eventid=139568&copyo
 wnerid=170494
UID:cfp900517-N@wikicfp.com
END:VEVENT
BEGIN:VEVENT
DTSTAMP:20260424T142630Z
DTSTART;VALUE=DATE:20210721
DTEND;VALUE=DATE:20210724
SUMMARY:IHCI 2021
DESCRIPTION:15th International Conference on Interfaces and Human Compute
 r Interaction 2021
URL:http://www.wikicfp.com/cfp/servlet/event.showcfp?eventid=122820&copyo
 wnerid=170494
UID:cfp900510-E@wikicfp.com
END:VEVENT
BEGIN:VEVENT
DTSTAMP:20260424T142630Z
DTSTART;VALUE=DATE:20210528
SUMMARY:IHCI 2021 Deadline
DESCRIPTION:15th International Conference on Interfaces and Human Compute
 r Interaction 2021
URL:http://www.wikicfp.com/cfp/servlet/event.showcfp?eventid=122820&copyo
 wnerid=170494
UID:cfp900510-D@wikicfp.com
END:VEVENT
BEGIN:VEVENT
DTSTAMP:20260424T142630Z
DTSTART;VALUE=DATE:20210618
SUMMARY:IHCI 2021 Notification Due
DESCRIPTION:15th International Conference on Interfaces and Human Compute
 r Interaction 2021
URL:http://www.wikicfp.com/cfp/servlet/event.showcfp?eventid=122820&copyo
 wnerid=170494
UID:cfp900510-N@wikicfp.com
END:VEVENT
BEGIN:VEVENT
DTSTAMP:20260424T142630Z
DTSTART;VALUE=DATE:20210630
SUMMARY:IHCI 2021 Final Version Due
DESCRIPTION:15th International Conference on Interfaces and Human Compute
 r Interaction 2021
URL:http://www.wikicfp.com/cfp/servlet/event.showcfp?eventid=122820&copyo
 wnerid=170494
UID:cfp900510-N@wikicfp.com
END:VEVENT
BEGIN:VEVENT
DTSTAMP:20260424T142630Z
DTSTART;VALUE=DATE:20211216
DTEND;VALUE=DATE:20211218
SUMMARY:RiTA 2021
DESCRIPTION:9th International Conference on Robot Intelligence Technology
  and Applications
URL:http://www.wikicfp.com/cfp/servlet/event.showcfp?eventid=130273&copyo
 wnerid=170494
UID:cfp900524-E@wikicfp.com
END:VEVENT
BEGIN:VEVENT
DTSTAMP:20260424T142630Z
DTSTART;VALUE=DATE:20210731
SUMMARY:RiTA 2021 Abstract Due
DESCRIPTION:9th International Conference on Robot Intelligence Technology
  and Applications
URL:http://www.wikicfp.com/cfp/servlet/event.showcfp?eventid=130273&copyo
 wnerid=170494
UID:cfp900524-A@wikicfp.com
END:VEVENT
BEGIN:VEVENT
DTSTAMP:20260424T142630Z
DTSTART;VALUE=DATE:20210815
SUMMARY:RiTA 2021 Deadline
DESCRIPTION:9th International Conference on Robot Intelligence Technology
  and Applications
URL:http://www.wikicfp.com/cfp/servlet/event.showcfp?eventid=130273&copyo
 wnerid=170494
UID:cfp900524-D@wikicfp.com
END:VEVENT
BEGIN:VEVENT
DTSTAMP:20260424T142630Z
DTSTART;VALUE=DATE:20210930
SUMMARY:RiTA 2021 Notification Due
DESCRIPTION:9th International Conference on Robot Intelligence Technology
  and Applications
URL:http://www.wikicfp.com/cfp/servlet/event.showcfp?eventid=130273&copyo
 wnerid=170494
UID:cfp900524-N@wikicfp.com
END:VEVENT
BEGIN:VEVENT
DTSTAMP:20260424T142630Z
DTSTART;VALUE=DATE:20211031
SUMMARY:RiTA 2021 Final Version Due
DESCRIPTION:9th International Conference on Robot Intelligence Technology
  and Applications
URL:http://www.wikicfp.com/cfp/servlet/event.showcfp?eventid=130273&copyo
 wnerid=170494
UID:cfp900524-N@wikicfp.com
END:VEVENT
BEGIN:VEVENT
DTSTAMP:20260424T142630Z
DTSTART;VALUE=DATE:20220615
DTEND;VALUE=DATE:20220618
SUMMARY:ICSR 2022
DESCRIPTION:20th International Conference on Software and Systems Reuse
URL:http://www.wikicfp.com/cfp/servlet/event.showcfp?eventid=138783&copyo
 wnerid=170494
UID:cfp900527-E@wikicfp.com
END:VEVENT
BEGIN:VEVENT
DTSTAMP:20260424T142630Z
DTSTART;VALUE=DATE:20220107
SUMMARY:ICSR 2022 Abstract Due
DESCRIPTION:20th International Conference on Software and Systems Reuse
URL:http://www.wikicfp.com/cfp/servlet/event.showcfp?eventid=138783&copyo
 wnerid=170494
UID:cfp900527-A@wikicfp.com
END:VEVENT
BEGIN:VEVENT
DTSTAMP:20260424T142630Z
DTSTART;VALUE=DATE:20220121
SUMMARY:ICSR 2022 Deadline
DESCRIPTION:20th International Conference on Software and Systems Reuse
URL:http://www.wikicfp.com/cfp/servlet/event.showcfp?eventid=138783&copyo
 wnerid=170494
UID:cfp900527-D@wikicfp.com
END:VEVENT
BEGIN:VEVENT
DTSTAMP:20260424T142630Z
DTSTART;VALUE=DATE:20220306
SUMMARY:ICSR 2022 Notification Due
DESCRIPTION:20th International Conference on Software and Systems Reuse
URL:http://www.wikicfp.com/cfp/servlet/event.showcfp?eventid=138783&copyo
 wnerid=170494
UID:cfp900527-N@wikicfp.com
END:VEVENT
BEGIN:VEVENT
DTSTAMP:20260424T142630Z
DTSTART;VALUE=DATE:20220327
SUMMARY:ICSR 2022 Final Version Due
DESCRIPTION:20th International Conference on Software and Systems Reuse
URL:http://www.wikicfp.com/cfp/servlet/event.showcfp?eventid=138783&copyo
 wnerid=170494
UID:cfp900527-N@wikicfp.com
END:VEVENT
END:VCALENDAR
