BEGIN:VCALENDAR
PRODID:-//WikiCFP//brutti 1.0//EN
VERSION:2.0
CALSCALE:GREGORIAN
BEGIN:VEVENT
DTSTAMP:20260421T041429Z
DTSTART;VALUE=DATE:20210805
DTEND;VALUE=DATE:20210807
SUMMARY:LChange 2021
DESCRIPTION:2nd International Workshop on Computational Approaches to His
 torical Language Change 2021 (ACL 2021)
URL:http://www.wikicfp.com/cfp/servlet/event.showcfp?eventid=126868&copyo
 wnerid=170282
UID:cfp897094-E@wikicfp.com
END:VEVENT
BEGIN:VEVENT
DTSTAMP:20260421T041429Z
DTSTART;VALUE=DATE:20210801
DTEND;VALUE=DATE:20210807
SUMMARY:ACL-IJCNLP 2021
DESCRIPTION:59t Annual Meeting of the Association for Computational Lingu
 istcs and the 10th International Joint Conference on Natural Language Pr
 ocessing
URL:http://www.wikicfp.com/cfp/servlet/event.showcfp?eventid=114757&copyo
 wnerid=170282
UID:cfp897092-E@wikicfp.com
END:VEVENT
BEGIN:VEVENT
DTSTAMP:20260421T041429Z
DTSTART;VALUE=DATE:20210201
SUMMARY:ACL-IJCNLP 2021 Deadline
DESCRIPTION:59t Annual Meeting of the Association for Computational Lingu
 istcs and the 10th International Joint Conference on Natural Language Pr
 ocessing
URL:http://www.wikicfp.com/cfp/servlet/event.showcfp?eventid=114757&copyo
 wnerid=170282
UID:cfp897092-D@wikicfp.com
END:VEVENT
BEGIN:VEVENT
DTSTAMP:20260421T041429Z
DTSTART;VALUE=DATE:20210505
SUMMARY:ACL-IJCNLP 2021 Notification Due
DESCRIPTION:59t Annual Meeting of the Association for Computational Lingu
 istcs and the 10th International Joint Conference on Natural Language Pr
 ocessing
URL:http://www.wikicfp.com/cfp/servlet/event.showcfp?eventid=114757&copyo
 wnerid=170282
UID:cfp897092-N@wikicfp.com
END:VEVENT
BEGIN:VEVENT
DTSTAMP:20260421T041429Z
DTSTART;VALUE=DATE:20210601
SUMMARY:ACL-IJCNLP 2021 Final Version Due
DESCRIPTION:59t Annual Meeting of the Association for Computational Lingu
 istcs and the 10th International Joint Conference on Natural Language Pr
 ocessing
URL:http://www.wikicfp.com/cfp/servlet/event.showcfp?eventid=114757&copyo
 wnerid=170282
UID:cfp897092-N@wikicfp.com
END:VEVENT
BEGIN:VEVENT
DTSTAMP:20260421T041429Z
DTSTART;VALUE=DATE:20210311
SUMMARY:MALVS 2021 Deadline
DESCRIPTION:Modern and ancient languages: Differences and similarities in
  studying verbal semantics
URL:http://www.wikicfp.com/cfp/servlet/event.showcfp?eventid=125061&copyo
 wnerid=170282
UID:cfp897095-D@wikicfp.com
END:VEVENT
BEGIN:VEVENT
DTSTAMP:20260421T041429Z
DTSTART;VALUE=DATE:20210331
SUMMARY:MALVS 2021 Notification Due
DESCRIPTION:Modern and ancient languages: Differences and similarities in
  studying verbal semantics
URL:http://www.wikicfp.com/cfp/servlet/event.showcfp?eventid=125061&copyo
 wnerid=170282
UID:cfp897095-N@wikicfp.com
END:VEVENT
BEGIN:VEVENT
DTSTAMP:20260421T041429Z
DTSTART;VALUE=DATE:20210731
SUMMARY:MALVS 2021 Final Version Due
DESCRIPTION:Modern and ancient languages: Differences and similarities in
  studying verbal semantics
URL:http://www.wikicfp.com/cfp/servlet/event.showcfp?eventid=125061&copyo
 wnerid=170282
UID:cfp897095-N@wikicfp.com
END:VEVENT
BEGIN:VEVENT
DTSTAMP:20260421T041429Z
DTSTART;VALUE=DATE:20210614
DTEND;VALUE=DATE:20210602
SUMMARY:IWCS 2021
DESCRIPTION:14th International Conference on Computational Semantics
URL:http://www.wikicfp.com/cfp/servlet/event.showcfp?eventid=126177&copyo
 wnerid=170282
UID:cfp897096-E@wikicfp.com
END:VEVENT
BEGIN:VEVENT
DTSTAMP:20260421T041429Z
DTSTART;VALUE=DATE:20210312
SUMMARY:IWCS 2021 Deadline
DESCRIPTION:14th International Conference on Computational Semantics
URL:http://www.wikicfp.com/cfp/servlet/event.showcfp?eventid=126177&copyo
 wnerid=170282
UID:cfp897096-D@wikicfp.com
END:VEVENT
BEGIN:VEVENT
DTSTAMP:20260421T041429Z
DTSTART;VALUE=DATE:20210416
SUMMARY:IWCS 2021 Notification Due
DESCRIPTION:14th International Conference on Computational Semantics
URL:http://www.wikicfp.com/cfp/servlet/event.showcfp?eventid=126177&copyo
 wnerid=170282
UID:cfp897096-N@wikicfp.com
END:VEVENT
BEGIN:VEVENT
DTSTAMP:20260421T041429Z
DTSTART;VALUE=DATE:20210507
SUMMARY:IWCS 2021 Final Version Due
DESCRIPTION:14th International Conference on Computational Semantics
URL:http://www.wikicfp.com/cfp/servlet/event.showcfp?eventid=126177&copyo
 wnerid=170282
UID:cfp897096-N@wikicfp.com
END:VEVENT
BEGIN:VEVENT
DTSTAMP:20260421T041429Z
DTSTART;VALUE=DATE:20210805
DTEND;VALUE=DATE:20210807
SUMMARY:STARSEM 2021
DESCRIPTION:THE TENTH JOINT CONFERENCE ON LEXICAL AND COMPUTATIONAL SEMAN
 TICS
URL:http://www.wikicfp.com/cfp/servlet/event.showcfp?eventid=122323&copyo
 wnerid=170282
UID:cfp897091-E@wikicfp.com
END:VEVENT
BEGIN:VEVENT
DTSTAMP:20260421T041429Z
DTSTART;VALUE=DATE:20210407
SUMMARY:STARSEM 2021 Deadline
DESCRIPTION:THE TENTH JOINT CONFERENCE ON LEXICAL AND COMPUTATIONAL SEMAN
 TICS
URL:http://www.wikicfp.com/cfp/servlet/event.showcfp?eventid=122323&copyo
 wnerid=170282
UID:cfp897091-D@wikicfp.com
END:VEVENT
BEGIN:VEVENT
DTSTAMP:20260421T041429Z
DTSTART;VALUE=DATE:20210528
SUMMARY:STARSEM 2021 Notification Due
DESCRIPTION:THE TENTH JOINT CONFERENCE ON LEXICAL AND COMPUTATIONAL SEMAN
 TICS
URL:http://www.wikicfp.com/cfp/servlet/event.showcfp?eventid=122323&copyo
 wnerid=170282
UID:cfp897091-N@wikicfp.com
END:VEVENT
BEGIN:VEVENT
DTSTAMP:20260421T041429Z
DTSTART;VALUE=DATE:20210805
DTEND;VALUE=DATE:20210807
SUMMARY:RepL4NLP 2021
DESCRIPTION:Call for Papers - Workshop on Representation Learning for NLP
  (RepL4NLP) at ACL 2021
URL:http://www.wikicfp.com/cfp/servlet/event.showcfp?eventid=122656&copyo
 wnerid=170282
UID:cfp897093-E@wikicfp.com
END:VEVENT
BEGIN:VEVENT
DTSTAMP:20260421T041429Z
DTSTART;VALUE=DATE:20210426
SUMMARY:RepL4NLP 2021 Deadline
DESCRIPTION:Call for Papers - Workshop on Representation Learning for NLP
  (RepL4NLP) at ACL 2021
URL:http://www.wikicfp.com/cfp/servlet/event.showcfp?eventid=122656&copyo
 wnerid=170282
UID:cfp897093-D@wikicfp.com
END:VEVENT
BEGIN:VEVENT
DTSTAMP:20260421T041429Z
DTSTART;VALUE=DATE:20210528
SUMMARY:RepL4NLP 2021 Notification Due
DESCRIPTION:Call for Papers - Workshop on Representation Learning for NLP
  (RepL4NLP) at ACL 2021
URL:http://www.wikicfp.com/cfp/servlet/event.showcfp?eventid=122656&copyo
 wnerid=170282
UID:cfp897093-N@wikicfp.com
END:VEVENT
BEGIN:VEVENT
DTSTAMP:20260421T041429Z
DTSTART;VALUE=DATE:20210607
SUMMARY:RepL4NLP 2021 Final Version Due
DESCRIPTION:Call for Papers - Workshop on Representation Learning for NLP
  (RepL4NLP) at ACL 2021
URL:http://www.wikicfp.com/cfp/servlet/event.showcfp?eventid=122656&copyo
 wnerid=170282
UID:cfp897093-N@wikicfp.com
END:VEVENT
END:VCALENDAR
