BEGIN:VCALENDAR
PRODID:-//WikiCFP//ThomasCassimon 1.0//EN
VERSION:2.0
CALSCALE:GREGORIAN
BEGIN:VEVENT
DTSTAMP:20260420T063951Z
DTSTART;VALUE=DATE:20211123
DTEND;VALUE=DATE:20211127
SUMMARY:GCA 2021
DESCRIPTION:The Sixth International Workshop on GPU Computing and AI
URL:http://www.wikicfp.com/cfp/servlet/event.showcfp?eventid=137439&copyo
 wnerid=169967
UID:cfp893876-E@wikicfp.com
END:VEVENT
BEGIN:VEVENT
DTSTAMP:20260420T063951Z
DTSTART;VALUE=DATE:20210805
SUMMARY:GCA 2021 Abstract Due
DESCRIPTION:The Sixth International Workshop on GPU Computing and AI
URL:http://www.wikicfp.com/cfp/servlet/event.showcfp?eventid=137439&copyo
 wnerid=169967
UID:cfp893876-A@wikicfp.com
END:VEVENT
BEGIN:VEVENT
DTSTAMP:20260420T063951Z
DTSTART;VALUE=DATE:20210810
SUMMARY:GCA 2021 Deadline
DESCRIPTION:The Sixth International Workshop on GPU Computing and AI
URL:http://www.wikicfp.com/cfp/servlet/event.showcfp?eventid=137439&copyo
 wnerid=169967
UID:cfp893876-D@wikicfp.com
END:VEVENT
BEGIN:VEVENT
DTSTAMP:20260420T063951Z
DTSTART;VALUE=DATE:20211001
SUMMARY:GCA 2021 Notification Due
DESCRIPTION:The Sixth International Workshop on GPU Computing and AI
URL:http://www.wikicfp.com/cfp/servlet/event.showcfp?eventid=137439&copyo
 wnerid=169967
UID:cfp893876-N@wikicfp.com
END:VEVENT
BEGIN:VEVENT
DTSTAMP:20260420T063951Z
DTSTART;VALUE=DATE:20211018
SUMMARY:GCA 2021 Final Version Due
DESCRIPTION:The Sixth International Workshop on GPU Computing and AI
URL:http://www.wikicfp.com/cfp/servlet/event.showcfp?eventid=137439&copyo
 wnerid=169967
UID:cfp893876-N@wikicfp.com
END:VEVENT
BEGIN:VEVENT
DTSTAMP:20260420T063951Z
DTSTART;VALUE=DATE:20220222
DTEND;VALUE=DATE:20220302
SUMMARY:AAAI 2022
DESCRIPTION:The Thirty-Sixth AAAI Conference on Artificial Intelligence
URL:http://www.wikicfp.com/cfp/servlet/event.showcfp?eventid=137565&copyo
 wnerid=169967
UID:cfp893874-E@wikicfp.com
END:VEVENT
BEGIN:VEVENT
DTSTAMP:20260420T063951Z
DTSTART;VALUE=DATE:20210830
SUMMARY:AAAI 2022 Abstract Due
DESCRIPTION:The Thirty-Sixth AAAI Conference on Artificial Intelligence
URL:http://www.wikicfp.com/cfp/servlet/event.showcfp?eventid=137565&copyo
 wnerid=169967
UID:cfp893874-A@wikicfp.com
END:VEVENT
BEGIN:VEVENT
DTSTAMP:20260420T063951Z
DTSTART;VALUE=DATE:20210908
SUMMARY:AAAI 2022 Deadline
DESCRIPTION:The Thirty-Sixth AAAI Conference on Artificial Intelligence
URL:http://www.wikicfp.com/cfp/servlet/event.showcfp?eventid=137565&copyo
 wnerid=169967
UID:cfp893874-D@wikicfp.com
END:VEVENT
BEGIN:VEVENT
DTSTAMP:20260420T063951Z
DTSTART;VALUE=DATE:20211129
SUMMARY:AAAI 2022 Notification Due
DESCRIPTION:The Thirty-Sixth AAAI Conference on Artificial Intelligence
URL:http://www.wikicfp.com/cfp/servlet/event.showcfp?eventid=137565&copyo
 wnerid=169967
UID:cfp893874-N@wikicfp.com
END:VEVENT
BEGIN:VEVENT
DTSTAMP:20260420T063951Z
DTSTART;VALUE=DATE:20220425
DTEND;VALUE=DATE:20220430
SUMMARY:ICLR 2022
DESCRIPTION:The Tenth International Conference on Learning Representation
 s
URL:http://www.wikicfp.com/cfp/servlet/event.showcfp?eventid=137564&copyo
 wnerid=169967
UID:cfp893873-E@wikicfp.com
END:VEVENT
BEGIN:VEVENT
DTSTAMP:20260420T063951Z
DTSTART;VALUE=DATE:20210929
SUMMARY:ICLR 2022 Abstract Due
DESCRIPTION:The Tenth International Conference on Learning Representation
 s
URL:http://www.wikicfp.com/cfp/servlet/event.showcfp?eventid=137564&copyo
 wnerid=169967
UID:cfp893873-A@wikicfp.com
END:VEVENT
BEGIN:VEVENT
DTSTAMP:20260420T063951Z
DTSTART;VALUE=DATE:20211006
SUMMARY:ICLR 2022 Deadline
DESCRIPTION:The Tenth International Conference on Learning Representation
 s
URL:http://www.wikicfp.com/cfp/servlet/event.showcfp?eventid=137564&copyo
 wnerid=169967
UID:cfp893873-D@wikicfp.com
END:VEVENT
BEGIN:VEVENT
DTSTAMP:20260420T063951Z
DTSTART;VALUE=DATE:20220124
SUMMARY:ICLR 2022 Notification Due
DESCRIPTION:The Tenth International Conference on Learning Representation
 s
URL:http://www.wikicfp.com/cfp/servlet/event.showcfp?eventid=137564&copyo
 wnerid=169967
UID:cfp893873-N@wikicfp.com
END:VEVENT
BEGIN:VEVENT
DTSTAMP:20260420T063951Z
DTSTART;VALUE=DATE:20220218
DTEND;VALUE=DATE:20220221
SUMMARY:ACM--ICMLC--Ei and Scopus 2022
DESCRIPTION:ACM--2022 14th International Conference on Machine Learning a
 nd Computing (ICMLC 2022)--Ei Compendex\, Scopus
URL:http://www.wikicfp.com/cfp/servlet/event.showcfp?eventid=136936&copyo
 wnerid=169967
UID:cfp893877-E@wikicfp.com
END:VEVENT
BEGIN:VEVENT
DTSTAMP:20260420T063951Z
DTSTART;VALUE=DATE:20211220
SUMMARY:ACM--ICMLC--Ei and Scopus 2022 Deadline
DESCRIPTION:ACM--2022 14th International Conference on Machine Learning a
 nd Computing (ICMLC 2022)--Ei Compendex\, Scopus
URL:http://www.wikicfp.com/cfp/servlet/event.showcfp?eventid=136936&copyo
 wnerid=169967
UID:cfp893877-D@wikicfp.com
END:VEVENT
BEGIN:VEVENT
DTSTAMP:20260420T063951Z
DTSTART;VALUE=DATE:20220218
DTEND;VALUE=DATE:20220221
SUMMARY:ICMLC--ACM\, Ei and Scopus 2022
DESCRIPTION:ACM--2022 14th International Conference on Machine Learning a
 nd Computing (ICMLC 2022)--Ei Compendex\, Scopus
URL:http://www.wikicfp.com/cfp/servlet/event.showcfp?eventid=136938&copyo
 wnerid=169967
UID:cfp893878-E@wikicfp.com
END:VEVENT
BEGIN:VEVENT
DTSTAMP:20260420T063951Z
DTSTART;VALUE=DATE:20211220
SUMMARY:ICMLC--ACM\, Ei and Scopus 2022 Deadline
DESCRIPTION:ACM--2022 14th International Conference on Machine Learning a
 nd Computing (ICMLC 2022)--Ei Compendex\, Scopus
URL:http://www.wikicfp.com/cfp/servlet/event.showcfp?eventid=136938&copyo
 wnerid=169967
UID:cfp893878-D@wikicfp.com
END:VEVENT
BEGIN:VEVENT
DTSTAMP:20260420T063951Z
DTSTART;VALUE=DATE:20220311
DTEND;VALUE=DATE:20220314
SUMMARY:ACM--ICMLT--Ei and Scopus 2022
DESCRIPTION:ACM--2022 7th International Conference on Machine Learning Te
 chnologies (ICMLT 2022)--Ei Compendex\, Scopus
URL:http://www.wikicfp.com/cfp/servlet/event.showcfp?eventid=138054&copyo
 wnerid=169967
UID:cfp893867-E@wikicfp.com
END:VEVENT
BEGIN:VEVENT
DTSTAMP:20260420T063951Z
DTSTART;VALUE=DATE:20220130
SUMMARY:ACM--ICMLT--Ei and Scopus 2022 Deadline
DESCRIPTION:ACM--2022 7th International Conference on Machine Learning Te
 chnologies (ICMLT 2022)--Ei Compendex\, Scopus
URL:http://www.wikicfp.com/cfp/servlet/event.showcfp?eventid=138054&copyo
 wnerid=169967
UID:cfp893867-D@wikicfp.com
END:VEVENT
BEGIN:VEVENT
DTSTAMP:20260420T063951Z
DTSTART;VALUE=DATE:20220311
DTEND;VALUE=DATE:20220314
SUMMARY:ICMLT--ACM\, Ei Compendex and Scopus 2022
DESCRIPTION:ACM--2022 7th International Conference on Machine Learning Te
 chnologies (ICMLT 2022)--Ei Compendex\, Scopus
URL:http://www.wikicfp.com/cfp/servlet/event.showcfp?eventid=138055&copyo
 wnerid=169967
UID:cfp893868-E@wikicfp.com
END:VEVENT
BEGIN:VEVENT
DTSTAMP:20260420T063951Z
DTSTART;VALUE=DATE:20220130
SUMMARY:ICMLT--ACM\, Ei Compendex and Scopus 2022 Deadline
DESCRIPTION:ACM--2022 7th International Conference on Machine Learning Te
 chnologies (ICMLT 2022)--Ei Compendex\, Scopus
URL:http://www.wikicfp.com/cfp/servlet/event.showcfp?eventid=138055&copyo
 wnerid=169967
UID:cfp893868-D@wikicfp.com
END:VEVENT
BEGIN:VEVENT
DTSTAMP:20260420T063951Z
DTSTART;VALUE=DATE:20221022
DTEND;VALUE=DATE:20221024
SUMMARY:SIP 2022
DESCRIPTION:11th International Conference on Signal & Image Processing 
URL:http://www.wikicfp.com/cfp/servlet/event.showcfp?eventid=137356&copyo
 wnerid=169967
UID:cfp893875-E@wikicfp.com
END:VEVENT
BEGIN:VEVENT
DTSTAMP:20260420T063951Z
DTSTART;VALUE=DATE:20221008
SUMMARY:SIP 2022 Deadline
DESCRIPTION:11th International Conference on Signal & Image Processing 
URL:http://www.wikicfp.com/cfp/servlet/event.showcfp?eventid=137356&copyo
 wnerid=169967
UID:cfp893875-D@wikicfp.com
END:VEVENT
BEGIN:VEVENT
DTSTAMP:20260420T063951Z
DTSTART;VALUE=DATE:20221015
SUMMARY:SIP 2022 Notification Due
DESCRIPTION:11th International Conference on Signal & Image Processing 
URL:http://www.wikicfp.com/cfp/servlet/event.showcfp?eventid=137356&copyo
 wnerid=169967
UID:cfp893875-N@wikicfp.com
END:VEVENT
BEGIN:VEVENT
DTSTAMP:20260420T063951Z
DTSTART;VALUE=DATE:20221018
SUMMARY:SIP 2022 Final Version Due
DESCRIPTION:11th International Conference on Signal & Image Processing 
URL:http://www.wikicfp.com/cfp/servlet/event.showcfp?eventid=137356&copyo
 wnerid=169967
UID:cfp893875-N@wikicfp.com
END:VEVENT
END:VCALENDAR
