BEGIN:VCALENDAR
PRODID:-//WikiCFP//reitmann 1.0//EN
VERSION:2.0
CALSCALE:GREGORIAN
BEGIN:VEVENT
DTSTAMP:20260424T165826Z
DTSTART;VALUE=DATE:20211004
DTEND;VALUE=DATE:20211007
SUMMARY:ISVC 2021
DESCRIPTION:16th International Symposium on Visual Computing
URL:http://www.wikicfp.com/cfp/servlet/event.showcfp?eventid=127747&copyo
 wnerid=169937
UID:cfp893662-E@wikicfp.com
END:VEVENT
BEGIN:VEVENT
DTSTAMP:20260424T165826Z
DTSTART;VALUE=DATE:20210810
SUMMARY:ISVC 2021 Deadline
DESCRIPTION:16th International Symposium on Visual Computing
URL:http://www.wikicfp.com/cfp/servlet/event.showcfp?eventid=127747&copyo
 wnerid=169937
UID:cfp893662-D@wikicfp.com
END:VEVENT
BEGIN:VEVENT
DTSTAMP:20260424T165826Z
DTSTART;VALUE=DATE:20210906
SUMMARY:ISVC 2021 Notification Due
DESCRIPTION:16th International Symposium on Visual Computing
URL:http://www.wikicfp.com/cfp/servlet/event.showcfp?eventid=127747&copyo
 wnerid=169937
UID:cfp893662-N@wikicfp.com
END:VEVENT
BEGIN:VEVENT
DTSTAMP:20260424T165826Z
DTSTART;VALUE=DATE:20210924
SUMMARY:ISVC 2021 Final Version Due
DESCRIPTION:16th International Symposium on Visual Computing
URL:http://www.wikicfp.com/cfp/servlet/event.showcfp?eventid=127747&copyo
 wnerid=169937
UID:cfp893662-N@wikicfp.com
END:VEVENT
BEGIN:VEVENT
DTSTAMP:20260424T165826Z
DTSTART;VALUE=DATE:20211123
DTEND;VALUE=DATE:20211126
SUMMARY:ACG 2021
DESCRIPTION:Advances in Computer Games
URL:http://www.wikicfp.com/cfp/servlet/event.showcfp?eventid=135804&copyo
 wnerid=169937
UID:cfp893658-E@wikicfp.com
END:VEVENT
BEGIN:VEVENT
DTSTAMP:20260424T165826Z
DTSTART;VALUE=DATE:20210906
SUMMARY:ACG 2021 Deadline
DESCRIPTION:Advances in Computer Games
URL:http://www.wikicfp.com/cfp/servlet/event.showcfp?eventid=135804&copyo
 wnerid=169937
UID:cfp893658-D@wikicfp.com
END:VEVENT
BEGIN:VEVENT
DTSTAMP:20260424T165826Z
DTSTART;VALUE=DATE:20211011
SUMMARY:ACG 2021 Notification Due
DESCRIPTION:Advances in Computer Games
URL:http://www.wikicfp.com/cfp/servlet/event.showcfp?eventid=135804&copyo
 wnerid=169937
UID:cfp893658-N@wikicfp.com
END:VEVENT
BEGIN:VEVENT
DTSTAMP:20260424T165826Z
DTSTART;VALUE=DATE:20211101
SUMMARY:ACG 2021 Final Version Due
DESCRIPTION:Advances in Computer Games
URL:http://www.wikicfp.com/cfp/servlet/event.showcfp?eventid=135804&copyo
 wnerid=169937
UID:cfp893658-N@wikicfp.com
END:VEVENT
BEGIN:VEVENT
DTSTAMP:20260424T165826Z
DTSTART;VALUE=DATE:20210930
SUMMARY:IEEE TVT - SI VR Simulation 2021 Deadline
DESCRIPTION:IEEE TVT - Special Issue on Immersive Virtual Reality simulat
 ion for Vehicular Technology
URL:http://www.wikicfp.com/cfp/servlet/event.showcfp?eventid=132195&copyo
 wnerid=169937
UID:cfp893659-D@wikicfp.com
END:VEVENT
BEGIN:VEVENT
DTSTAMP:20260424T165826Z
DTSTART;VALUE=DATE:20211130
SUMMARY:IEEE TVT - SI VR Simulation 2021 Notification Due
DESCRIPTION:IEEE TVT - Special Issue on Immersive Virtual Reality simulat
 ion for Vehicular Technology
URL:http://www.wikicfp.com/cfp/servlet/event.showcfp?eventid=132195&copyo
 wnerid=169937
UID:cfp893659-N@wikicfp.com
END:VEVENT
BEGIN:VEVENT
DTSTAMP:20260424T165826Z
DTSTART;VALUE=DATE:20220215
SUMMARY:IEEE TVT - SI VR Simulation 2021 Final Version Due
DESCRIPTION:IEEE TVT - Special Issue on Immersive Virtual Reality simulat
 ion for Vehicular Technology
URL:http://www.wikicfp.com/cfp/servlet/event.showcfp?eventid=132195&copyo
 wnerid=169937
UID:cfp893659-N@wikicfp.com
END:VEVENT
BEGIN:VEVENT
DTSTAMP:20260424T165826Z
DTSTART;VALUE=DATE:20220206
DTEND;VALUE=DATE:20220209
SUMMARY:GRAPP 2022
DESCRIPTION:17th International Conference on Computer Graphics Theory and
  Applications
URL:http://www.wikicfp.com/cfp/servlet/event.showcfp?eventid=132549&copyo
 wnerid=169937
UID:cfp893660-E@wikicfp.com
END:VEVENT
BEGIN:VEVENT
DTSTAMP:20260424T165826Z
DTSTART;VALUE=DATE:20211108
SUMMARY:GRAPP 2022 Deadline
DESCRIPTION:17th International Conference on Computer Graphics Theory and
  Applications
URL:http://www.wikicfp.com/cfp/servlet/event.showcfp?eventid=132549&copyo
 wnerid=169937
UID:cfp893660-D@wikicfp.com
END:VEVENT
BEGIN:VEVENT
DTSTAMP:20260424T165826Z
DTSTART;VALUE=DATE:20211115
SUMMARY:GRAPP 2022 Notification Due
DESCRIPTION:17th International Conference on Computer Graphics Theory and
  Applications
URL:http://www.wikicfp.com/cfp/servlet/event.showcfp?eventid=132549&copyo
 wnerid=169937
UID:cfp893660-N@wikicfp.com
END:VEVENT
BEGIN:VEVENT
DTSTAMP:20260424T165826Z
DTSTART;VALUE=DATE:20211129
SUMMARY:GRAPP 2022 Final Version Due
DESCRIPTION:17th International Conference on Computer Graphics Theory and
  Applications
URL:http://www.wikicfp.com/cfp/servlet/event.showcfp?eventid=132549&copyo
 wnerid=169937
UID:cfp893660-N@wikicfp.com
END:VEVENT
BEGIN:VEVENT
DTSTAMP:20260424T165826Z
DTSTART;VALUE=DATE:20220718
DTEND;VALUE=DATE:20220724
SUMMARY:IEEE WCCI 2022
DESCRIPTION:IEEE World Congress on Computational Intelligence
URL:http://www.wikicfp.com/cfp/servlet/event.showcfp?eventid=124047&copyo
 wnerid=169937
UID:cfp893664-E@wikicfp.com
END:VEVENT
BEGIN:VEVENT
DTSTAMP:20260424T165826Z
DTSTART;VALUE=DATE:20220131
SUMMARY:IEEE WCCI 2022 Deadline
DESCRIPTION:IEEE World Congress on Computational Intelligence
URL:http://www.wikicfp.com/cfp/servlet/event.showcfp?eventid=124047&copyo
 wnerid=169937
UID:cfp893664-D@wikicfp.com
END:VEVENT
BEGIN:VEVENT
DTSTAMP:20260424T165826Z
DTSTART;VALUE=DATE:20220426
SUMMARY:IEEE WCCI 2022 Notification Due
DESCRIPTION:IEEE World Congress on Computational Intelligence
URL:http://www.wikicfp.com/cfp/servlet/event.showcfp?eventid=124047&copyo
 wnerid=169937
UID:cfp893664-N@wikicfp.com
END:VEVENT
BEGIN:VEVENT
DTSTAMP:20260424T165826Z
DTSTART;VALUE=DATE:20220523
SUMMARY:IEEE WCCI 2022 Final Version Due
DESCRIPTION:IEEE World Congress on Computational Intelligence
URL:http://www.wikicfp.com/cfp/servlet/event.showcfp?eventid=124047&copyo
 wnerid=169937
UID:cfp893664-N@wikicfp.com
END:VEVENT
END:VCALENDAR
