BEGIN:VCALENDAR
PRODID:-//WikiCFP//Joanna_199 1.0//EN
VERSION:2.0
CALSCALE:GREGORIAN
BEGIN:VEVENT
DTSTAMP:20260421T201332Z
DTSTART;VALUE=DATE:20211115
DTEND;VALUE=DATE:20211119
SUMMARY:CETE 2021
DESCRIPTION:2021 International Conference on eLearning and Technology in 
 Education (CETE)
URL:http://www.wikicfp.com/cfp/servlet/event.showcfp?eventid=138570&copyo
 wnerid=169891
UID:cfp894532-E@wikicfp.com
END:VEVENT
BEGIN:VEVENT
DTSTAMP:20260421T201332Z
DTSTART;VALUE=DATE:20210817
SUMMARY:CETE 2021 Abstract Due
DESCRIPTION:2021 International Conference on eLearning and Technology in 
 Education (CETE)
URL:http://www.wikicfp.com/cfp/servlet/event.showcfp?eventid=138570&copyo
 wnerid=169891
UID:cfp894532-A@wikicfp.com
END:VEVENT
BEGIN:VEVENT
DTSTAMP:20260421T201332Z
DTSTART;VALUE=DATE:20210831
SUMMARY:CETE 2021 Deadline
DESCRIPTION:2021 International Conference on eLearning and Technology in 
 Education (CETE)
URL:http://www.wikicfp.com/cfp/servlet/event.showcfp?eventid=138570&copyo
 wnerid=169891
UID:cfp894532-D@wikicfp.com
END:VEVENT
END:VCALENDAR
