BEGIN:VCALENDAR
PRODID:-//WikiCFP//dmcgrath 1.0//EN
VERSION:2.0
CALSCALE:GREGORIAN
BEGIN:VEVENT
DTSTAMP:20260421T143854Z
DTSTART;VALUE=DATE:20220310
DTEND;VALUE=DATE:20220314
SUMMARY:NeMLA 2022
DESCRIPTION:Call for Papers\, 53rd Annual NeMLA Convention
URL:http://www.wikicfp.com/cfp/servlet/event.showcfp?eventid=136965&copyo
 wnerid=169727
UID:cfp891675-E@wikicfp.com
END:VEVENT
BEGIN:VEVENT
DTSTAMP:20260421T143854Z
DTSTART;VALUE=DATE:20211209
SUMMARY:NeMLA 2022 Abstract Due
DESCRIPTION:Call for Papers\, 53rd Annual NeMLA Convention
URL:http://www.wikicfp.com/cfp/servlet/event.showcfp?eventid=136965&copyo
 wnerid=169727
UID:cfp891675-A@wikicfp.com
END:VEVENT
BEGIN:VEVENT
DTSTAMP:20260421T143854Z
DTSTART;VALUE=DATE:20210930
SUMMARY:NeMLA 2022 Deadline
DESCRIPTION:Call for Papers\, 53rd Annual NeMLA Convention
URL:http://www.wikicfp.com/cfp/servlet/event.showcfp?eventid=136965&copyo
 wnerid=169727
UID:cfp891675-D@wikicfp.com
END:VEVENT
END:VCALENDAR
