BEGIN:VCALENDAR
PRODID:-//WikiCFP//xfap 1.0//EN
VERSION:2.0
CALSCALE:GREGORIAN
BEGIN:VEVENT
DTSTAMP:20260419T150141Z
DTSTART;VALUE=DATE:20201128
DTEND;VALUE=DATE:20201202
SUMMARY:ProvSec 2020
DESCRIPTION:The 14th International Conference on Provable and Practical S
 ecurity
URL:http://www.wikicfp.com/cfp/servlet/event.showcfp?eventid=108527&copyo
 wnerid=169387
UID:cfp888307-E@wikicfp.com
END:VEVENT
BEGIN:VEVENT
DTSTAMP:20260419T150141Z
DTSTART;VALUE=DATE:20200715
SUMMARY:ProvSec 2020 Deadline
DESCRIPTION:The 14th International Conference on Provable and Practical S
 ecurity
URL:http://www.wikicfp.com/cfp/servlet/event.showcfp?eventid=108527&copyo
 wnerid=169387
UID:cfp888307-D@wikicfp.com
END:VEVENT
BEGIN:VEVENT
DTSTAMP:20260419T150141Z
DTSTART;VALUE=DATE:20200831
SUMMARY:ProvSec 2020 Notification Due
DESCRIPTION:The 14th International Conference on Provable and Practical S
 ecurity
URL:http://www.wikicfp.com/cfp/servlet/event.showcfp?eventid=108527&copyo
 wnerid=169387
UID:cfp888307-N@wikicfp.com
END:VEVENT
BEGIN:VEVENT
DTSTAMP:20260419T150141Z
DTSTART;VALUE=DATE:20200914
SUMMARY:ProvSec 2020 Final Version Due
DESCRIPTION:The 14th International Conference on Provable and Practical S
 ecurity
URL:http://www.wikicfp.com/cfp/servlet/event.showcfp?eventid=108527&copyo
 wnerid=169387
UID:cfp888307-N@wikicfp.com
END:VEVENT
BEGIN:VEVENT
DTSTAMP:20260419T150141Z
DTSTART;VALUE=DATE:20210706
DTEND;VALUE=DATE:20210709
SUMMARY:SECRYPT 2021
DESCRIPTION:18th International Conference on Security and Cryptography
URL:http://www.wikicfp.com/cfp/servlet/event.showcfp?eventid=115969&copyo
 wnerid=169387
UID:cfp888306-E@wikicfp.com
END:VEVENT
BEGIN:VEVENT
DTSTAMP:20260419T150141Z
DTSTART;VALUE=DATE:20210401
SUMMARY:SECRYPT 2021 Deadline
DESCRIPTION:18th International Conference on Security and Cryptography
URL:http://www.wikicfp.com/cfp/servlet/event.showcfp?eventid=115969&copyo
 wnerid=169387
UID:cfp888306-D@wikicfp.com
END:VEVENT
BEGIN:VEVENT
DTSTAMP:20260419T150141Z
DTSTART;VALUE=DATE:20210415
SUMMARY:SECRYPT 2021 Notification Due
DESCRIPTION:18th International Conference on Security and Cryptography
URL:http://www.wikicfp.com/cfp/servlet/event.showcfp?eventid=115969&copyo
 wnerid=169387
UID:cfp888306-N@wikicfp.com
END:VEVENT
BEGIN:VEVENT
DTSTAMP:20260419T150141Z
DTSTART;VALUE=DATE:20210429
SUMMARY:SECRYPT 2021 Final Version Due
DESCRIPTION:18th International Conference on Security and Cryptography
URL:http://www.wikicfp.com/cfp/servlet/event.showcfp?eventid=115969&copyo
 wnerid=169387
UID:cfp888306-N@wikicfp.com
END:VEVENT
BEGIN:VEVENT
DTSTAMP:20260419T150141Z
DTSTART;VALUE=DATE:20211212
DTEND;VALUE=DATE:20211216
SUMMARY:Indocrypt 2021
DESCRIPTION:22nd International Conference on Cryptology in India
URL:http://www.wikicfp.com/cfp/servlet/event.showcfp?eventid=133706&copyo
 wnerid=169387
UID:cfp888303-E@wikicfp.com
END:VEVENT
BEGIN:VEVENT
DTSTAMP:20260419T150141Z
DTSTART;VALUE=DATE:20210907
SUMMARY:Indocrypt 2021 Deadline
DESCRIPTION:22nd International Conference on Cryptology in India
URL:http://www.wikicfp.com/cfp/servlet/event.showcfp?eventid=133706&copyo
 wnerid=169387
UID:cfp888303-D@wikicfp.com
END:VEVENT
BEGIN:VEVENT
DTSTAMP:20260419T150141Z
DTSTART;VALUE=DATE:20211012
SUMMARY:Indocrypt 2021 Notification Due
DESCRIPTION:22nd International Conference on Cryptology in India
URL:http://www.wikicfp.com/cfp/servlet/event.showcfp?eventid=133706&copyo
 wnerid=169387
UID:cfp888303-N@wikicfp.com
END:VEVENT
BEGIN:VEVENT
DTSTAMP:20260419T150141Z
DTSTART;VALUE=DATE:20211022
SUMMARY:Indocrypt 2021 Final Version Due
DESCRIPTION:22nd International Conference on Cryptology in India
URL:http://www.wikicfp.com/cfp/servlet/event.showcfp?eventid=133706&copyo
 wnerid=169387
UID:cfp888303-N@wikicfp.com
END:VEVENT
BEGIN:VEVENT
DTSTAMP:20260419T150141Z
DTSTART;VALUE=DATE:20220114
DTEND;VALUE=DATE:20220117
SUMMARY:IEEE CSP--EI Compendex\, Scopus 2022
DESCRIPTION:2022 IEEE 6th International Conference on Cryptography\, Secu
 rity and Privacy (CSP 2022)--EI Compendex\, Scopus
URL:http://www.wikicfp.com/cfp/servlet/event.showcfp?eventid=134402&copyo
 wnerid=169387
UID:cfp888305-E@wikicfp.com
END:VEVENT
BEGIN:VEVENT
DTSTAMP:20260419T150141Z
DTSTART;VALUE=DATE:20211125
SUMMARY:IEEE CSP--EI Compendex\, Scopus 2022 Deadline
DESCRIPTION:2022 IEEE 6th International Conference on Cryptography\, Secu
 rity and Privacy (CSP 2022)--EI Compendex\, Scopus
URL:http://www.wikicfp.com/cfp/servlet/event.showcfp?eventid=134402&copyo
 wnerid=169387
UID:cfp888305-D@wikicfp.com
END:VEVENT
END:VCALENDAR
