BEGIN:VCALENDAR
PRODID:-//WikiCFP//pamurena 1.0//EN
VERSION:2.0
CALSCALE:GREGORIAN
BEGIN:VEVENT
DTSTAMP:20260425T121633Z
DTSTART;VALUE=DATE:20220322
DTEND;VALUE=DATE:20220326
SUMMARY:IUI 2022
DESCRIPTION:Intelligent User Interfaces
URL:http://www.wikicfp.com/cfp/servlet/event.showcfp?eventid=134708&copyo
 wnerid=169353
UID:cfp888071-E@wikicfp.com
END:VEVENT
BEGIN:VEVENT
DTSTAMP:20260425T121633Z
DTSTART;VALUE=DATE:20211001
SUMMARY:IUI 2022 Abstract Due
DESCRIPTION:Intelligent User Interfaces
URL:http://www.wikicfp.com/cfp/servlet/event.showcfp?eventid=134708&copyo
 wnerid=169353
UID:cfp888071-A@wikicfp.com
END:VEVENT
BEGIN:VEVENT
DTSTAMP:20260425T121633Z
DTSTART;VALUE=DATE:20211008
SUMMARY:IUI 2022 Deadline
DESCRIPTION:Intelligent User Interfaces
URL:http://www.wikicfp.com/cfp/servlet/event.showcfp?eventid=134708&copyo
 wnerid=169353
UID:cfp888071-D@wikicfp.com
END:VEVENT
BEGIN:VEVENT
DTSTAMP:20260425T121633Z
DTSTART;VALUE=DATE:20211220
SUMMARY:IUI 2022 Notification Due
DESCRIPTION:Intelligent User Interfaces
URL:http://www.wikicfp.com/cfp/servlet/event.showcfp?eventid=134708&copyo
 wnerid=169353
UID:cfp888071-N@wikicfp.com
END:VEVENT
BEGIN:VEVENT
DTSTAMP:20260425T121633Z
DTSTART;VALUE=DATE:20220209
SUMMARY:IUI 2022 Final Version Due
DESCRIPTION:Intelligent User Interfaces
URL:http://www.wikicfp.com/cfp/servlet/event.showcfp?eventid=134708&copyo
 wnerid=169353
UID:cfp888071-N@wikicfp.com
END:VEVENT
END:VCALENDAR
