BEGIN:VCALENDAR
PRODID:-//WikiCFP//DeSForM2022 1.0//EN
VERSION:2.0
CALSCALE:GREGORIAN
BEGIN:VEVENT
DTSTAMP:20260425T000240Z
DTSTART;VALUE=DATE:20220706
DTEND;VALUE=DATE:20220709
SUMMARY:DeSForM 2022
DESCRIPTION:DeSForM 2022 | Boundless: Aesthetics\, Human Experience and I
 ntelligence for the New Normal
URL:http://www.wikicfp.com/cfp/servlet/event.showcfp?eventid=134191&copyo
 wnerid=169261
UID:cfp887318-E@wikicfp.com
END:VEVENT
BEGIN:VEVENT
DTSTAMP:20260425T000240Z
DTSTART;VALUE=DATE:20211201
SUMMARY:DeSForM 2022 Deadline
DESCRIPTION:DeSForM 2022 | Boundless: Aesthetics\, Human Experience and I
 ntelligence for the New Normal
URL:http://www.wikicfp.com/cfp/servlet/event.showcfp?eventid=134191&copyo
 wnerid=169261
UID:cfp887318-D@wikicfp.com
END:VEVENT
BEGIN:VEVENT
DTSTAMP:20260425T000240Z
DTSTART;VALUE=DATE:20220215
SUMMARY:DeSForM 2022 Notification Due
DESCRIPTION:DeSForM 2022 | Boundless: Aesthetics\, Human Experience and I
 ntelligence for the New Normal
URL:http://www.wikicfp.com/cfp/servlet/event.showcfp?eventid=134191&copyo
 wnerid=169261
UID:cfp887318-N@wikicfp.com
END:VEVENT
BEGIN:VEVENT
DTSTAMP:20260425T000240Z
DTSTART;VALUE=DATE:20220301
SUMMARY:DeSForM 2022 Final Version Due
DESCRIPTION:DeSForM 2022 | Boundless: Aesthetics\, Human Experience and I
 ntelligence for the New Normal
URL:http://www.wikicfp.com/cfp/servlet/event.showcfp?eventid=134191&copyo
 wnerid=169261
UID:cfp887318-N@wikicfp.com
END:VEVENT
END:VCALENDAR
