BEGIN:VCALENDAR
PRODID:-//WikiCFP//Davidhoo1988 1.0//EN
VERSION:2.0
CALSCALE:GREGORIAN
BEGIN:VEVENT
DTSTAMP:20260422T093053Z
DTSTART;VALUE=DATE:20210227
DTEND;VALUE=DATE:20210304
SUMMARY:HPCA 2021
DESCRIPTION:High-Performance Computer Architecture
URL:http://www.wikicfp.com/cfp/servlet/event.showcfp?eventid=105960&copyo
 wnerid=169260
UID:cfp887296-E@wikicfp.com
END:VEVENT
BEGIN:VEVENT
DTSTAMP:20260422T093053Z
DTSTART;VALUE=DATE:20200724
SUMMARY:HPCA 2021 Abstract Due
DESCRIPTION:High-Performance Computer Architecture
URL:http://www.wikicfp.com/cfp/servlet/event.showcfp?eventid=105960&copyo
 wnerid=169260
UID:cfp887296-A@wikicfp.com
END:VEVENT
BEGIN:VEVENT
DTSTAMP:20260422T093053Z
DTSTART;VALUE=DATE:20200731
SUMMARY:HPCA 2021 Deadline
DESCRIPTION:High-Performance Computer Architecture
URL:http://www.wikicfp.com/cfp/servlet/event.showcfp?eventid=105960&copyo
 wnerid=169260
UID:cfp887296-D@wikicfp.com
END:VEVENT
BEGIN:VEVENT
DTSTAMP:20260422T093053Z
DTSTART;VALUE=DATE:20210201
DTEND;VALUE=DATE:20210206
SUMMARY:DATE 2021
DESCRIPTION:Design\, Automation and Test in Europe Conference
URL:http://www.wikicfp.com/cfp/servlet/event.showcfp?eventid=109756&copyo
 wnerid=169260
UID:cfp888319-E@wikicfp.com
END:VEVENT
BEGIN:VEVENT
DTSTAMP:20260422T093053Z
DTSTART;VALUE=DATE:20200914
SUMMARY:DATE 2021 Abstract Due
DESCRIPTION:Design\, Automation and Test in Europe Conference
URL:http://www.wikicfp.com/cfp/servlet/event.showcfp?eventid=109756&copyo
 wnerid=169260
UID:cfp888319-A@wikicfp.com
END:VEVENT
BEGIN:VEVENT
DTSTAMP:20260422T093053Z
DTSTART;VALUE=DATE:20200921
SUMMARY:DATE 2021 Deadline
DESCRIPTION:Design\, Automation and Test in Europe Conference
URL:http://www.wikicfp.com/cfp/servlet/event.showcfp?eventid=109756&copyo
 wnerid=169260
UID:cfp888319-D@wikicfp.com
END:VEVENT
BEGIN:VEVENT
DTSTAMP:20260422T093053Z
DTSTART;VALUE=DATE:20201113
SUMMARY:DATE 2021 Notification Due
DESCRIPTION:Design\, Automation and Test in Europe Conference
URL:http://www.wikicfp.com/cfp/servlet/event.showcfp?eventid=109756&copyo
 wnerid=169260
UID:cfp888319-N@wikicfp.com
END:VEVENT
BEGIN:VEVENT
DTSTAMP:20260422T093053Z
DTSTART;VALUE=DATE:20201202
SUMMARY:DATE 2021 Final Version Due
DESCRIPTION:Design\, Automation and Test in Europe Conference
URL:http://www.wikicfp.com/cfp/servlet/event.showcfp?eventid=109756&copyo
 wnerid=169260
UID:cfp888319-N@wikicfp.com
END:VEVENT
BEGIN:VEVENT
DTSTAMP:20260422T093053Z
DTSTART;VALUE=DATE:20210711
DTEND;VALUE=DATE:20210716
SUMMARY:DAC 2021
DESCRIPTION:Design Automation Conference
URL:http://www.wikicfp.com/cfp/servlet/event.showcfp?eventid=122030&copyo
 wnerid=169260
UID:cfp887295-E@wikicfp.com
END:VEVENT
BEGIN:VEVENT
DTSTAMP:20260422T093053Z
DTSTART;VALUE=DATE:20201116
SUMMARY:DAC 2021 Abstract Due
DESCRIPTION:Design Automation Conference
URL:http://www.wikicfp.com/cfp/servlet/event.showcfp?eventid=122030&copyo
 wnerid=169260
UID:cfp887295-A@wikicfp.com
END:VEVENT
BEGIN:VEVENT
DTSTAMP:20260422T093053Z
DTSTART;VALUE=DATE:20201123
SUMMARY:DAC 2021 Deadline
DESCRIPTION:Design Automation Conference
URL:http://www.wikicfp.com/cfp/servlet/event.showcfp?eventid=122030&copyo
 wnerid=169260
UID:cfp887295-D@wikicfp.com
END:VEVENT
BEGIN:VEVENT
DTSTAMP:20260422T093053Z
DTSTART;VALUE=DATE:20210224
SUMMARY:DAC 2021 Notification Due
DESCRIPTION:Design Automation Conference
URL:http://www.wikicfp.com/cfp/servlet/event.showcfp?eventid=122030&copyo
 wnerid=169260
UID:cfp887295-N@wikicfp.com
END:VEVENT
BEGIN:VEVENT
DTSTAMP:20260422T093053Z
DTSTART;VALUE=DATE:20210329
SUMMARY:DAC 2021 Final Version Due
DESCRIPTION:Design Automation Conference
URL:http://www.wikicfp.com/cfp/servlet/event.showcfp?eventid=122030&copyo
 wnerid=169260
UID:cfp887295-N@wikicfp.com
END:VEVENT
BEGIN:VEVENT
DTSTAMP:20260422T093053Z
DTSTART;VALUE=DATE:20210830
DTEND;VALUE=DATE:20210904
SUMMARY:FPL 2021
DESCRIPTION:Field-Programmable Logic and Applications
URL:http://www.wikicfp.com/cfp/servlet/event.showcfp?eventid=120817&copyo
 wnerid=169260
UID:cfp887297-E@wikicfp.com
END:VEVENT
BEGIN:VEVENT
DTSTAMP:20260422T093053Z
DTSTART;VALUE=DATE:20210315
SUMMARY:FPL 2021 Abstract Due
DESCRIPTION:Field-Programmable Logic and Applications
URL:http://www.wikicfp.com/cfp/servlet/event.showcfp?eventid=120817&copyo
 wnerid=169260
UID:cfp887297-A@wikicfp.com
END:VEVENT
BEGIN:VEVENT
DTSTAMP:20260422T093053Z
DTSTART;VALUE=DATE:20210322
SUMMARY:FPL 2021 Deadline
DESCRIPTION:Field-Programmable Logic and Applications
URL:http://www.wikicfp.com/cfp/servlet/event.showcfp?eventid=120817&copyo
 wnerid=169260
UID:cfp887297-D@wikicfp.com
END:VEVENT
BEGIN:VEVENT
DTSTAMP:20260422T093053Z
DTSTART;VALUE=DATE:20210514
SUMMARY:FPL 2021 Notification Due
DESCRIPTION:Field-Programmable Logic and Applications
URL:http://www.wikicfp.com/cfp/servlet/event.showcfp?eventid=120817&copyo
 wnerid=169260
UID:cfp887297-N@wikicfp.com
END:VEVENT
BEGIN:VEVENT
DTSTAMP:20260422T093053Z
DTSTART;VALUE=DATE:20210607
SUMMARY:FPL 2021 Final Version Due
DESCRIPTION:Field-Programmable Logic and Applications
URL:http://www.wikicfp.com/cfp/servlet/event.showcfp?eventid=120817&copyo
 wnerid=169260
UID:cfp887297-N@wikicfp.com
END:VEVENT
BEGIN:VEVENT
DTSTAMP:20260422T093053Z
DTSTART;VALUE=DATE:20211206
DTEND;VALUE=DATE:20211211
SUMMARY:FPT 2021
DESCRIPTION:The International Conference on Field-Programmable Technology
 
URL:http://www.wikicfp.com/cfp/servlet/event.showcfp?eventid=120077&copyo
 wnerid=169260
UID:cfp887322-E@wikicfp.com
END:VEVENT
BEGIN:VEVENT
DTSTAMP:20260422T093053Z
DTSTART;VALUE=DATE:20210712
SUMMARY:FPT 2021 Abstract Due
DESCRIPTION:The International Conference on Field-Programmable Technology
 
URL:http://www.wikicfp.com/cfp/servlet/event.showcfp?eventid=120077&copyo
 wnerid=169260
UID:cfp887322-A@wikicfp.com
END:VEVENT
BEGIN:VEVENT
DTSTAMP:20260422T093053Z
DTSTART;VALUE=DATE:20210719
SUMMARY:FPT 2021 Deadline
DESCRIPTION:The International Conference on Field-Programmable Technology
 
URL:http://www.wikicfp.com/cfp/servlet/event.showcfp?eventid=120077&copyo
 wnerid=169260
UID:cfp887322-D@wikicfp.com
END:VEVENT
BEGIN:VEVENT
DTSTAMP:20260422T093053Z
DTSTART;VALUE=DATE:20210910
SUMMARY:FPT 2021 Notification Due
DESCRIPTION:The International Conference on Field-Programmable Technology
 
URL:http://www.wikicfp.com/cfp/servlet/event.showcfp?eventid=120077&copyo
 wnerid=169260
UID:cfp887322-N@wikicfp.com
END:VEVENT
BEGIN:VEVENT
DTSTAMP:20260422T093053Z
DTSTART;VALUE=DATE:20211018
SUMMARY:FPT 2021 Final Version Due
DESCRIPTION:The International Conference on Field-Programmable Technology
 
URL:http://www.wikicfp.com/cfp/servlet/event.showcfp?eventid=120077&copyo
 wnerid=169260
UID:cfp887322-N@wikicfp.com
END:VEVENT
END:VCALENDAR
