BEGIN:VCALENDAR
PRODID:-//WikiCFP//strink 1.0//EN
VERSION:2.0
CALSCALE:GREGORIAN
BEGIN:VEVENT
DTSTAMP:20260421T191749Z
DTSTART;VALUE=DATE:20210816
DTEND;VALUE=DATE:20210821
SUMMARY:LoResMT  2021
DESCRIPTION:THE FOURTH WORKSHOP ON TECHNOLOGIES FOR MT OF LOW-RESOURCE LA
 NGUAGES (LoResMT 2021)
URL:http://www.wikicfp.com/cfp/servlet/event.showcfp?eventid=129226&copyo
 wnerid=169141
UID:cfp886509-E@wikicfp.com
END:VEVENT
BEGIN:VEVENT
DTSTAMP:20260421T191749Z
DTSTART;VALUE=DATE:20210617
SUMMARY:LoResMT  2021 Deadline
DESCRIPTION:THE FOURTH WORKSHOP ON TECHNOLOGIES FOR MT OF LOW-RESOURCE LA
 NGUAGES (LoResMT 2021)
URL:http://www.wikicfp.com/cfp/servlet/event.showcfp?eventid=129226&copyo
 wnerid=169141
UID:cfp886509-D@wikicfp.com
END:VEVENT
BEGIN:VEVENT
DTSTAMP:20260421T191749Z
DTSTART;VALUE=DATE:20210708
SUMMARY:LoResMT  2021 Notification Due
DESCRIPTION:THE FOURTH WORKSHOP ON TECHNOLOGIES FOR MT OF LOW-RESOURCE LA
 NGUAGES (LoResMT 2021)
URL:http://www.wikicfp.com/cfp/servlet/event.showcfp?eventid=129226&copyo
 wnerid=169141
UID:cfp886509-N@wikicfp.com
END:VEVENT
BEGIN:VEVENT
DTSTAMP:20260421T191749Z
DTSTART;VALUE=DATE:20210715
SUMMARY:LoResMT  2021 Final Version Due
DESCRIPTION:THE FOURTH WORKSHOP ON TECHNOLOGIES FOR MT OF LOW-RESOURCE LA
 NGUAGES (LoResMT 2021)
URL:http://www.wikicfp.com/cfp/servlet/event.showcfp?eventid=129226&copyo
 wnerid=169141
UID:cfp886509-N@wikicfp.com
END:VEVENT
END:VCALENDAR
