BEGIN:VCALENDAR
PRODID:-//WikiCFP//DrDas 1.0//EN
VERSION:2.0
CALSCALE:GREGORIAN
BEGIN:VEVENT
DTSTAMP:20260420T221918Z
DTSTART;VALUE=DATE:20211027
DTEND;VALUE=DATE:20211028
SUMMARY:VizSec 2021
DESCRIPTION:18th IEEE Symposium on Visualization for Cyber Security
URL:http://www.wikicfp.com/cfp/servlet/event.showcfp?eventid=131759&copyo
 wnerid=168819
UID:cfp883953-E@wikicfp.com
END:VEVENT
BEGIN:VEVENT
DTSTAMP:20260420T221918Z
DTSTART;VALUE=DATE:20210628
SUMMARY:VizSec 2021 Deadline
DESCRIPTION:18th IEEE Symposium on Visualization for Cyber Security
URL:http://www.wikicfp.com/cfp/servlet/event.showcfp?eventid=131759&copyo
 wnerid=168819
UID:cfp883953-D@wikicfp.com
END:VEVENT
BEGIN:VEVENT
DTSTAMP:20260420T221918Z
DTSTART;VALUE=DATE:20210726
SUMMARY:VizSec 2021 Notification Due
DESCRIPTION:18th IEEE Symposium on Visualization for Cyber Security
URL:http://www.wikicfp.com/cfp/servlet/event.showcfp?eventid=131759&copyo
 wnerid=168819
UID:cfp883953-N@wikicfp.com
END:VEVENT
BEGIN:VEVENT
DTSTAMP:20260420T221918Z
DTSTART;VALUE=DATE:20210816
SUMMARY:VizSec 2021 Final Version Due
DESCRIPTION:18th IEEE Symposium on Visualization for Cyber Security
URL:http://www.wikicfp.com/cfp/servlet/event.showcfp?eventid=131759&copyo
 wnerid=168819
UID:cfp883953-N@wikicfp.com
END:VEVENT
BEGIN:VEVENT
DTSTAMP:20260420T221918Z
DTSTART;VALUE=DATE:20241011
DTEND;VALUE=DATE:20251012
SUMMARY:USEC 2025
DESCRIPTION:15th Symposium on Usable Security and Privacy (USEC) 2025
URL:http://www.wikicfp.com/cfp/servlet/event.showcfp?eventid=182800&copyo
 wnerid=168819
UID:cfp1000114-E@wikicfp.com
END:VEVENT
BEGIN:VEVENT
DTSTAMP:20260420T221918Z
DTSTART;VALUE=DATE:20241118
SUMMARY:USEC 2025 Deadline
DESCRIPTION:15th Symposium on Usable Security and Privacy (USEC) 2025
URL:http://www.wikicfp.com/cfp/servlet/event.showcfp?eventid=182800&copyo
 wnerid=168819
UID:cfp1000114-D@wikicfp.com
END:VEVENT
BEGIN:VEVENT
DTSTAMP:20260420T221918Z
DTSTART;VALUE=DATE:20241219
SUMMARY:USEC 2025 Notification Due
DESCRIPTION:15th Symposium on Usable Security and Privacy (USEC) 2025
URL:http://www.wikicfp.com/cfp/servlet/event.showcfp?eventid=182800&copyo
 wnerid=168819
UID:cfp1000114-N@wikicfp.com
END:VEVENT
BEGIN:VEVENT
DTSTAMP:20260420T221918Z
DTSTART;VALUE=DATE:20250128
SUMMARY:USEC 2025 Final Version Due
DESCRIPTION:15th Symposium on Usable Security and Privacy (USEC) 2025
URL:http://www.wikicfp.com/cfp/servlet/event.showcfp?eventid=182800&copyo
 wnerid=168819
UID:cfp1000114-N@wikicfp.com
END:VEVENT
END:VCALENDAR
