BEGIN:VCALENDAR
PRODID:-//WikiCFP//nicoediaz 1.0//EN
VERSION:2.0
CALSCALE:GREGORIAN
BEGIN:VEVENT
DTSTAMP:20260422T122720Z
DTSTART;VALUE=DATE:20210805
DTEND;VALUE=DATE:20210808
SUMMARY:AMCIS 2021
DESCRIPTION:The Americas Conference on Information Systems
URL:http://www.wikicfp.com/cfp/servlet/event.showcfp?eventid=111799&copyo
 wnerid=168302
UID:cfp897886-E@wikicfp.com
END:VEVENT
BEGIN:VEVENT
DTSTAMP:20260422T122720Z
DTSTART;VALUE=DATE:20211004
DTEND;VALUE=DATE:20211009
SUMMARY:ESORICS 2021
DESCRIPTION:European Symposium on Research in Computer Security
URL:http://www.wikicfp.com/cfp/servlet/event.showcfp?eventid=127519&copyo
 wnerid=168302
UID:cfp910087-E@wikicfp.com
END:VEVENT
BEGIN:VEVENT
DTSTAMP:20260422T122720Z
DTSTART;VALUE=DATE:20210105
SUMMARY:ESORICS 2021 Abstract Due
DESCRIPTION:European Symposium on Research in Computer Security
URL:http://www.wikicfp.com/cfp/servlet/event.showcfp?eventid=127519&copyo
 wnerid=168302
UID:cfp910087-A@wikicfp.com
END:VEVENT
BEGIN:VEVENT
DTSTAMP:20260422T122720Z
DTSTART;VALUE=DATE:20210505
SUMMARY:ESORICS 2021 Deadline
DESCRIPTION:European Symposium on Research in Computer Security
URL:http://www.wikicfp.com/cfp/servlet/event.showcfp?eventid=127519&copyo
 wnerid=168302
UID:cfp910087-D@wikicfp.com
END:VEVENT
BEGIN:VEVENT
DTSTAMP:20260422T122720Z
DTSTART;VALUE=DATE:20210712
SUMMARY:ESORICS 2021 Notification Due
DESCRIPTION:European Symposium on Research in Computer Security
URL:http://www.wikicfp.com/cfp/servlet/event.showcfp?eventid=127519&copyo
 wnerid=168302
UID:cfp910087-N@wikicfp.com
END:VEVENT
BEGIN:VEVENT
DTSTAMP:20260422T122720Z
DTSTART;VALUE=DATE:20210812
SUMMARY:ESORICS 2021 Final Version Due
DESCRIPTION:European Symposium on Research in Computer Security
URL:http://www.wikicfp.com/cfp/servlet/event.showcfp?eventid=127519&copyo
 wnerid=168302
UID:cfp910087-N@wikicfp.com
END:VEVENT
BEGIN:VEVENT
DTSTAMP:20260422T122720Z
DTSTART;VALUE=DATE:20210821
DTEND;VALUE=DATE:20210827
SUMMARY:IJCAI-AIofAI 2021
DESCRIPTION:1st Workshop on Adverse Impacts and Collateral Effects of AI 
 Technologies 
URL:http://www.wikicfp.com/cfp/servlet/event.showcfp?eventid=128704&copyo
 wnerid=168302
UID:cfp879128-E@wikicfp.com
END:VEVENT
BEGIN:VEVENT
DTSTAMP:20260422T122720Z
DTSTART;VALUE=DATE:20210510
SUMMARY:IJCAI-AIofAI 2021 Deadline
DESCRIPTION:1st Workshop on Adverse Impacts and Collateral Effects of AI 
 Technologies 
URL:http://www.wikicfp.com/cfp/servlet/event.showcfp?eventid=128704&copyo
 wnerid=168302
UID:cfp879128-D@wikicfp.com
END:VEVENT
BEGIN:VEVENT
DTSTAMP:20260422T122720Z
DTSTART;VALUE=DATE:20210525
SUMMARY:IJCAI-AIofAI 2021 Notification Due
DESCRIPTION:1st Workshop on Adverse Impacts and Collateral Effects of AI 
 Technologies 
URL:http://www.wikicfp.com/cfp/servlet/event.showcfp?eventid=128704&copyo
 wnerid=168302
UID:cfp879128-N@wikicfp.com
END:VEVENT
BEGIN:VEVENT
DTSTAMP:20260422T122720Z
DTSTART;VALUE=DATE:20210831
SUMMARY:UMOD 2021 Deadline
DESCRIPTION:Understanding and Mitigating Online Deception (Frontiers in A
 rtificial Intelligence) - ISSN: 2624-8212
URL:http://www.wikicfp.com/cfp/servlet/event.showcfp?eventid=132197&copyo
 wnerid=168302
UID:cfp884594-D@wikicfp.com
END:VEVENT
BEGIN:VEVENT
DTSTAMP:20260422T122720Z
DTSTART;VALUE=DATE:20220723
DTEND;VALUE=DATE:20220726
SUMMARY:IJCAI-AIofAI 2022
DESCRIPTION:2nd Workshop on Adverse Impacts and Collateral Effects of AI 
 Technologies
URL:http://www.wikicfp.com/cfp/servlet/event.showcfp?eventid=156537&copyo
 wnerid=168302
UID:cfp925019-E@wikicfp.com
END:VEVENT
BEGIN:VEVENT
DTSTAMP:20260422T122720Z
DTSTART;VALUE=DATE:20220520
SUMMARY:IJCAI-AIofAI 2022 Deadline
DESCRIPTION:2nd Workshop on Adverse Impacts and Collateral Effects of AI 
 Technologies
URL:http://www.wikicfp.com/cfp/servlet/event.showcfp?eventid=156537&copyo
 wnerid=168302
UID:cfp925019-D@wikicfp.com
END:VEVENT
BEGIN:VEVENT
DTSTAMP:20260422T122720Z
DTSTART;VALUE=DATE:20220603
SUMMARY:IJCAI-AIofAI 2022 Notification Due
DESCRIPTION:2nd Workshop on Adverse Impacts and Collateral Effects of AI 
 Technologies
URL:http://www.wikicfp.com/cfp/servlet/event.showcfp?eventid=156537&copyo
 wnerid=168302
UID:cfp925019-N@wikicfp.com
END:VEVENT
BEGIN:VEVENT
DTSTAMP:20260422T122720Z
DTSTART;VALUE=DATE:20221118
DTEND;VALUE=DATE:20221119
SUMMARY:MSR4P&S 2022
DESCRIPTION:EXTENDED! International Workshop on MSR Applications for Priv
 acy and Security (co-located with ESEC/FSE)
URL:http://www.wikicfp.com/cfp/servlet/event.showcfp?eventid=162997&copyo
 wnerid=168302
UID:cfp935389-E@wikicfp.com
END:VEVENT
BEGIN:VEVENT
DTSTAMP:20260422T122720Z
DTSTART;VALUE=DATE:20220731
SUMMARY:MSR4P&S 2022 Deadline
DESCRIPTION:EXTENDED! International Workshop on MSR Applications for Priv
 acy and Security (co-located with ESEC/FSE)
URL:http://www.wikicfp.com/cfp/servlet/event.showcfp?eventid=162997&copyo
 wnerid=168302
UID:cfp935389-D@wikicfp.com
END:VEVENT
BEGIN:VEVENT
DTSTAMP:20260422T122720Z
DTSTART;VALUE=DATE:20220815
SUMMARY:MSR4P&S 2022 Notification Due
DESCRIPTION:EXTENDED! International Workshop on MSR Applications for Priv
 acy and Security (co-located with ESEC/FSE)
URL:http://www.wikicfp.com/cfp/servlet/event.showcfp?eventid=162997&copyo
 wnerid=168302
UID:cfp935389-N@wikicfp.com
END:VEVENT
BEGIN:VEVENT
DTSTAMP:20260422T122720Z
DTSTART;VALUE=DATE:20220829
SUMMARY:MSR4P&S 2022 Final Version Due
DESCRIPTION:EXTENDED! International Workshop on MSR Applications for Priv
 acy and Security (co-located with ESEC/FSE)
URL:http://www.wikicfp.com/cfp/servlet/event.showcfp?eventid=162997&copyo
 wnerid=168302
UID:cfp935389-N@wikicfp.com
END:VEVENT
BEGIN:VEVENT
DTSTAMP:20260422T122720Z
DTSTART;VALUE=DATE:20230520
DTEND;VALUE=DATE:20230521
SUMMARY:ICSE SVM 2023
DESCRIPTION:International Workshop on Software Vulnerability Management
URL:http://www.wikicfp.com/cfp/servlet/event.showcfp?eventid=170588&copyo
 wnerid=168302
UID:cfp953680-E@wikicfp.com
END:VEVENT
BEGIN:VEVENT
DTSTAMP:20260422T122720Z
DTSTART;VALUE=DATE:20230120
SUMMARY:ICSE SVM 2023 Deadline
DESCRIPTION:International Workshop on Software Vulnerability Management
URL:http://www.wikicfp.com/cfp/servlet/event.showcfp?eventid=170588&copyo
 wnerid=168302
UID:cfp953680-D@wikicfp.com
END:VEVENT
BEGIN:VEVENT
DTSTAMP:20260422T122720Z
DTSTART;VALUE=DATE:20230224
SUMMARY:ICSE SVM 2023 Notification Due
DESCRIPTION:International Workshop on Software Vulnerability Management
URL:http://www.wikicfp.com/cfp/servlet/event.showcfp?eventid=170588&copyo
 wnerid=168302
UID:cfp953680-N@wikicfp.com
END:VEVENT
BEGIN:VEVENT
DTSTAMP:20260422T122720Z
DTSTART;VALUE=DATE:20230317
SUMMARY:ICSE SVM 2023 Final Version Due
DESCRIPTION:International Workshop on Software Vulnerability Management
URL:http://www.wikicfp.com/cfp/servlet/event.showcfp?eventid=170588&copyo
 wnerid=168302
UID:cfp953680-N@wikicfp.com
END:VEVENT
BEGIN:VEVENT
DTSTAMP:20260422T122720Z
DTSTART;VALUE=DATE:20230819
DTEND;VALUE=DATE:20230822
SUMMARY:IJCAI-AiOfAi 2023
DESCRIPTION:3rd Workshop on Adverse Impacts and Collateral Effects of AI 
 Technologies
URL:http://www.wikicfp.com/cfp/servlet/event.showcfp?eventid=172587&copyo
 wnerid=168302
UID:cfp961638-E@wikicfp.com
END:VEVENT
BEGIN:VEVENT
DTSTAMP:20260422T122720Z
DTSTART;VALUE=DATE:20230512
SUMMARY:IJCAI-AiOfAi 2023 Deadline
DESCRIPTION:3rd Workshop on Adverse Impacts and Collateral Effects of AI 
 Technologies
URL:http://www.wikicfp.com/cfp/servlet/event.showcfp?eventid=172587&copyo
 wnerid=168302
UID:cfp961638-D@wikicfp.com
END:VEVENT
BEGIN:VEVENT
DTSTAMP:20260422T122720Z
DTSTART;VALUE=DATE:20230601
SUMMARY:IJCAI-AiOfAi 2023 Notification Due
DESCRIPTION:3rd Workshop on Adverse Impacts and Collateral Effects of AI 
 Technologies
URL:http://www.wikicfp.com/cfp/servlet/event.showcfp?eventid=172587&copyo
 wnerid=168302
UID:cfp961638-N@wikicfp.com
END:VEVENT
BEGIN:VEVENT
DTSTAMP:20260422T122720Z
DTSTART;VALUE=DATE:20240312
DTEND;VALUE=DATE:20240313
SUMMARY:MSR4P&S 2024
DESCRIPTION:2nd International Workshop on MSR Applications for Privacy an
 d Security 
URL:http://www.wikicfp.com/cfp/servlet/event.showcfp?eventid=175499&copyo
 wnerid=168302
UID:cfp971819-E@wikicfp.com
END:VEVENT
BEGIN:VEVENT
DTSTAMP:20260422T122720Z
DTSTART;VALUE=DATE:20231213
SUMMARY:MSR4P&S 2024 Deadline
DESCRIPTION:2nd International Workshop on MSR Applications for Privacy an
 d Security 
URL:http://www.wikicfp.com/cfp/servlet/event.showcfp?eventid=175499&copyo
 wnerid=168302
UID:cfp971819-D@wikicfp.com
END:VEVENT
BEGIN:VEVENT
DTSTAMP:20260422T122720Z
DTSTART;VALUE=DATE:20240108
SUMMARY:MSR4P&S 2024 Notification Due
DESCRIPTION:2nd International Workshop on MSR Applications for Privacy an
 d Security 
URL:http://www.wikicfp.com/cfp/servlet/event.showcfp?eventid=175499&copyo
 wnerid=168302
UID:cfp971819-N@wikicfp.com
END:VEVENT
BEGIN:VEVENT
DTSTAMP:20260422T122720Z
DTSTART;VALUE=DATE:20240112
SUMMARY:MSR4P&S 2024 Final Version Due
DESCRIPTION:2nd International Workshop on MSR Applications for Privacy an
 d Security 
URL:http://www.wikicfp.com/cfp/servlet/event.showcfp?eventid=175499&copyo
 wnerid=168302
UID:cfp971819-N@wikicfp.com
END:VEVENT
END:VCALENDAR
