BEGIN:VCALENDAR
PRODID:-//WikiCFP//falharbi 1.0//EN
VERSION:2.0
CALSCALE:GREGORIAN
BEGIN:VEVENT
DTSTAMP:20260419T165007Z
DTSTART;VALUE=DATE:20140110
DTEND;VALUE=DATE:20140113
SUMMARY:CCSCI 2014
DESCRIPTION:2014 The International conference on communication systems an
 d computational intelligence
URL:http://www.wikicfp.com/cfp/servlet/event.showcfp?eventid=31738&copyow
 nerid=16768
UID:cfp393520-E@wikicfp.com
END:VEVENT
BEGIN:VEVENT
DTSTAMP:20260419T165007Z
DTSTART;VALUE=DATE:20131025
SUMMARY:CCSCI 2014 Deadline
DESCRIPTION:2014 The International conference on communication systems an
 d computational intelligence
URL:http://www.wikicfp.com/cfp/servlet/event.showcfp?eventid=31738&copyow
 nerid=16768
UID:cfp393520-D@wikicfp.com
END:VEVENT
BEGIN:VEVENT
DTSTAMP:20260419T165007Z
DTSTART;VALUE=DATE:20131120
SUMMARY:CCSCI 2014 Notification Due
DESCRIPTION:2014 The International conference on communication systems an
 d computational intelligence
URL:http://www.wikicfp.com/cfp/servlet/event.showcfp?eventid=31738&copyow
 nerid=16768
UID:cfp393520-N@wikicfp.com
END:VEVENT
BEGIN:VEVENT
DTSTAMP:20260419T165007Z
DTSTART;VALUE=DATE:20131205
SUMMARY:CCSCI 2014 Final Version Due
DESCRIPTION:2014 The International conference on communication systems an
 d computational intelligence
URL:http://www.wikicfp.com/cfp/servlet/event.showcfp?eventid=31738&copyow
 nerid=16768
UID:cfp393520-N@wikicfp.com
END:VEVENT
BEGIN:VEVENT
DTSTAMP:20260419T165007Z
DTSTART;VALUE=DATE:20140513
DTEND;VALUE=DATE:20140517
SUMMARY:NetMM 2014
DESCRIPTION:2nd International Workshop on Network Management and Monitori
 ng (NetMM 2014)
URL:http://www.wikicfp.com/cfp/servlet/event.showcfp?eventid=32614&copyow
 nerid=16768
UID:cfp393515-E@wikicfp.com
END:VEVENT
BEGIN:VEVENT
DTSTAMP:20260419T165007Z
DTSTART;VALUE=DATE:20131030
SUMMARY:NetMM 2014 Deadline
DESCRIPTION:2nd International Workshop on Network Management and Monitori
 ng (NetMM 2014)
URL:http://www.wikicfp.com/cfp/servlet/event.showcfp?eventid=32614&copyow
 nerid=16768
UID:cfp393515-D@wikicfp.com
END:VEVENT
BEGIN:VEVENT
DTSTAMP:20260419T165007Z
DTSTART;VALUE=DATE:20131225
SUMMARY:NetMM 2014 Notification Due
DESCRIPTION:2nd International Workshop on Network Management and Monitori
 ng (NetMM 2014)
URL:http://www.wikicfp.com/cfp/servlet/event.showcfp?eventid=32614&copyow
 nerid=16768
UID:cfp393515-N@wikicfp.com
END:VEVENT
BEGIN:VEVENT
DTSTAMP:20260419T165007Z
DTSTART;VALUE=DATE:20140319
DTEND;VALUE=DATE:20140323
SUMMARY:ComNet 2014
DESCRIPTION:The fourth International Conference on Communications and Net
 working 
URL:http://www.wikicfp.com/cfp/servlet/event.showcfp?eventid=33371&copyow
 nerid=16768
UID:cfp393517-E@wikicfp.com
END:VEVENT
BEGIN:VEVENT
DTSTAMP:20260419T165007Z
DTSTART;VALUE=DATE:20131031
SUMMARY:ComNet 2014 Deadline
DESCRIPTION:The fourth International Conference on Communications and Net
 working 
URL:http://www.wikicfp.com/cfp/servlet/event.showcfp?eventid=33371&copyow
 nerid=16768
UID:cfp393517-D@wikicfp.com
END:VEVENT
BEGIN:VEVENT
DTSTAMP:20260419T165007Z
DTSTART;VALUE=DATE:20140114
SUMMARY:ComNet 2014 Notification Due
DESCRIPTION:The fourth International Conference on Communications and Net
 working 
URL:http://www.wikicfp.com/cfp/servlet/event.showcfp?eventid=33371&copyow
 nerid=16768
UID:cfp393517-N@wikicfp.com
END:VEVENT
BEGIN:VEVENT
DTSTAMP:20260419T165007Z
DTSTART;VALUE=DATE:20140131
SUMMARY:ComNet 2014 Final Version Due
DESCRIPTION:The fourth International Conference on Communications and Net
 working 
URL:http://www.wikicfp.com/cfp/servlet/event.showcfp?eventid=33371&copyow
 nerid=16768
UID:cfp393517-N@wikicfp.com
END:VEVENT
BEGIN:VEVENT
DTSTAMP:20260419T165007Z
DTSTART;VALUE=DATE:20140210
DTEND;VALUE=DATE:20140213
SUMMARY:APCASE 2014
DESCRIPTION:The 2014 Asia-Pacific Conference on Computer Aided System Eng
 ineering
URL:http://www.wikicfp.com/cfp/servlet/event.showcfp?eventid=33416&copyow
 nerid=16768
UID:cfp393516-E@wikicfp.com
END:VEVENT
BEGIN:VEVENT
DTSTAMP:20260419T165007Z
DTSTART;VALUE=DATE:20131213
SUMMARY:APCASE 2014 Deadline
DESCRIPTION:The 2014 Asia-Pacific Conference on Computer Aided System Eng
 ineering
URL:http://www.wikicfp.com/cfp/servlet/event.showcfp?eventid=33416&copyow
 nerid=16768
UID:cfp393516-D@wikicfp.com
END:VEVENT
BEGIN:VEVENT
DTSTAMP:20260419T165007Z
DTSTART;VALUE=DATE:20131220
SUMMARY:APCASE 2014 Notification Due
DESCRIPTION:The 2014 Asia-Pacific Conference on Computer Aided System Eng
 ineering
URL:http://www.wikicfp.com/cfp/servlet/event.showcfp?eventid=33416&copyow
 nerid=16768
UID:cfp393516-N@wikicfp.com
END:VEVENT
BEGIN:VEVENT
DTSTAMP:20260419T165007Z
DTSTART;VALUE=DATE:20140312
SUMMARY:APCASE 2014 Final Version Due
DESCRIPTION:The 2014 Asia-Pacific Conference on Computer Aided System Eng
 ineering
URL:http://www.wikicfp.com/cfp/servlet/event.showcfp?eventid=33416&copyow
 nerid=16768
UID:cfp393516-N@wikicfp.com
END:VEVENT
BEGIN:VEVENT
DTSTAMP:20260419T165007Z
DTSTART;VALUE=DATE:20140509
DTEND;VALUE=DATE:20140510
SUMMARY:QCMAN 2014
DESCRIPTION:IEEE/IFIP Workshop on Quality of Experience Centric Managemen
 t
URL:http://www.wikicfp.com/cfp/servlet/event.showcfp?eventid=33431&copyow
 nerid=16768
UID:cfp393514-E@wikicfp.com
END:VEVENT
BEGIN:VEVENT
DTSTAMP:20260419T165007Z
DTSTART;VALUE=DATE:20140112
SUMMARY:QCMAN 2014 Abstract Due
DESCRIPTION:IEEE/IFIP Workshop on Quality of Experience Centric Managemen
 t
URL:http://www.wikicfp.com/cfp/servlet/event.showcfp?eventid=33431&copyow
 nerid=16768
UID:cfp393514-A@wikicfp.com
END:VEVENT
BEGIN:VEVENT
DTSTAMP:20260419T165007Z
DTSTART;VALUE=DATE:20140112
SUMMARY:QCMAN 2014 Deadline
DESCRIPTION:IEEE/IFIP Workshop on Quality of Experience Centric Managemen
 t
URL:http://www.wikicfp.com/cfp/servlet/event.showcfp?eventid=33431&copyow
 nerid=16768
UID:cfp393514-D@wikicfp.com
END:VEVENT
BEGIN:VEVENT
DTSTAMP:20260419T165007Z
DTSTART;VALUE=DATE:20140131
SUMMARY:QCMAN 2014 Notification Due
DESCRIPTION:IEEE/IFIP Workshop on Quality of Experience Centric Managemen
 t
URL:http://www.wikicfp.com/cfp/servlet/event.showcfp?eventid=33431&copyow
 nerid=16768
UID:cfp393514-N@wikicfp.com
END:VEVENT
BEGIN:VEVENT
DTSTAMP:20260419T165007Z
DTSTART;VALUE=DATE:20140215
SUMMARY:QCMAN 2014 Final Version Due
DESCRIPTION:IEEE/IFIP Workshop on Quality of Experience Centric Managemen
 t
URL:http://www.wikicfp.com/cfp/servlet/event.showcfp?eventid=33431&copyow
 nerid=16768
UID:cfp393514-N@wikicfp.com
END:VEVENT
END:VCALENDAR
