BEGIN:VCALENDAR
PRODID:-//WikiCFP//evarcurto 1.0//EN
VERSION:2.0
CALSCALE:GREGORIAN
BEGIN:VEVENT
DTSTAMP:20260425T105116Z
DTSTART;VALUE=DATE:20231001
DTEND;VALUE=DATE:20231006
SUMMARY:IROS 2023
DESCRIPTION:IEEE/RSJ International Conference on Intelligent Robots and S
 ystems
URL:http://www.wikicfp.com/cfp/servlet/event.showcfp?eventid=165228&copyo
 wnerid=167491
UID:cfp955947-E@wikicfp.com
END:VEVENT
BEGIN:VEVENT
DTSTAMP:20260425T105116Z
DTSTART;VALUE=DATE:20230301
SUMMARY:IROS 2023 Deadline
DESCRIPTION:IEEE/RSJ International Conference on Intelligent Robots and S
 ystems
URL:http://www.wikicfp.com/cfp/servlet/event.showcfp?eventid=165228&copyo
 wnerid=167491
UID:cfp955947-D@wikicfp.com
END:VEVENT
BEGIN:VEVENT
DTSTAMP:20260425T105116Z
DTSTART;VALUE=DATE:20230630
SUMMARY:IROS 2023 Notification Due
DESCRIPTION:IEEE/RSJ International Conference on Intelligent Robots and S
 ystems
URL:http://www.wikicfp.com/cfp/servlet/event.showcfp?eventid=165228&copyo
 wnerid=167491
UID:cfp955947-N@wikicfp.com
END:VEVENT
BEGIN:VEVENT
DTSTAMP:20260425T105116Z
DTSTART;VALUE=DATE:20230731
SUMMARY:IROS 2023 Final Version Due
DESCRIPTION:IEEE/RSJ International Conference on Intelligent Robots and S
 ystems
URL:http://www.wikicfp.com/cfp/servlet/event.showcfp?eventid=165228&copyo
 wnerid=167491
UID:cfp955947-N@wikicfp.com
END:VEVENT
BEGIN:VEVENT
DTSTAMP:20260425T105116Z
DTSTART;VALUE=DATE:20231002
DTEND;VALUE=DATE:20231007
SUMMARY:ICCV 2023
DESCRIPTION:International Conference on Computer Vision
URL:http://www.wikicfp.com/cfp/servlet/event.showcfp?eventid=169651&copyo
 wnerid=167491
UID:cfp955948-E@wikicfp.com
END:VEVENT
BEGIN:VEVENT
DTSTAMP:20260425T105116Z
DTSTART;VALUE=DATE:20230308
SUMMARY:ICCV 2023 Deadline
DESCRIPTION:International Conference on Computer Vision
URL:http://www.wikicfp.com/cfp/servlet/event.showcfp?eventid=169651&copyo
 wnerid=167491
UID:cfp955948-D@wikicfp.com
END:VEVENT
BEGIN:VEVENT
DTSTAMP:20260425T105116Z
DTSTART;VALUE=DATE:20230828
DTEND;VALUE=DATE:20230901
SUMMARY:RO-MAN 2023
DESCRIPTION:Robot and Human Interactive Communication
URL:http://www.wikicfp.com/cfp/servlet/event.showcfp?eventid=169196&copyo
 wnerid=167491
UID:cfp955949-E@wikicfp.com
END:VEVENT
BEGIN:VEVENT
DTSTAMP:20260425T105116Z
DTSTART;VALUE=DATE:20230317
SUMMARY:RO-MAN 2023 Deadline
DESCRIPTION:Robot and Human Interactive Communication
URL:http://www.wikicfp.com/cfp/servlet/event.showcfp?eventid=169196&copyo
 wnerid=167491
UID:cfp955949-D@wikicfp.com
END:VEVENT
BEGIN:VEVENT
DTSTAMP:20260425T105116Z
DTSTART;VALUE=DATE:20230526
SUMMARY:RO-MAN 2023 Notification Due
DESCRIPTION:Robot and Human Interactive Communication
URL:http://www.wikicfp.com/cfp/servlet/event.showcfp?eventid=169196&copyo
 wnerid=167491
UID:cfp955949-N@wikicfp.com
END:VEVENT
BEGIN:VEVENT
DTSTAMP:20260425T105116Z
DTSTART;VALUE=DATE:20230915
DTEND;VALUE=DATE:20230918
SUMMARY:IEEE ICRCV 2023
DESCRIPTION:IEEE--2023 5th International Conference on Robotics and Compu
 ter Vision (ICRCV 2023)
URL:http://www.wikicfp.com/cfp/servlet/event.showcfp?eventid=170439&copyo
 wnerid=167491
UID:cfp955950-E@wikicfp.com
END:VEVENT
BEGIN:VEVENT
DTSTAMP:20260425T105116Z
DTSTART;VALUE=DATE:20230801
SUMMARY:IEEE ICRCV 2023 Deadline
DESCRIPTION:IEEE--2023 5th International Conference on Robotics and Compu
 ter Vision (ICRCV 2023)
URL:http://www.wikicfp.com/cfp/servlet/event.showcfp?eventid=170439&copyo
 wnerid=167491
UID:cfp955950-D@wikicfp.com
END:VEVENT
END:VCALENDAR
