BEGIN:VCALENDAR
PRODID:-//WikiCFP//badong 1.0//EN
VERSION:2.0
CALSCALE:GREGORIAN
BEGIN:VEVENT
DTSTAMP:20260421T065441Z
DTSTART;VALUE=DATE:20210223
DTEND;VALUE=DATE:20210226
SUMMARY:africabanksummit 2021
DESCRIPTION:2nd Africa Bank 4.0 Summit (Virtual Event)
URL:http://www.wikicfp.com/cfp/servlet/event.showcfp?eventid=124298&copyo
 wnerid=167336
UID:cfp871727-E@wikicfp.com
END:VEVENT
BEGIN:VEVENT
DTSTAMP:20260421T065441Z
DTSTART;VALUE=DATE:20210131
SUMMARY:africabanksummit 2021 Deadline
DESCRIPTION:2nd Africa Bank 4.0 Summit (Virtual Event)
URL:http://www.wikicfp.com/cfp/servlet/event.showcfp?eventid=124298&copyo
 wnerid=167336
UID:cfp871727-D@wikicfp.com
END:VEVENT
BEGIN:VEVENT
DTSTAMP:20260421T065441Z
DTSTART;VALUE=DATE:20210131
SUMMARY:africabanksummit 2021 Notification Due
DESCRIPTION:2nd Africa Bank 4.0 Summit (Virtual Event)
URL:http://www.wikicfp.com/cfp/servlet/event.showcfp?eventid=124298&copyo
 wnerid=167336
UID:cfp871727-N@wikicfp.com
END:VEVENT
BEGIN:VEVENT
DTSTAMP:20260421T065441Z
DTSTART;VALUE=DATE:20210131
SUMMARY:africabanksummit 2021 Final Version Due
DESCRIPTION:2nd Africa Bank 4.0 Summit (Virtual Event)
URL:http://www.wikicfp.com/cfp/servlet/event.showcfp?eventid=124298&copyo
 wnerid=167336
UID:cfp871727-N@wikicfp.com
END:VEVENT
BEGIN:VEVENT
DTSTAMP:20260421T065441Z
DTSTART;VALUE=DATE:20210215
SUMMARY:CIM-XAI 2021 Deadline
DESCRIPTION:IEEE Computational Intelligence Magazine special issue on Exp
 lainable and Trustworthy Artificial Intelligence
URL:http://www.wikicfp.com/cfp/servlet/event.showcfp?eventid=124304&copyo
 wnerid=167336
UID:cfp871728-D@wikicfp.com
END:VEVENT
BEGIN:VEVENT
DTSTAMP:20260421T065441Z
DTSTART;VALUE=DATE:20210415
SUMMARY:CIM-XAI 2021 Notification Due
DESCRIPTION:IEEE Computational Intelligence Magazine special issue on Exp
 lainable and Trustworthy Artificial Intelligence
URL:http://www.wikicfp.com/cfp/servlet/event.showcfp?eventid=124304&copyo
 wnerid=167336
UID:cfp871728-N@wikicfp.com
END:VEVENT
BEGIN:VEVENT
DTSTAMP:20260421T065441Z
DTSTART;VALUE=DATE:20210701
SUMMARY:CIM-XAI 2021 Final Version Due
DESCRIPTION:IEEE Computational Intelligence Magazine special issue on Exp
 lainable and Trustworthy Artificial Intelligence
URL:http://www.wikicfp.com/cfp/servlet/event.showcfp?eventid=124304&copyo
 wnerid=167336
UID:cfp871728-N@wikicfp.com
END:VEVENT
BEGIN:VEVENT
DTSTAMP:20260421T065441Z
DTSTART;VALUE=DATE:20210517
DTEND;VALUE=DATE:20210521
SUMMARY:TEMSCON-EUR 2021
DESCRIPTION:2021 IEEE Technology & Engineering Management Conference - Eu
 rope
URL:http://www.wikicfp.com/cfp/servlet/event.showcfp?eventid=124294&copyo
 wnerid=167336
UID:cfp871723-E@wikicfp.com
END:VEVENT
BEGIN:VEVENT
DTSTAMP:20260421T065441Z
DTSTART;VALUE=DATE:20210221
SUMMARY:TEMSCON-EUR 2021 Deadline
DESCRIPTION:2021 IEEE Technology & Engineering Management Conference - Eu
 rope
URL:http://www.wikicfp.com/cfp/servlet/event.showcfp?eventid=124294&copyo
 wnerid=167336
UID:cfp871723-D@wikicfp.com
END:VEVENT
BEGIN:VEVENT
DTSTAMP:20260421T065441Z
DTSTART;VALUE=DATE:20210310
SUMMARY:TEMSCON-EUR 2021 Notification Due
DESCRIPTION:2021 IEEE Technology & Engineering Management Conference - Eu
 rope
URL:http://www.wikicfp.com/cfp/servlet/event.showcfp?eventid=124294&copyo
 wnerid=167336
UID:cfp871723-N@wikicfp.com
END:VEVENT
BEGIN:VEVENT
DTSTAMP:20260421T065441Z
DTSTART;VALUE=DATE:20210417
SUMMARY:TEMSCON-EUR 2021 Final Version Due
DESCRIPTION:2021 IEEE Technology & Engineering Management Conference - Eu
 rope
URL:http://www.wikicfp.com/cfp/servlet/event.showcfp?eventid=124294&copyo
 wnerid=167336
UID:cfp871723-N@wikicfp.com
END:VEVENT
BEGIN:VEVENT
DTSTAMP:20260421T065441Z
DTSTART;VALUE=DATE:20210423
DTEND;VALUE=DATE:20210426
SUMMARY:AI4EIoTS 2021
DESCRIPTION:IOTBDS 2021 Special Session Artificial Intelligence for Emerg
 ing IoT Systems: Open Challenges and Novel Perspectives
URL:http://www.wikicfp.com/cfp/servlet/event.showcfp?eventid=124293&copyo
 wnerid=167336
UID:cfp871722-E@wikicfp.com
END:VEVENT
BEGIN:VEVENT
DTSTAMP:20260421T065441Z
DTSTART;VALUE=DATE:20210224
SUMMARY:AI4EIoTS 2021 Deadline
DESCRIPTION:IOTBDS 2021 Special Session Artificial Intelligence for Emerg
 ing IoT Systems: Open Challenges and Novel Perspectives
URL:http://www.wikicfp.com/cfp/servlet/event.showcfp?eventid=124293&copyo
 wnerid=167336
UID:cfp871722-D@wikicfp.com
END:VEVENT
BEGIN:VEVENT
DTSTAMP:20260421T065441Z
DTSTART;VALUE=DATE:20210310
SUMMARY:AI4EIoTS 2021 Notification Due
DESCRIPTION:IOTBDS 2021 Special Session Artificial Intelligence for Emerg
 ing IoT Systems: Open Challenges and Novel Perspectives
URL:http://www.wikicfp.com/cfp/servlet/event.showcfp?eventid=124293&copyo
 wnerid=167336
UID:cfp871722-N@wikicfp.com
END:VEVENT
BEGIN:VEVENT
DTSTAMP:20260421T065441Z
DTSTART;VALUE=DATE:20210318
SUMMARY:AI4EIoTS 2021 Final Version Due
DESCRIPTION:IOTBDS 2021 Special Session Artificial Intelligence for Emerg
 ing IoT Systems: Open Challenges and Novel Perspectives
URL:http://www.wikicfp.com/cfp/servlet/event.showcfp?eventid=124293&copyo
 wnerid=167336
UID:cfp871722-N@wikicfp.com
END:VEVENT
BEGIN:VEVENT
DTSTAMP:20260421T065441Z
DTSTART;VALUE=DATE:20210228
SUMMARY:Cognitive Aspects of the Mental Lexicon 2021 Deadline
DESCRIPTION:The Mental Lexicon\, Blueprint of the Dictionaries of Tomorro
 w: Cognitive Aspects of the Lexicon
URL:http://www.wikicfp.com/cfp/servlet/event.showcfp?eventid=124307&copyo
 wnerid=167336
UID:cfp871729-D@wikicfp.com
END:VEVENT
BEGIN:VEVENT
DTSTAMP:20260421T065441Z
DTSTART;VALUE=DATE:20210315
SUMMARY:Cognitive Aspects of the Mental Lexicon 2021 Notification Due
DESCRIPTION:The Mental Lexicon\, Blueprint of the Dictionaries of Tomorro
 w: Cognitive Aspects of the Lexicon
URL:http://www.wikicfp.com/cfp/servlet/event.showcfp?eventid=124307&copyo
 wnerid=167336
UID:cfp871729-N@wikicfp.com
END:VEVENT
BEGIN:VEVENT
DTSTAMP:20260421T065441Z
DTSTART;VALUE=DATE:20210630
SUMMARY:Cognitive Aspects of the Mental Lexicon 2021 Final Version Due
DESCRIPTION:The Mental Lexicon\, Blueprint of the Dictionaries of Tomorro
 w: Cognitive Aspects of the Lexicon
URL:http://www.wikicfp.com/cfp/servlet/event.showcfp?eventid=124307&copyo
 wnerid=167336
UID:cfp871729-N@wikicfp.com
END:VEVENT
BEGIN:VEVENT
DTSTAMP:20260421T065441Z
DTSTART;VALUE=DATE:20210614
DTEND;VALUE=DATE:20210615
SUMMARY:MARESEC 2021
DESCRIPTION:European Workshop on Maritime Systems Resilience and Security
 
URL:http://www.wikicfp.com/cfp/servlet/event.showcfp?eventid=124280&copyo
 wnerid=167336
UID:cfp871710-E@wikicfp.com
END:VEVENT
BEGIN:VEVENT
DTSTAMP:20260421T065441Z
DTSTART;VALUE=DATE:20210312
SUMMARY:MARESEC 2021 Deadline
DESCRIPTION:European Workshop on Maritime Systems Resilience and Security
 
URL:http://www.wikicfp.com/cfp/servlet/event.showcfp?eventid=124280&copyo
 wnerid=167336
UID:cfp871710-D@wikicfp.com
END:VEVENT
BEGIN:VEVENT
DTSTAMP:20260421T065441Z
DTSTART;VALUE=DATE:20210416
SUMMARY:MARESEC 2021 Notification Due
DESCRIPTION:European Workshop on Maritime Systems Resilience and Security
 
URL:http://www.wikicfp.com/cfp/servlet/event.showcfp?eventid=124280&copyo
 wnerid=167336
UID:cfp871710-N@wikicfp.com
END:VEVENT
BEGIN:VEVENT
DTSTAMP:20260421T065441Z
DTSTART;VALUE=DATE:20210717
SUMMARY:MARESEC 2021 Final Version Due
DESCRIPTION:European Workshop on Maritime Systems Resilience and Security
 
URL:http://www.wikicfp.com/cfp/servlet/event.showcfp?eventid=124280&copyo
 wnerid=167336
UID:cfp871710-N@wikicfp.com
END:VEVENT
BEGIN:VEVENT
DTSTAMP:20260421T065441Z
DTSTART;VALUE=DATE:20210621
DTEND;VALUE=DATE:20210622
SUMMARY:SensoryX 2021
DESCRIPTION:SensoryX '21 - Workshop on Multisensory Experiences at ACM IM
 X '21
URL:http://www.wikicfp.com/cfp/servlet/event.showcfp?eventid=124289&copyo
 wnerid=167336
UID:cfp871719-E@wikicfp.com
END:VEVENT
BEGIN:VEVENT
DTSTAMP:20260421T065441Z
DTSTART;VALUE=DATE:20210319
SUMMARY:SensoryX 2021 Deadline
DESCRIPTION:SensoryX '21 - Workshop on Multisensory Experiences at ACM IM
 X '21
URL:http://www.wikicfp.com/cfp/servlet/event.showcfp?eventid=124289&copyo
 wnerid=167336
UID:cfp871719-D@wikicfp.com
END:VEVENT
BEGIN:VEVENT
DTSTAMP:20260421T065441Z
DTSTART;VALUE=DATE:20210423
SUMMARY:SensoryX 2021 Notification Due
DESCRIPTION:SensoryX '21 - Workshop on Multisensory Experiences at ACM IM
 X '21
URL:http://www.wikicfp.com/cfp/servlet/event.showcfp?eventid=124289&copyo
 wnerid=167336
UID:cfp871719-N@wikicfp.com
END:VEVENT
BEGIN:VEVENT
DTSTAMP:20260421T065441Z
DTSTART;VALUE=DATE:20210521
SUMMARY:SensoryX 2021 Final Version Due
DESCRIPTION:SensoryX '21 - Workshop on Multisensory Experiences at ACM IM
 X '21
URL:http://www.wikicfp.com/cfp/servlet/event.showcfp?eventid=124289&copyo
 wnerid=167336
UID:cfp871719-N@wikicfp.com
END:VEVENT
BEGIN:VEVENT
DTSTAMP:20260421T065441Z
DTSTART;VALUE=DATE:20210908
DTEND;VALUE=DATE:20210912
SUMMARY:QUATIC 2021
DESCRIPTION:International Conference on the Quality of Information and Co
 mmunications Technology
URL:http://www.wikicfp.com/cfp/servlet/event.showcfp?eventid=124295&copyo
 wnerid=167336
UID:cfp871724-E@wikicfp.com
END:VEVENT
BEGIN:VEVENT
DTSTAMP:20260421T065441Z
DTSTART;VALUE=DATE:20210410
SUMMARY:QUATIC 2021 Deadline
DESCRIPTION:International Conference on the Quality of Information and Co
 mmunications Technology
URL:http://www.wikicfp.com/cfp/servlet/event.showcfp?eventid=124295&copyo
 wnerid=167336
UID:cfp871724-D@wikicfp.com
END:VEVENT
BEGIN:VEVENT
DTSTAMP:20260421T065441Z
DTSTART;VALUE=DATE:20210507
SUMMARY:QUATIC 2021 Notification Due
DESCRIPTION:International Conference on the Quality of Information and Co
 mmunications Technology
URL:http://www.wikicfp.com/cfp/servlet/event.showcfp?eventid=124295&copyo
 wnerid=167336
UID:cfp871724-N@wikicfp.com
END:VEVENT
BEGIN:VEVENT
DTSTAMP:20260421T065441Z
DTSTART;VALUE=DATE:20210531
SUMMARY:QUATIC 2021 Final Version Due
DESCRIPTION:International Conference on the Quality of Information and Co
 mmunications Technology
URL:http://www.wikicfp.com/cfp/servlet/event.showcfp?eventid=124295&copyo
 wnerid=167336
UID:cfp871724-N@wikicfp.com
END:VEVENT
BEGIN:VEVENT
DTSTAMP:20260421T065441Z
DTSTART;VALUE=DATE:20211017
DTEND;VALUE=DATE:20211022
SUMMARY:NMDC 2021
DESCRIPTION:2021 IEEE 16th Nanotechnology Materials and Devices Conferenc
 e (NMDC)
URL:http://www.wikicfp.com/cfp/servlet/event.showcfp?eventid=124296&copyo
 wnerid=167336
UID:cfp871725-E@wikicfp.com
END:VEVENT
BEGIN:VEVENT
DTSTAMP:20260421T065441Z
DTSTART;VALUE=DATE:20210516
SUMMARY:NMDC 2021 Abstract Due
DESCRIPTION:2021 IEEE 16th Nanotechnology Materials and Devices Conferenc
 e (NMDC)
URL:http://www.wikicfp.com/cfp/servlet/event.showcfp?eventid=124296&copyo
 wnerid=167336
UID:cfp871725-A@wikicfp.com
END:VEVENT
BEGIN:VEVENT
DTSTAMP:20260421T065441Z
DTSTART;VALUE=DATE:20210616
SUMMARY:NMDC 2021 Deadline
DESCRIPTION:2021 IEEE 16th Nanotechnology Materials and Devices Conferenc
 e (NMDC)
URL:http://www.wikicfp.com/cfp/servlet/event.showcfp?eventid=124296&copyo
 wnerid=167336
UID:cfp871725-D@wikicfp.com
END:VEVENT
BEGIN:VEVENT
DTSTAMP:20260421T065441Z
DTSTART;VALUE=DATE:20210725
SUMMARY:NMDC 2021 Notification Due
DESCRIPTION:2021 IEEE 16th Nanotechnology Materials and Devices Conferenc
 e (NMDC)
URL:http://www.wikicfp.com/cfp/servlet/event.showcfp?eventid=124296&copyo
 wnerid=167336
UID:cfp871725-N@wikicfp.com
END:VEVENT
BEGIN:VEVENT
DTSTAMP:20260421T065441Z
DTSTART;VALUE=DATE:20210811
SUMMARY:NMDC 2021 Final Version Due
DESCRIPTION:2021 IEEE 16th Nanotechnology Materials and Devices Conferenc
 e (NMDC)
URL:http://www.wikicfp.com/cfp/servlet/event.showcfp?eventid=124296&copyo
 wnerid=167336
UID:cfp871725-N@wikicfp.com
END:VEVENT
BEGIN:VEVENT
DTSTAMP:20260421T065441Z
DTSTART;VALUE=DATE:20210812
DTEND;VALUE=DATE:20210815
SUMMARY:ICKET--Ei Compendex\, Scopus 2021
DESCRIPTION:2021 10th International Conference on Knowledge and Education
  Technology (ICKET 2021)--Ei Compendex\, Scopus
URL:http://www.wikicfp.com/cfp/servlet/event.showcfp?eventid=124285&copyo
 wnerid=167336
UID:cfp871715-E@wikicfp.com
END:VEVENT
BEGIN:VEVENT
DTSTAMP:20260421T065441Z
DTSTART;VALUE=DATE:20210710
SUMMARY:ICKET--Ei Compendex\, Scopus 2021 Deadline
DESCRIPTION:2021 10th International Conference on Knowledge and Education
  Technology (ICKET 2021)--Ei Compendex\, Scopus
URL:http://www.wikicfp.com/cfp/servlet/event.showcfp?eventid=124285&copyo
 wnerid=167336
UID:cfp871715-D@wikicfp.com
END:VEVENT
BEGIN:VEVENT
DTSTAMP:20260421T065441Z
DTSTART;VALUE=DATE:20210812
DTEND;VALUE=DATE:20210815
SUMMARY:ICKET--Ei\, Scopus 2021
DESCRIPTION:2021 10th International Conference on Knowledge and Education
  Technology (ICKET 2021)--Ei Compendex\, Scopus
URL:http://www.wikicfp.com/cfp/servlet/event.showcfp?eventid=124286&copyo
 wnerid=167336
UID:cfp871716-E@wikicfp.com
END:VEVENT
BEGIN:VEVENT
DTSTAMP:20260421T065441Z
DTSTART;VALUE=DATE:20210710
SUMMARY:ICKET--Ei\, Scopus 2021 Deadline
DESCRIPTION:2021 10th International Conference on Knowledge and Education
  Technology (ICKET 2021)--Ei Compendex\, Scopus
URL:http://www.wikicfp.com/cfp/servlet/event.showcfp?eventid=124286&copyo
 wnerid=167336
UID:cfp871716-D@wikicfp.com
END:VEVENT
BEGIN:VEVENT
DTSTAMP:20260421T065441Z
DTSTART;VALUE=DATE:20210723
DTEND;VALUE=DATE:20210726
SUMMARY:ACM-DMBD 2021
DESCRIPTION:2021 4th International Conference on Data Mining and Big Data
  (DMBD 2021)
URL:http://www.wikicfp.com/cfp/servlet/event.showcfp?eventid=124291&copyo
 wnerid=167336
UID:cfp871720-E@wikicfp.com
END:VEVENT
BEGIN:VEVENT
DTSTAMP:20260421T065441Z
DTSTART;VALUE=DATE:20210710
SUMMARY:ACM-DMBD 2021 Deadline
DESCRIPTION:2021 4th International Conference on Data Mining and Big Data
  (DMBD 2021)
URL:http://www.wikicfp.com/cfp/servlet/event.showcfp?eventid=124291&copyo
 wnerid=167336
UID:cfp871720-D@wikicfp.com
END:VEVENT
BEGIN:VEVENT
DTSTAMP:20260421T065441Z
DTSTART;VALUE=DATE:20210917
DTEND;VALUE=DATE:20210921
SUMMARY:ICSGT--Ei Compendex\, Scopus 2021
DESCRIPTION:2021 3rd International Conference on Smart Grid Technologies 
 (ICSGT 2021)--Ei Compendex\, Scopus
URL:http://www.wikicfp.com/cfp/servlet/event.showcfp?eventid=124287&copyo
 wnerid=167336
UID:cfp871717-E@wikicfp.com
END:VEVENT
BEGIN:VEVENT
DTSTAMP:20260421T065441Z
DTSTART;VALUE=DATE:20210725
SUMMARY:ICSGT--Ei Compendex\, Scopus 2021 Deadline
DESCRIPTION:2021 3rd International Conference on Smart Grid Technologies 
 (ICSGT 2021)--Ei Compendex\, Scopus
URL:http://www.wikicfp.com/cfp/servlet/event.showcfp?eventid=124287&copyo
 wnerid=167336
UID:cfp871717-D@wikicfp.com
END:VEVENT
BEGIN:VEVENT
DTSTAMP:20260421T065441Z
DTSTART;VALUE=DATE:20210917
DTEND;VALUE=DATE:20210921
SUMMARY:ICSGT--Ei\, Scopus 2021
DESCRIPTION:2021 3rd International Conference on Smart Grid Technologies 
 (ICSGT 2021)--Ei Compendex\, Scopus
URL:http://www.wikicfp.com/cfp/servlet/event.showcfp?eventid=124288&copyo
 wnerid=167336
UID:cfp871718-E@wikicfp.com
END:VEVENT
BEGIN:VEVENT
DTSTAMP:20260421T065441Z
DTSTART;VALUE=DATE:20210725
SUMMARY:ICSGT--Ei\, Scopus 2021 Deadline
DESCRIPTION:2021 3rd International Conference on Smart Grid Technologies 
 (ICSGT 2021)--Ei Compendex\, Scopus
URL:http://www.wikicfp.com/cfp/servlet/event.showcfp?eventid=124288&copyo
 wnerid=167336
UID:cfp871718-D@wikicfp.com
END:VEVENT
BEGIN:VEVENT
DTSTAMP:20260421T065441Z
DTSTART;VALUE=DATE:20211120
DTEND;VALUE=DATE:20211123
SUMMARY:EAIT--ACM\, EI\, Scopus 2021
DESCRIPTION:ACM--2021 2nd International Conference on Education and Artif
 icial Intelligence Technologies (EAIT 2021)--Ei Compendex\, Scopus
URL:http://www.wikicfp.com/cfp/servlet/event.showcfp?eventid=124281&copyo
 wnerid=167336
UID:cfp871711-E@wikicfp.com
END:VEVENT
BEGIN:VEVENT
DTSTAMP:20260421T065441Z
DTSTART;VALUE=DATE:20211005
SUMMARY:EAIT--ACM\, EI\, Scopus 2021 Deadline
DESCRIPTION:ACM--2021 2nd International Conference on Education and Artif
 icial Intelligence Technologies (EAIT 2021)--Ei Compendex\, Scopus
URL:http://www.wikicfp.com/cfp/servlet/event.showcfp?eventid=124281&copyo
 wnerid=167336
UID:cfp871711-D@wikicfp.com
END:VEVENT
BEGIN:VEVENT
DTSTAMP:20260421T065441Z
DTSTART;VALUE=DATE:20211120
DTEND;VALUE=DATE:20211123
SUMMARY:ACM--EAIT--EI Compendex\, Scopus 2021
DESCRIPTION:ACM--2021 2nd International Conference on Education and Artif
 icial Intelligence Technologies (EAIT 2021)--Ei Compendex\, Scopus
URL:http://www.wikicfp.com/cfp/servlet/event.showcfp?eventid=124282&copyo
 wnerid=167336
UID:cfp871712-E@wikicfp.com
END:VEVENT
BEGIN:VEVENT
DTSTAMP:20260421T065441Z
DTSTART;VALUE=DATE:20211005
SUMMARY:ACM--EAIT--EI Compendex\, Scopus 2021 Deadline
DESCRIPTION:ACM--2021 2nd International Conference on Education and Artif
 icial Intelligence Technologies (EAIT 2021)--Ei Compendex\, Scopus
URL:http://www.wikicfp.com/cfp/servlet/event.showcfp?eventid=124282&copyo
 wnerid=167336
UID:cfp871712-D@wikicfp.com
END:VEVENT
BEGIN:VEVENT
DTSTAMP:20260421T065441Z
DTSTART;VALUE=DATE:20211120
DTEND;VALUE=DATE:20211123
SUMMARY:ICAAI--ACM\, Ei Compendex\, Scopus 2021
DESCRIPTION:ACM--2021 The 5th International Conference on Advances in Art
 ificial Intelligence (ICAAI 2021)--Ei Compendex\, Scopus
URL:http://www.wikicfp.com/cfp/servlet/event.showcfp?eventid=124284&copyo
 wnerid=167336
UID:cfp871714-E@wikicfp.com
END:VEVENT
BEGIN:VEVENT
DTSTAMP:20260421T065441Z
DTSTART;VALUE=DATE:20211005
SUMMARY:ICAAI--ACM\, Ei Compendex\, Scopus 2021 Deadline
DESCRIPTION:ACM--2021 The 5th International Conference on Advances in Art
 ificial Intelligence (ICAAI 2021)--Ei Compendex\, Scopus
URL:http://www.wikicfp.com/cfp/servlet/event.showcfp?eventid=124284&copyo
 wnerid=167336
UID:cfp871714-D@wikicfp.com
END:VEVENT
BEGIN:VEVENT
DTSTAMP:20260421T065441Z
DTSTART;VALUE=DATE:20211207
DTEND;VALUE=DATE:20211212
SUMMARY:SGEM Vienna Green  2021
DESCRIPTION:21st International Scientific GeoConference SGEM Vienna Green
  2021
URL:http://www.wikicfp.com/cfp/servlet/event.showcfp?eventid=124297&copyo
 wnerid=167336
UID:cfp871726-E@wikicfp.com
END:VEVENT
BEGIN:VEVENT
DTSTAMP:20260421T065441Z
DTSTART;VALUE=DATE:20211011
SUMMARY:SGEM Vienna Green  2021 Deadline
DESCRIPTION:21st International Scientific GeoConference SGEM Vienna Green
  2021
URL:http://www.wikicfp.com/cfp/servlet/event.showcfp?eventid=124297&copyo
 wnerid=167336
UID:cfp871726-D@wikicfp.com
END:VEVENT
BEGIN:VEVENT
DTSTAMP:20260421T065441Z
DTSTART;VALUE=DATE:20220528
DTEND;VALUE=DATE:20220530
SUMMARY:CYBI 2022
DESCRIPTION:9th International Conference on Cybernetics & Informatics 
URL:http://www.wikicfp.com/cfp/servlet/event.showcfp?eventid=124292&copyo
 wnerid=167336
UID:cfp871721-E@wikicfp.com
END:VEVENT
BEGIN:VEVENT
DTSTAMP:20260421T065441Z
DTSTART;VALUE=DATE:20220514
SUMMARY:CYBI 2022 Deadline
DESCRIPTION:9th International Conference on Cybernetics & Informatics 
URL:http://www.wikicfp.com/cfp/servlet/event.showcfp?eventid=124292&copyo
 wnerid=167336
UID:cfp871721-D@wikicfp.com
END:VEVENT
BEGIN:VEVENT
DTSTAMP:20260421T065441Z
DTSTART;VALUE=DATE:20220522
SUMMARY:CYBI 2022 Notification Due
DESCRIPTION:9th International Conference on Cybernetics & Informatics 
URL:http://www.wikicfp.com/cfp/servlet/event.showcfp?eventid=124292&copyo
 wnerid=167336
UID:cfp871721-N@wikicfp.com
END:VEVENT
BEGIN:VEVENT
DTSTAMP:20260421T065441Z
DTSTART;VALUE=DATE:20220524
SUMMARY:CYBI 2022 Final Version Due
DESCRIPTION:9th International Conference on Cybernetics & Informatics 
URL:http://www.wikicfp.com/cfp/servlet/event.showcfp?eventid=124292&copyo
 wnerid=167336
UID:cfp871721-N@wikicfp.com
END:VEVENT
END:VCALENDAR
