BEGIN:VCALENDAR
PRODID:-//WikiCFP//rah_you 1.0//EN
VERSION:2.0
CALSCALE:GREGORIAN
BEGIN:VEVENT
DTSTAMP:20260419T135811Z
DTSTART;VALUE=DATE:20110721
DTEND;VALUE=DATE:20110723
SUMMARY:ICSCCN 2011
DESCRIPTION:International Conference on Signal Processing\, Communication
 \, Computing and Networking Technologies
URL:http://www.wikicfp.com/cfp/servlet/event.showcfp?eventid=13543&copyow
 nerid=16727
UID:cfp171273-E@wikicfp.com
END:VEVENT
BEGIN:VEVENT
DTSTAMP:20260419T135811Z
DTSTART;VALUE=DATE:20110315
SUMMARY:ICSCCN 2011 Deadline
DESCRIPTION:International Conference on Signal Processing\, Communication
 \, Computing and Networking Technologies
URL:http://www.wikicfp.com/cfp/servlet/event.showcfp?eventid=13543&copyow
 nerid=16727
UID:cfp171273-D@wikicfp.com
END:VEVENT
BEGIN:VEVENT
DTSTAMP:20260419T135811Z
DTSTART;VALUE=DATE:20110425
SUMMARY:ICSCCN 2011 Notification Due
DESCRIPTION:International Conference on Signal Processing\, Communication
 \, Computing and Networking Technologies
URL:http://www.wikicfp.com/cfp/servlet/event.showcfp?eventid=13543&copyow
 nerid=16727
UID:cfp171273-N@wikicfp.com
END:VEVENT
BEGIN:VEVENT
DTSTAMP:20260419T135811Z
DTSTART;VALUE=DATE:20110525
SUMMARY:ICSCCN 2011 Final Version Due
DESCRIPTION:International Conference on Signal Processing\, Communication
 \, Computing and Networking Technologies
URL:http://www.wikicfp.com/cfp/servlet/event.showcfp?eventid=13543&copyow
 nerid=16727
UID:cfp171273-N@wikicfp.com
END:VEVENT
BEGIN:VEVENT
DTSTAMP:20260419T135811Z
DTSTART;VALUE=DATE:20111013
DTEND;VALUE=DATE:20111015
SUMMARY:ICCKE 2011
DESCRIPTION:International Conference on Computer and Knowledge Engineerin
 g
URL:http://www.wikicfp.com/cfp/servlet/event.showcfp?eventid=13665&copyow
 nerid=16727
UID:cfp171272-E@wikicfp.com
END:VEVENT
BEGIN:VEVENT
DTSTAMP:20260419T135811Z
DTSTART;VALUE=DATE:20110701
SUMMARY:ICCKE 2011 Deadline
DESCRIPTION:International Conference on Computer and Knowledge Engineerin
 g
URL:http://www.wikicfp.com/cfp/servlet/event.showcfp?eventid=13665&copyow
 nerid=16727
UID:cfp171272-D@wikicfp.com
END:VEVENT
BEGIN:VEVENT
DTSTAMP:20260419T135811Z
DTSTART;VALUE=DATE:20110901
SUMMARY:ICCKE 2011 Notification Due
DESCRIPTION:International Conference on Computer and Knowledge Engineerin
 g
URL:http://www.wikicfp.com/cfp/servlet/event.showcfp?eventid=13665&copyow
 nerid=16727
UID:cfp171272-N@wikicfp.com
END:VEVENT
BEGIN:VEVENT
DTSTAMP:20260419T135811Z
DTSTART;VALUE=DATE:20111001
SUMMARY:ICCKE 2011 Final Version Due
DESCRIPTION:International Conference on Computer and Knowledge Engineerin
 g
URL:http://www.wikicfp.com/cfp/servlet/event.showcfp?eventid=13665&copyow
 nerid=16727
UID:cfp171272-N@wikicfp.com
END:VEVENT
END:VCALENDAR
