BEGIN:VCALENDAR
PRODID:-//WikiCFP//ekamba 1.0//EN
VERSION:2.0
CALSCALE:GREGORIAN
BEGIN:VEVENT
DTSTAMP:20260421T141204Z
DTSTART;VALUE=DATE:20221223
DTEND;VALUE=DATE:20221225
SUMMARY:NLPTA 2022
DESCRIPTION:3rd International Conference on NLP Techniques and Applicatio
 ns
URL:http://www.wikicfp.com/cfp/servlet/event.showcfp?eventid=146828&copyo
 wnerid=166572
UID:cfp905799-E@wikicfp.com
END:VEVENT
BEGIN:VEVENT
DTSTAMP:20260421T141204Z
DTSTART;VALUE=DATE:20221111
SUMMARY:NLPTA 2022 Deadline
DESCRIPTION:3rd International Conference on NLP Techniques and Applicatio
 ns
URL:http://www.wikicfp.com/cfp/servlet/event.showcfp?eventid=146828&copyo
 wnerid=166572
UID:cfp905799-D@wikicfp.com
END:VEVENT
BEGIN:VEVENT
DTSTAMP:20260421T141204Z
DTSTART;VALUE=DATE:20221219
SUMMARY:NLPTA 2022 Notification Due
DESCRIPTION:3rd International Conference on NLP Techniques and Applicatio
 ns
URL:http://www.wikicfp.com/cfp/servlet/event.showcfp?eventid=146828&copyo
 wnerid=166572
UID:cfp905799-N@wikicfp.com
END:VEVENT
BEGIN:VEVENT
DTSTAMP:20260421T141204Z
DTSTART;VALUE=DATE:20221221
SUMMARY:NLPTA 2022 Final Version Due
DESCRIPTION:3rd International Conference on NLP Techniques and Applicatio
 ns
URL:http://www.wikicfp.com/cfp/servlet/event.showcfp?eventid=146828&copyo
 wnerid=166572
UID:cfp905799-N@wikicfp.com
END:VEVENT
BEGIN:VEVENT
DTSTAMP:20260421T141204Z
DTSTART;VALUE=DATE:20230513
DTEND;VALUE=DATE:20230515
SUMMARY:MSE 2023
DESCRIPTION:7th International Conference on Materials Science and Enginee
 ring
URL:http://www.wikicfp.com/cfp/servlet/event.showcfp?eventid=153664&copyo
 wnerid=166572
UID:cfp918012-E@wikicfp.com
END:VEVENT
BEGIN:VEVENT
DTSTAMP:20260421T141204Z
DTSTART;VALUE=DATE:20230429
SUMMARY:MSE 2023 Deadline
DESCRIPTION:7th International Conference on Materials Science and Enginee
 ring
URL:http://www.wikicfp.com/cfp/servlet/event.showcfp?eventid=153664&copyo
 wnerid=166572
UID:cfp918012-D@wikicfp.com
END:VEVENT
BEGIN:VEVENT
DTSTAMP:20260421T141204Z
DTSTART;VALUE=DATE:20230509
SUMMARY:MSE 2023 Notification Due
DESCRIPTION:7th International Conference on Materials Science and Enginee
 ring
URL:http://www.wikicfp.com/cfp/servlet/event.showcfp?eventid=153664&copyo
 wnerid=166572
UID:cfp918012-N@wikicfp.com
END:VEVENT
BEGIN:VEVENT
DTSTAMP:20260421T141204Z
DTSTART;VALUE=DATE:20230511
SUMMARY:MSE 2023 Final Version Due
DESCRIPTION:7th International Conference on Materials Science and Enginee
 ring
URL:http://www.wikicfp.com/cfp/servlet/event.showcfp?eventid=153664&copyo
 wnerid=166572
UID:cfp918012-N@wikicfp.com
END:VEVENT
BEGIN:VEVENT
DTSTAMP:20260421T141204Z
DTSTART;VALUE=DATE:20230624
SUMMARY:CSEIJ 2023 Deadline
DESCRIPTION:Computer Science & Engineering: An International Journal
URL:http://www.wikicfp.com/cfp/servlet/event.showcfp?eventid=152105&copyo
 wnerid=166572
UID:cfp914823-D@wikicfp.com
END:VEVENT
BEGIN:VEVENT
DTSTAMP:20260421T141204Z
DTSTART;VALUE=DATE:20230724
SUMMARY:CSEIJ 2023 Notification Due
DESCRIPTION:Computer Science & Engineering: An International Journal
URL:http://www.wikicfp.com/cfp/servlet/event.showcfp?eventid=152105&copyo
 wnerid=166572
UID:cfp914823-N@wikicfp.com
END:VEVENT
BEGIN:VEVENT
DTSTAMP:20260421T141204Z
DTSTART;VALUE=DATE:20230731
SUMMARY:CSEIJ 2023 Final Version Due
DESCRIPTION:Computer Science & Engineering: An International Journal
URL:http://www.wikicfp.com/cfp/servlet/event.showcfp?eventid=152105&copyo
 wnerid=166572
UID:cfp914823-N@wikicfp.com
END:VEVENT
BEGIN:VEVENT
DTSTAMP:20260421T141204Z
DTSTART;VALUE=DATE:20231007
SUMMARY:AEIJ 2023 Deadline
DESCRIPTION:Advanced Energy: An International Journal
URL:http://www.wikicfp.com/cfp/servlet/event.showcfp?eventid=147151&copyo
 wnerid=166572
UID:cfp906403-D@wikicfp.com
END:VEVENT
BEGIN:VEVENT
DTSTAMP:20260421T141204Z
DTSTART;VALUE=DATE:20231028
SUMMARY:AEIJ 2023 Notification Due
DESCRIPTION:Advanced Energy: An International Journal
URL:http://www.wikicfp.com/cfp/servlet/event.showcfp?eventid=147151&copyo
 wnerid=166572
UID:cfp906403-N@wikicfp.com
END:VEVENT
BEGIN:VEVENT
DTSTAMP:20260421T141204Z
DTSTART;VALUE=DATE:20231030
SUMMARY:AEIJ 2023 Final Version Due
DESCRIPTION:Advanced Energy: An International Journal
URL:http://www.wikicfp.com/cfp/servlet/event.showcfp?eventid=147151&copyo
 wnerid=166572
UID:cfp906403-N@wikicfp.com
END:VEVENT
BEGIN:VEVENT
DTSTAMP:20260421T141204Z
DTSTART;VALUE=DATE:20231031
SUMMARY:IJAD 2023 Deadline
DESCRIPTION:International Journal of Advanced Dermatology 
URL:http://www.wikicfp.com/cfp/servlet/event.showcfp?eventid=155746&copyo
 wnerid=166572
UID:cfp922697-D@wikicfp.com
END:VEVENT
BEGIN:VEVENT
DTSTAMP:20260421T141204Z
DTSTART;VALUE=DATE:20231130
SUMMARY:IJAD 2023 Notification Due
DESCRIPTION:International Journal of Advanced Dermatology 
URL:http://www.wikicfp.com/cfp/servlet/event.showcfp?eventid=155746&copyo
 wnerid=166572
UID:cfp922697-N@wikicfp.com
END:VEVENT
BEGIN:VEVENT
DTSTAMP:20260421T141204Z
DTSTART;VALUE=DATE:20231208
SUMMARY:IJAD 2023 Final Version Due
DESCRIPTION:International Journal of Advanced Dermatology 
URL:http://www.wikicfp.com/cfp/servlet/event.showcfp?eventid=155746&copyo
 wnerid=166572
UID:cfp922697-N@wikicfp.com
END:VEVENT
BEGIN:VEVENT
DTSTAMP:20260421T141204Z
DTSTART;VALUE=DATE:20240127
DTEND;VALUE=DATE:20240129
SUMMARY:CICS  2024
DESCRIPTION:12th International Conference on Instrumentation and Control 
 Systems
URL:http://www.wikicfp.com/cfp/servlet/event.showcfp?eventid=152145&copyo
 wnerid=166572
UID:cfp914822-E@wikicfp.com
END:VEVENT
BEGIN:VEVENT
DTSTAMP:20260421T141204Z
DTSTART;VALUE=DATE:20240113
SUMMARY:CICS  2024 Deadline
DESCRIPTION:12th International Conference on Instrumentation and Control 
 Systems
URL:http://www.wikicfp.com/cfp/servlet/event.showcfp?eventid=152145&copyo
 wnerid=166572
UID:cfp914822-D@wikicfp.com
END:VEVENT
BEGIN:VEVENT
DTSTAMP:20260421T141204Z
DTSTART;VALUE=DATE:20240120
SUMMARY:CICS  2024 Notification Due
DESCRIPTION:12th International Conference on Instrumentation and Control 
 Systems
URL:http://www.wikicfp.com/cfp/servlet/event.showcfp?eventid=152145&copyo
 wnerid=166572
UID:cfp914822-N@wikicfp.com
END:VEVENT
BEGIN:VEVENT
DTSTAMP:20260421T141204Z
DTSTART;VALUE=DATE:20240124
SUMMARY:CICS  2024 Final Version Due
DESCRIPTION:12th International Conference on Instrumentation and Control 
 Systems
URL:http://www.wikicfp.com/cfp/servlet/event.showcfp?eventid=152145&copyo
 wnerid=166572
UID:cfp914822-N@wikicfp.com
END:VEVENT
BEGIN:VEVENT
DTSTAMP:20260421T141204Z
DTSTART;VALUE=DATE:20240309
SUMMARY:IJBB 2024 Deadline
DESCRIPTION:International Journal on Bioinformatics & Biosciences
URL:http://www.wikicfp.com/cfp/servlet/event.showcfp?eventid=149483&copyo
 wnerid=166572
UID:cfp909993-D@wikicfp.com
END:VEVENT
BEGIN:VEVENT
DTSTAMP:20260421T141204Z
DTSTART;VALUE=DATE:20240506
SUMMARY:IJBB 2024 Notification Due
DESCRIPTION:International Journal on Bioinformatics & Biosciences
URL:http://www.wikicfp.com/cfp/servlet/event.showcfp?eventid=149483&copyo
 wnerid=166572
UID:cfp909993-N@wikicfp.com
END:VEVENT
BEGIN:VEVENT
DTSTAMP:20260421T141204Z
DTSTART;VALUE=DATE:20240513
SUMMARY:IJBB 2024 Final Version Due
DESCRIPTION:International Journal on Bioinformatics & Biosciences
URL:http://www.wikicfp.com/cfp/servlet/event.showcfp?eventid=149483&copyo
 wnerid=166572
UID:cfp909993-N@wikicfp.com
END:VEVENT
BEGIN:VEVENT
DTSTAMP:20260421T141204Z
DTSTART;VALUE=DATE:20240323
SUMMARY:IJCSA 2024 Deadline
DESCRIPTION:International Journal on Computational Science & Applications
 
URL:http://www.wikicfp.com/cfp/servlet/event.showcfp?eventid=149128&copyo
 wnerid=166572
UID:cfp909222-D@wikicfp.com
END:VEVENT
BEGIN:VEVENT
DTSTAMP:20260421T141204Z
DTSTART;VALUE=DATE:20240423
SUMMARY:IJCSA 2024 Notification Due
DESCRIPTION:International Journal on Computational Science & Applications
 
URL:http://www.wikicfp.com/cfp/servlet/event.showcfp?eventid=149128&copyo
 wnerid=166572
UID:cfp909222-N@wikicfp.com
END:VEVENT
BEGIN:VEVENT
DTSTAMP:20260421T141204Z
DTSTART;VALUE=DATE:20240430
SUMMARY:IJCSA 2024 Final Version Due
DESCRIPTION:International Journal on Computational Science & Applications
 
URL:http://www.wikicfp.com/cfp/servlet/event.showcfp?eventid=149128&copyo
 wnerid=166572
UID:cfp909222-N@wikicfp.com
END:VEVENT
BEGIN:VEVENT
DTSTAMP:20260421T141204Z
DTSTART;VALUE=DATE:20240518
DTEND;VALUE=DATE:20240520
SUMMARY:BIoT 2024
DESCRIPTION:5th International Conference on Block chain and Internet of T
 hings
URL:http://www.wikicfp.com/cfp/servlet/event.showcfp?eventid=149127&copyo
 wnerid=166572
UID:cfp909223-E@wikicfp.com
END:VEVENT
BEGIN:VEVENT
DTSTAMP:20260421T141204Z
DTSTART;VALUE=DATE:20240504
SUMMARY:BIoT 2024 Deadline
DESCRIPTION:5th International Conference on Block chain and Internet of T
 hings
URL:http://www.wikicfp.com/cfp/servlet/event.showcfp?eventid=149127&copyo
 wnerid=166572
UID:cfp909223-D@wikicfp.com
END:VEVENT
BEGIN:VEVENT
DTSTAMP:20260421T141204Z
DTSTART;VALUE=DATE:20240515
SUMMARY:BIoT 2024 Notification Due
DESCRIPTION:5th International Conference on Block chain and Internet of T
 hings
URL:http://www.wikicfp.com/cfp/servlet/event.showcfp?eventid=149127&copyo
 wnerid=166572
UID:cfp909223-N@wikicfp.com
END:VEVENT
BEGIN:VEVENT
DTSTAMP:20260421T141204Z
DTSTART;VALUE=DATE:20240517
SUMMARY:BIoT 2024 Final Version Due
DESCRIPTION:5th International Conference on Block chain and Internet of T
 hings
URL:http://www.wikicfp.com/cfp/servlet/event.showcfp?eventid=149127&copyo
 wnerid=166572
UID:cfp909223-N@wikicfp.com
END:VEVENT
BEGIN:VEVENT
DTSTAMP:20260421T141204Z
DTSTART;VALUE=DATE:20240525
DTEND;VALUE=DATE:20240527
SUMMARY:MLT 2024
DESCRIPTION:5th International Conference on Machine Learning & Trends
URL:http://www.wikicfp.com/cfp/servlet/event.showcfp?eventid=153666&copyo
 wnerid=166572
UID:cfp918010-E@wikicfp.com
END:VEVENT
BEGIN:VEVENT
DTSTAMP:20260421T141204Z
DTSTART;VALUE=DATE:20240518
SUMMARY:MLT 2024 Deadline
DESCRIPTION:5th International Conference on Machine Learning & Trends
URL:http://www.wikicfp.com/cfp/servlet/event.showcfp?eventid=153666&copyo
 wnerid=166572
UID:cfp918010-D@wikicfp.com
END:VEVENT
BEGIN:VEVENT
DTSTAMP:20260421T141204Z
DTSTART;VALUE=DATE:20240523
SUMMARY:MLT 2024 Notification Due
DESCRIPTION:5th International Conference on Machine Learning & Trends
URL:http://www.wikicfp.com/cfp/servlet/event.showcfp?eventid=153666&copyo
 wnerid=166572
UID:cfp918010-N@wikicfp.com
END:VEVENT
BEGIN:VEVENT
DTSTAMP:20260421T141204Z
DTSTART;VALUE=DATE:20240525
SUMMARY:MLT 2024 Final Version Due
DESCRIPTION:5th International Conference on Machine Learning & Trends
URL:http://www.wikicfp.com/cfp/servlet/event.showcfp?eventid=153666&copyo
 wnerid=166572
UID:cfp918010-N@wikicfp.com
END:VEVENT
BEGIN:VEVENT
DTSTAMP:20260421T141204Z
DTSTART;VALUE=DATE:20240525
SUMMARY:IJNSA 2025 Deadline
DESCRIPTION:Special Issue on - Cybersecurity in the Age of Generative AI
URL:http://www.wikicfp.com/cfp/servlet/event.showcfp?eventid=149056&copyo
 wnerid=166572
UID:cfp909224-D@wikicfp.com
END:VEVENT
BEGIN:VEVENT
DTSTAMP:20260421T141204Z
DTSTART;VALUE=DATE:20240629
SUMMARY:IJNSA 2025 Notification Due
DESCRIPTION:Special Issue on - Cybersecurity in the Age of Generative AI
URL:http://www.wikicfp.com/cfp/servlet/event.showcfp?eventid=149056&copyo
 wnerid=166572
UID:cfp909224-N@wikicfp.com
END:VEVENT
BEGIN:VEVENT
DTSTAMP:20260421T141204Z
DTSTART;VALUE=DATE:20240706
SUMMARY:IJNSA 2025 Final Version Due
DESCRIPTION:Special Issue on - Cybersecurity in the Age of Generative AI
URL:http://www.wikicfp.com/cfp/servlet/event.showcfp?eventid=149056&copyo
 wnerid=166572
UID:cfp909224-N@wikicfp.com
END:VEVENT
BEGIN:VEVENT
DTSTAMP:20260421T141204Z
DTSTART;VALUE=DATE:20240810
DTEND;VALUE=DATE:20240812
SUMMARY:VCOI 2024
DESCRIPTION:2nd International Conference on Vision and Computational Inte
 lligence
URL:http://www.wikicfp.com/cfp/servlet/event.showcfp?eventid=153665&copyo
 wnerid=166572
UID:cfp918011-E@wikicfp.com
END:VEVENT
BEGIN:VEVENT
DTSTAMP:20260421T141204Z
DTSTART;VALUE=DATE:20240803
SUMMARY:VCOI 2024 Deadline
DESCRIPTION:2nd International Conference on Vision and Computational Inte
 lligence
URL:http://www.wikicfp.com/cfp/servlet/event.showcfp?eventid=153665&copyo
 wnerid=166572
UID:cfp918011-D@wikicfp.com
END:VEVENT
BEGIN:VEVENT
DTSTAMP:20260421T141204Z
DTSTART;VALUE=DATE:20240808
SUMMARY:VCOI 2024 Notification Due
DESCRIPTION:2nd International Conference on Vision and Computational Inte
 lligence
URL:http://www.wikicfp.com/cfp/servlet/event.showcfp?eventid=153665&copyo
 wnerid=166572
UID:cfp918011-N@wikicfp.com
END:VEVENT
BEGIN:VEVENT
DTSTAMP:20260421T141204Z
DTSTART;VALUE=DATE:20240809
SUMMARY:VCOI 2024 Final Version Due
DESCRIPTION:2nd International Conference on Vision and Computational Inte
 lligence
URL:http://www.wikicfp.com/cfp/servlet/event.showcfp?eventid=153665&copyo
 wnerid=166572
UID:cfp918011-N@wikicfp.com
END:VEVENT
BEGIN:VEVENT
DTSTAMP:20260421T141204Z
DTSTART;VALUE=DATE:20260420
SUMMARY:IEIJ 2026 Deadline
DESCRIPTION:Informatics Engineering\, an International Journal
URL:http://www.wikicfp.com/cfp/servlet/event.showcfp?eventid=152318&copyo
 wnerid=166572
UID:cfp915224-D@wikicfp.com
END:VEVENT
BEGIN:VEVENT
DTSTAMP:20260421T141204Z
DTSTART;VALUE=DATE:20260519
SUMMARY:IEIJ 2026 Notification Due
DESCRIPTION:Informatics Engineering\, an International Journal
URL:http://www.wikicfp.com/cfp/servlet/event.showcfp?eventid=152318&copyo
 wnerid=166572
UID:cfp915224-N@wikicfp.com
END:VEVENT
BEGIN:VEVENT
DTSTAMP:20260421T141204Z
DTSTART;VALUE=DATE:20260526
SUMMARY:IEIJ 2026 Final Version Due
DESCRIPTION:Informatics Engineering\, an International Journal
URL:http://www.wikicfp.com/cfp/servlet/event.showcfp?eventid=152318&copyo
 wnerid=166572
UID:cfp915224-N@wikicfp.com
END:VEVENT
BEGIN:VEVENT
DTSTAMP:20260421T141204Z
DTSTART;VALUE=DATE:20260425
SUMMARY:JANT 2026 Deadline
DESCRIPTION:International Journal of Antennas
URL:http://www.wikicfp.com/cfp/servlet/event.showcfp?eventid=160138&copyo
 wnerid=166572
UID:cfp931055-D@wikicfp.com
END:VEVENT
BEGIN:VEVENT
DTSTAMP:20260421T141204Z
DTSTART;VALUE=DATE:20260525
SUMMARY:JANT 2026 Notification Due
DESCRIPTION:International Journal of Antennas
URL:http://www.wikicfp.com/cfp/servlet/event.showcfp?eventid=160138&copyo
 wnerid=166572
UID:cfp931055-N@wikicfp.com
END:VEVENT
BEGIN:VEVENT
DTSTAMP:20260421T141204Z
DTSTART;VALUE=DATE:20260601
SUMMARY:JANT 2026 Final Version Due
DESCRIPTION:International Journal of Antennas
URL:http://www.wikicfp.com/cfp/servlet/event.showcfp?eventid=160138&copyo
 wnerid=166572
UID:cfp931055-N@wikicfp.com
END:VEVENT
BEGIN:VEVENT
DTSTAMP:20260421T141204Z
DTSTART;VALUE=DATE:20260518
SUMMARY:IJCI 2026 Deadline
DESCRIPTION:International Journal on Cybernetics & Informatics
URL:http://www.wikicfp.com/cfp/servlet/event.showcfp?eventid=151700&copyo
 wnerid=166572
UID:cfp914058-D@wikicfp.com
END:VEVENT
BEGIN:VEVENT
DTSTAMP:20260421T141204Z
DTSTART;VALUE=DATE:20260618
SUMMARY:IJCI 2026 Notification Due
DESCRIPTION:International Journal on Cybernetics & Informatics
URL:http://www.wikicfp.com/cfp/servlet/event.showcfp?eventid=151700&copyo
 wnerid=166572
UID:cfp914058-N@wikicfp.com
END:VEVENT
BEGIN:VEVENT
DTSTAMP:20260421T141204Z
DTSTART;VALUE=DATE:20260625
SUMMARY:IJCI 2026 Final Version Due
DESCRIPTION:International Journal on Cybernetics & Informatics
URL:http://www.wikicfp.com/cfp/servlet/event.showcfp?eventid=151700&copyo
 wnerid=166572
UID:cfp914058-N@wikicfp.com
END:VEVENT
END:VCALENDAR
