BEGIN:VCALENDAR
PRODID:-//WikiCFP//lefterav 1.0//EN
VERSION:2.0
CALSCALE:GREGORIAN
BEGIN:VEVENT
DTSTAMP:20260424T092259Z
DTSTART;VALUE=DATE:20230709
DTEND;VALUE=DATE:20230715
SUMMARY:ACL 2023
DESCRIPTION:The 61st Annual Meeting of the Association for Computational 
 Linguistics
URL:http://www.wikicfp.com/cfp/servlet/event.showcfp?eventid=169505&copyo
 wnerid=166518
UID:cfp955287-E@wikicfp.com
END:VEVENT
BEGIN:VEVENT
DTSTAMP:20260424T092259Z
DTSTART;VALUE=DATE:20230113
SUMMARY:ACL 2023 Abstract Due
DESCRIPTION:The 61st Annual Meeting of the Association for Computational 
 Linguistics
URL:http://www.wikicfp.com/cfp/servlet/event.showcfp?eventid=169505&copyo
 wnerid=166518
UID:cfp955287-A@wikicfp.com
END:VEVENT
BEGIN:VEVENT
DTSTAMP:20260424T092259Z
DTSTART;VALUE=DATE:20230120
SUMMARY:ACL 2023 Deadline
DESCRIPTION:The 61st Annual Meeting of the Association for Computational 
 Linguistics
URL:http://www.wikicfp.com/cfp/servlet/event.showcfp?eventid=169505&copyo
 wnerid=166518
UID:cfp955287-D@wikicfp.com
END:VEVENT
BEGIN:VEVENT
DTSTAMP:20260424T092259Z
DTSTART;VALUE=DATE:20230324
DTEND;VALUE=DATE:20230327
SUMMARY:ICNLP 2023
DESCRIPTION:2023 5th International Conference on Natural Language Process
 ing (ICNLP 2023)
URL:http://www.wikicfp.com/cfp/servlet/event.showcfp?eventid=166800&copyo
 wnerid=166518
UID:cfp955286-E@wikicfp.com
END:VEVENT
BEGIN:VEVENT
DTSTAMP:20260424T092259Z
DTSTART;VALUE=DATE:20230205
SUMMARY:ICNLP 2023 Deadline
DESCRIPTION:2023 5th International Conference on Natural Language Process
 ing (ICNLP 2023)
URL:http://www.wikicfp.com/cfp/servlet/event.showcfp?eventid=166800&copyo
 wnerid=166518
UID:cfp955286-D@wikicfp.com
END:VEVENT
BEGIN:VEVENT
DTSTAMP:20260424T092259Z
DTSTART;VALUE=DATE:20231206
DTEND;VALUE=DATE:20231208
SUMMARY:WMT-Testsuites 2023
DESCRIPTION:Call for Participation: Test suite sub-task of the Eighth Con
 ference on Machine Translation (WMT23)
URL:http://www.wikicfp.com/cfp/servlet/event.showcfp?eventid=173774&copyo
 wnerid=166518
UID:cfp966089-E@wikicfp.com
END:VEVENT
BEGIN:VEVENT
DTSTAMP:20260424T092259Z
DTSTART;VALUE=DATE:20230619
SUMMARY:WMT-Testsuites 2023 Deadline
DESCRIPTION:Call for Participation: Test suite sub-task of the Eighth Con
 ference on Machine Translation (WMT23)
URL:http://www.wikicfp.com/cfp/servlet/event.showcfp?eventid=173774&copyo
 wnerid=166518
UID:cfp966089-D@wikicfp.com
END:VEVENT
BEGIN:VEVENT
DTSTAMP:20260424T092259Z
DTSTART;VALUE=DATE:20230727
SUMMARY:WMT-Testsuites 2023 Notification Due
DESCRIPTION:Call for Participation: Test suite sub-task of the Eighth Con
 ference on Machine Translation (WMT23)
URL:http://www.wikicfp.com/cfp/servlet/event.showcfp?eventid=173774&copyo
 wnerid=166518
UID:cfp966089-N@wikicfp.com
END:VEVENT
BEGIN:VEVENT
DTSTAMP:20260424T092259Z
DTSTART;VALUE=DATE:20230901
SUMMARY:WMT-Testsuites 2023 Final Version Due
DESCRIPTION:Call for Participation: Test suite sub-task of the Eighth Con
 ference on Machine Translation (WMT23)
URL:http://www.wikicfp.com/cfp/servlet/event.showcfp?eventid=173774&copyo
 wnerid=166518
UID:cfp966089-N@wikicfp.com
END:VEVENT
BEGIN:VEVENT
DTSTAMP:20260424T092259Z
DTSTART;VALUE=DATE:20241112
DTEND;VALUE=DATE:20241114
SUMMARY:WMT-Testsuites 2024
DESCRIPTION:'Help us break LLMs' - Test suite sub-task of the Ninth Confe
 rence on Machine Translation (WMT24)
URL:http://www.wikicfp.com/cfp/servlet/event.showcfp?eventid=179697&copyo
 wnerid=166518
UID:cfp988973-E@wikicfp.com
END:VEVENT
BEGIN:VEVENT
DTSTAMP:20260424T092259Z
DTSTART;VALUE=DATE:20240612
SUMMARY:WMT-Testsuites 2024 Deadline
DESCRIPTION:'Help us break LLMs' - Test suite sub-task of the Ninth Confe
 rence on Machine Translation (WMT24)
URL:http://www.wikicfp.com/cfp/servlet/event.showcfp?eventid=179697&copyo
 wnerid=166518
UID:cfp988973-D@wikicfp.com
END:VEVENT
BEGIN:VEVENT
DTSTAMP:20260424T092259Z
DTSTART;VALUE=DATE:20241112
DTEND;VALUE=DATE:20241114
SUMMARY:WMT-metrics 2024
DESCRIPTION:WMT24 Metrics Task: Call for Participation
URL:http://www.wikicfp.com/cfp/servlet/event.showcfp?eventid=180843&copyo
 wnerid=166518
UID:cfp993685-E@wikicfp.com
END:VEVENT
BEGIN:VEVENT
DTSTAMP:20260424T092259Z
DTSTART;VALUE=DATE:20240723
SUMMARY:WMT-metrics 2024 Deadline
DESCRIPTION:WMT24 Metrics Task: Call for Participation
URL:http://www.wikicfp.com/cfp/servlet/event.showcfp?eventid=180843&copyo
 wnerid=166518
UID:cfp993685-D@wikicfp.com
END:VEVENT
BEGIN:VEVENT
DTSTAMP:20260424T092259Z
DTSTART;VALUE=DATE:20260425
SUMMARY:IJEL 2026 Deadline
DESCRIPTION:International Journal of Electromagnetics
URL:http://www.wikicfp.com/cfp/servlet/event.showcfp?eventid=100481&copyo
 wnerid=166518
UID:cfp872758-D@wikicfp.com
END:VEVENT
BEGIN:VEVENT
DTSTAMP:20260424T092259Z
DTSTART;VALUE=DATE:20260520
SUMMARY:IJEL 2026 Notification Due
DESCRIPTION:International Journal of Electromagnetics
URL:http://www.wikicfp.com/cfp/servlet/event.showcfp?eventid=100481&copyo
 wnerid=166518
UID:cfp872758-N@wikicfp.com
END:VEVENT
BEGIN:VEVENT
DTSTAMP:20260424T092259Z
DTSTART;VALUE=DATE:20260526
SUMMARY:IJEL 2026 Final Version Due
DESCRIPTION:International Journal of Electromagnetics
URL:http://www.wikicfp.com/cfp/servlet/event.showcfp?eventid=100481&copyo
 wnerid=166518
UID:cfp872758-N@wikicfp.com
END:VEVENT
BEGIN:VEVENT
DTSTAMP:20260424T092259Z
DTSTART;VALUE=DATE:20260425
SUMMARY:IJNLC 2026 Deadline
DESCRIPTION:International Journal on Natural Language Computing 
URL:http://www.wikicfp.com/cfp/servlet/event.showcfp?eventid=106848&copyo
 wnerid=166518
UID:cfp872787-D@wikicfp.com
END:VEVENT
BEGIN:VEVENT
DTSTAMP:20260424T092259Z
DTSTART;VALUE=DATE:20260525
SUMMARY:IJNLC 2026 Notification Due
DESCRIPTION:International Journal on Natural Language Computing 
URL:http://www.wikicfp.com/cfp/servlet/event.showcfp?eventid=106848&copyo
 wnerid=166518
UID:cfp872787-N@wikicfp.com
END:VEVENT
BEGIN:VEVENT
DTSTAMP:20260424T092259Z
DTSTART;VALUE=DATE:20260601
SUMMARY:IJNLC 2026 Final Version Due
DESCRIPTION:International Journal on Natural Language Computing 
URL:http://www.wikicfp.com/cfp/servlet/event.showcfp?eventid=106848&copyo
 wnerid=166518
UID:cfp872787-N@wikicfp.com
END:VEVENT
BEGIN:VEVENT
DTSTAMP:20260424T092259Z
DTSTART;VALUE=DATE:20260425
SUMMARY:JANT 2026 Deadline
DESCRIPTION:International Journal of Antennas
URL:http://www.wikicfp.com/cfp/servlet/event.showcfp?eventid=112800&copyo
 wnerid=166518
UID:cfp872806-D@wikicfp.com
END:VEVENT
BEGIN:VEVENT
DTSTAMP:20260424T092259Z
DTSTART;VALUE=DATE:20260525
SUMMARY:JANT 2026 Notification Due
DESCRIPTION:International Journal of Antennas
URL:http://www.wikicfp.com/cfp/servlet/event.showcfp?eventid=112800&copyo
 wnerid=166518
UID:cfp872806-N@wikicfp.com
END:VEVENT
BEGIN:VEVENT
DTSTAMP:20260424T092259Z
DTSTART;VALUE=DATE:20260601
SUMMARY:JANT 2026 Final Version Due
DESCRIPTION:International Journal of Antennas
URL:http://www.wikicfp.com/cfp/servlet/event.showcfp?eventid=112800&copyo
 wnerid=166518
UID:cfp872806-N@wikicfp.com
END:VEVENT
END:VCALENDAR
