BEGIN:VCALENDAR
PRODID:-//WikiCFP//afarinn62 1.0//EN
VERSION:2.0
CALSCALE:GREGORIAN
BEGIN:VEVENT
DTSTAMP:20260422T012101Z
DTSTART;VALUE=DATE:20110523
DTEND;VALUE=DATE:20110528
SUMMARY:SCIA 2011
DESCRIPTION:Scandinavian Conference on Image Analysis
URL:http://www.wikicfp.com/cfp/servlet/event.showcfp?eventid=10590&copyow
 nerid=16646
UID:cfp113561-E@wikicfp.com
END:VEVENT
BEGIN:VEVENT
DTSTAMP:20260422T012101Z
DTSTART;VALUE=DATE:20101015
SUMMARY:SCIA 2011 Deadline
DESCRIPTION:Scandinavian Conference on Image Analysis
URL:http://www.wikicfp.com/cfp/servlet/event.showcfp?eventid=10590&copyow
 nerid=16646
UID:cfp113561-D@wikicfp.com
END:VEVENT
BEGIN:VEVENT
DTSTAMP:20260422T012101Z
DTSTART;VALUE=DATE:20110124
DTEND;VALUE=DATE:20110126
SUMMARY:ICISD 2011
DESCRIPTION:First International Conference on Intelligent Systems & Data 
 Processing
URL:http://www.wikicfp.com/cfp/servlet/event.showcfp?eventid=10876&copyow
 nerid=16646
UID:cfp113562-E@wikicfp.com
END:VEVENT
BEGIN:VEVENT
DTSTAMP:20260422T012101Z
DTSTART;VALUE=DATE:20101015
SUMMARY:ICISD 2011 Deadline
DESCRIPTION:First International Conference on Intelligent Systems & Data 
 Processing
URL:http://www.wikicfp.com/cfp/servlet/event.showcfp?eventid=10876&copyow
 nerid=16646
UID:cfp113562-D@wikicfp.com
END:VEVENT
BEGIN:VEVENT
DTSTAMP:20260422T012101Z
DTSTART;VALUE=DATE:20101110
SUMMARY:ICISD 2011 Notification Due
DESCRIPTION:First International Conference on Intelligent Systems & Data 
 Processing
URL:http://www.wikicfp.com/cfp/servlet/event.showcfp?eventid=10876&copyow
 nerid=16646
UID:cfp113562-N@wikicfp.com
END:VEVENT
BEGIN:VEVENT
DTSTAMP:20260422T012101Z
DTSTART;VALUE=DATE:20101130
SUMMARY:ICISD 2011 Final Version Due
DESCRIPTION:First International Conference on Intelligent Systems & Data 
 Processing
URL:http://www.wikicfp.com/cfp/servlet/event.showcfp?eventid=10876&copyow
 nerid=16646
UID:cfp113562-N@wikicfp.com
END:VEVENT
BEGIN:VEVENT
DTSTAMP:20260422T012101Z
DTSTART;VALUE=DATE:20110216
DTEND;VALUE=DATE:20110219
SUMMARY:SPPRA 2011
DESCRIPTION:International Conference on Signal Processing\, Pattern Recog
 nition and Applications
URL:http://www.wikicfp.com/cfp/servlet/event.showcfp?eventid=11061&copyow
 nerid=16646
UID:cfp113564-E@wikicfp.com
END:VEVENT
BEGIN:VEVENT
DTSTAMP:20260422T012101Z
DTSTART;VALUE=DATE:20101027
SUMMARY:SPPRA 2011 Deadline
DESCRIPTION:International Conference on Signal Processing\, Pattern Recog
 nition and Applications
URL:http://www.wikicfp.com/cfp/servlet/event.showcfp?eventid=11061&copyow
 nerid=16646
UID:cfp113564-D@wikicfp.com
END:VEVENT
BEGIN:VEVENT
DTSTAMP:20260422T012101Z
DTSTART;VALUE=DATE:20101117
SUMMARY:SPPRA 2011 Notification Due
DESCRIPTION:International Conference on Signal Processing\, Pattern Recog
 nition and Applications
URL:http://www.wikicfp.com/cfp/servlet/event.showcfp?eventid=11061&copyow
 nerid=16646
UID:cfp113564-N@wikicfp.com
END:VEVENT
BEGIN:VEVENT
DTSTAMP:20260422T012101Z
DTSTART;VALUE=DATE:20110206
DTEND;VALUE=DATE:20110212
SUMMARY:EUROCAST 2011
DESCRIPTION:13th International Conference on Computer Aided Systems Theor
 y
URL:http://www.wikicfp.com/cfp/servlet/event.showcfp?eventid=9285&copyown
 erid=16646
UID:cfp113560-E@wikicfp.com
END:VEVENT
BEGIN:VEVENT
DTSTAMP:20260422T012101Z
DTSTART;VALUE=DATE:20101110
SUMMARY:EUROCAST 2011 Deadline
DESCRIPTION:13th International Conference on Computer Aided Systems Theor
 y
URL:http://www.wikicfp.com/cfp/servlet/event.showcfp?eventid=9285&copyown
 erid=16646
UID:cfp113560-D@wikicfp.com
END:VEVENT
BEGIN:VEVENT
DTSTAMP:20260422T012101Z
DTSTART;VALUE=DATE:20101201
SUMMARY:EUROCAST 2011 Notification Due
DESCRIPTION:13th International Conference on Computer Aided Systems Theor
 y
URL:http://www.wikicfp.com/cfp/servlet/event.showcfp?eventid=9285&copyown
 erid=16646
UID:cfp113560-N@wikicfp.com
END:VEVENT
BEGIN:VEVENT
DTSTAMP:20260422T012101Z
DTSTART;VALUE=DATE:20110430
SUMMARY:EUROCAST 2011 Final Version Due
DESCRIPTION:13th International Conference on Computer Aided Systems Theor
 y
URL:http://www.wikicfp.com/cfp/servlet/event.showcfp?eventid=9285&copyown
 erid=16646
UID:cfp113560-N@wikicfp.com
END:VEVENT
BEGIN:VEVENT
DTSTAMP:20260422T012101Z
DTSTART;VALUE=DATE:20101229
DTEND;VALUE=DATE:20110101
SUMMARY:ICMV 2010
DESCRIPTION:2nd International Conference on Machine Vision
URL:http://www.wikicfp.com/cfp/servlet/event.showcfp?eventid=11499&copyow
 nerid=16646
UID:cfp113567-E@wikicfp.com
END:VEVENT
BEGIN:VEVENT
DTSTAMP:20260422T012101Z
DTSTART;VALUE=DATE:20101115
SUMMARY:ICMV 2010 Deadline
DESCRIPTION:2nd International Conference on Machine Vision
URL:http://www.wikicfp.com/cfp/servlet/event.showcfp?eventid=11499&copyow
 nerid=16646
UID:cfp113567-D@wikicfp.com
END:VEVENT
BEGIN:VEVENT
DTSTAMP:20260422T012101Z
DTSTART;VALUE=DATE:20110608
DTEND;VALUE=DATE:20110611
SUMMARY:IBPRIA 2011
DESCRIPTION:Iberian Conference on Pattern Recognition and Image Analysis
URL:http://www.wikicfp.com/cfp/servlet/event.showcfp?eventid=10895&copyow
 nerid=16646
UID:cfp113563-E@wikicfp.com
END:VEVENT
BEGIN:VEVENT
DTSTAMP:20260422T012101Z
DTSTART;VALUE=DATE:20101119
SUMMARY:IBPRIA 2011 Deadline
DESCRIPTION:Iberian Conference on Pattern Recognition and Image Analysis
URL:http://www.wikicfp.com/cfp/servlet/event.showcfp?eventid=10895&copyow
 nerid=16646
UID:cfp113563-D@wikicfp.com
END:VEVENT
BEGIN:VEVENT
DTSTAMP:20260422T012101Z
DTSTART;VALUE=DATE:20110119
SUMMARY:IBPRIA 2011 Notification Due
DESCRIPTION:Iberian Conference on Pattern Recognition and Image Analysis
URL:http://www.wikicfp.com/cfp/servlet/event.showcfp?eventid=10895&copyow
 nerid=16646
UID:cfp113563-N@wikicfp.com
END:VEVENT
BEGIN:VEVENT
DTSTAMP:20260422T012101Z
DTSTART;VALUE=DATE:20110202
SUMMARY:IBPRIA 2011 Final Version Due
DESCRIPTION:Iberian Conference on Pattern Recognition and Image Analysis
URL:http://www.wikicfp.com/cfp/servlet/event.showcfp?eventid=10895&copyow
 nerid=16646
UID:cfp113563-N@wikicfp.com
END:VEVENT
BEGIN:VEVENT
DTSTAMP:20260422T012101Z
DTSTART;VALUE=DATE:20110523
DTEND;VALUE=DATE:20110526
SUMMARY:CORES 2011
DESCRIPTION:The 7th International Conference on Computer Recognition Syst
 ems CORES
URL:http://www.wikicfp.com/cfp/servlet/event.showcfp?eventid=11099&copyow
 nerid=16646
UID:cfp113566-E@wikicfp.com
END:VEVENT
BEGIN:VEVENT
DTSTAMP:20260422T012101Z
DTSTART;VALUE=DATE:20110111
SUMMARY:CORES 2011 Deadline
DESCRIPTION:The 7th International Conference on Computer Recognition Syst
 ems CORES
URL:http://www.wikicfp.com/cfp/servlet/event.showcfp?eventid=11099&copyow
 nerid=16646
UID:cfp113566-D@wikicfp.com
END:VEVENT
BEGIN:VEVENT
DTSTAMP:20260422T012101Z
DTSTART;VALUE=DATE:20110201
SUMMARY:CORES 2011 Notification Due
DESCRIPTION:The 7th International Conference on Computer Recognition Syst
 ems CORES
URL:http://www.wikicfp.com/cfp/servlet/event.showcfp?eventid=11099&copyow
 nerid=16646
UID:cfp113566-N@wikicfp.com
END:VEVENT
BEGIN:VEVENT
DTSTAMP:20260422T012101Z
DTSTART;VALUE=DATE:20010215
SUMMARY:CORES 2011 Final Version Due
DESCRIPTION:The 7th International Conference on Computer Recognition Syst
 ems CORES
URL:http://www.wikicfp.com/cfp/servlet/event.showcfp?eventid=11099&copyow
 nerid=16646
UID:cfp113566-N@wikicfp.com
END:VEVENT
BEGIN:VEVENT
DTSTAMP:20260422T012101Z
DTSTART;VALUE=DATE:20110829
DTEND;VALUE=DATE:20110901
SUMMARY:CAIP 2011
DESCRIPTION:14th International Conference on Computer Analysis of Images 
 and Pattern
URL:http://www.wikicfp.com/cfp/servlet/event.showcfp?eventid=11065&copyow
 nerid=16646
UID:cfp113565-E@wikicfp.com
END:VEVENT
BEGIN:VEVENT
DTSTAMP:20260422T012101Z
DTSTART;VALUE=DATE:20110325
SUMMARY:CAIP 2011 Deadline
DESCRIPTION:14th International Conference on Computer Analysis of Images 
 and Pattern
URL:http://www.wikicfp.com/cfp/servlet/event.showcfp?eventid=11065&copyow
 nerid=16646
UID:cfp113565-D@wikicfp.com
END:VEVENT
BEGIN:VEVENT
DTSTAMP:20260422T012101Z
DTSTART;VALUE=DATE:20110513
SUMMARY:CAIP 2011 Notification Due
DESCRIPTION:14th International Conference on Computer Analysis of Images 
 and Pattern
URL:http://www.wikicfp.com/cfp/servlet/event.showcfp?eventid=11065&copyow
 nerid=16646
UID:cfp113565-N@wikicfp.com
END:VEVENT
BEGIN:VEVENT
DTSTAMP:20260422T012101Z
DTSTART;VALUE=DATE:20110601
SUMMARY:CAIP 2011 Final Version Due
DESCRIPTION:14th International Conference on Computer Analysis of Images 
 and Pattern
URL:http://www.wikicfp.com/cfp/servlet/event.showcfp?eventid=11065&copyow
 nerid=16646
UID:cfp113565-N@wikicfp.com
END:VEVENT
END:VCALENDAR
