BEGIN:VCALENDAR
PRODID:-//WikiCFP//Poonam67 1.0//EN
VERSION:2.0
CALSCALE:GREGORIAN
BEGIN:VEVENT
DTSTAMP:20260420T151628Z
DTSTART;VALUE=DATE:20210115
SUMMARY:EJSD  Journal  2021 Deadline
DESCRIPTION:European Journal of Sustainable Development 
URL:http://www.wikicfp.com/cfp/servlet/event.showcfp?eventid=48456&copyow
 nerid=166201
UID:cfp861973-D@wikicfp.com
END:VEVENT
END:VCALENDAR
