BEGIN:VCALENDAR
PRODID:-//WikiCFP//perevalov_a 1.0//EN
VERSION:2.0
CALSCALE:GREGORIAN
BEGIN:VEVENT
DTSTAMP:20260422T125520Z
DTSTART;VALUE=DATE:20210328
DTEND;VALUE=DATE:20210402
SUMMARY:ROMCIR 2021
DESCRIPTION:Reducing Online Misinformation through Credible Information R
 etrieval
URL:http://www.wikicfp.com/cfp/servlet/event.showcfp?eventid=116007&copyo
 wnerid=166009
UID:cfp860091-E@wikicfp.com
END:VEVENT
BEGIN:VEVENT
DTSTAMP:20260422T125520Z
DTSTART;VALUE=DATE:20201222
SUMMARY:ROMCIR 2021 Abstract Due
DESCRIPTION:Reducing Online Misinformation through Credible Information R
 etrieval
URL:http://www.wikicfp.com/cfp/servlet/event.showcfp?eventid=116007&copyo
 wnerid=166009
UID:cfp860091-A@wikicfp.com
END:VEVENT
BEGIN:VEVENT
DTSTAMP:20260422T125520Z
DTSTART;VALUE=DATE:20210104
SUMMARY:ROMCIR 2021 Deadline
DESCRIPTION:Reducing Online Misinformation through Credible Information R
 etrieval
URL:http://www.wikicfp.com/cfp/servlet/event.showcfp?eventid=116007&copyo
 wnerid=166009
UID:cfp860091-D@wikicfp.com
END:VEVENT
BEGIN:VEVENT
DTSTAMP:20260422T125520Z
DTSTART;VALUE=DATE:20210801
DTEND;VALUE=DATE:20210807
SUMMARY:ACL-IJCNLP 2021
DESCRIPTION:59t Annual Meeting of the Association for Computational Lingu
 istcs and the 10th International Joint Conference on Natural Language Pr
 ocessing
URL:http://www.wikicfp.com/cfp/servlet/event.showcfp?eventid=114757&copyo
 wnerid=166009
UID:cfp860090-E@wikicfp.com
END:VEVENT
BEGIN:VEVENT
DTSTAMP:20260422T125520Z
DTSTART;VALUE=DATE:20210201
SUMMARY:ACL-IJCNLP 2021 Deadline
DESCRIPTION:59t Annual Meeting of the Association for Computational Lingu
 istcs and the 10th International Joint Conference on Natural Language Pr
 ocessing
URL:http://www.wikicfp.com/cfp/servlet/event.showcfp?eventid=114757&copyo
 wnerid=166009
UID:cfp860090-D@wikicfp.com
END:VEVENT
BEGIN:VEVENT
DTSTAMP:20260422T125520Z
DTSTART;VALUE=DATE:20210505
SUMMARY:ACL-IJCNLP 2021 Notification Due
DESCRIPTION:59t Annual Meeting of the Association for Computational Lingu
 istcs and the 10th International Joint Conference on Natural Language Pr
 ocessing
URL:http://www.wikicfp.com/cfp/servlet/event.showcfp?eventid=114757&copyo
 wnerid=166009
UID:cfp860090-N@wikicfp.com
END:VEVENT
BEGIN:VEVENT
DTSTAMP:20260422T125520Z
DTSTART;VALUE=DATE:20210601
SUMMARY:ACL-IJCNLP 2021 Final Version Due
DESCRIPTION:59t Annual Meeting of the Association for Computational Lingu
 istcs and the 10th International Joint Conference on Natural Language Pr
 ocessing
URL:http://www.wikicfp.com/cfp/servlet/event.showcfp?eventid=114757&copyo
 wnerid=166009
UID:cfp860090-N@wikicfp.com
END:VEVENT
BEGIN:VEVENT
DTSTAMP:20260422T125520Z
DTSTART;VALUE=DATE:20210814
DTEND;VALUE=DATE:20210817
SUMMARY:KSEM 2021
DESCRIPTION:Knowledge Science\, Engineering and Management
URL:http://www.wikicfp.com/cfp/servlet/event.showcfp?eventid=113219&copyo
 wnerid=166009
UID:cfp860092-E@wikicfp.com
END:VEVENT
BEGIN:VEVENT
DTSTAMP:20260422T125520Z
DTSTART;VALUE=DATE:20210315
SUMMARY:KSEM 2021 Deadline
DESCRIPTION:Knowledge Science\, Engineering and Management
URL:http://www.wikicfp.com/cfp/servlet/event.showcfp?eventid=113219&copyo
 wnerid=166009
UID:cfp860092-D@wikicfp.com
END:VEVENT
BEGIN:VEVENT
DTSTAMP:20260422T125520Z
DTSTART;VALUE=DATE:20210601
SUMMARY:KSEM 2021 Notification Due
DESCRIPTION:Knowledge Science\, Engineering and Management
URL:http://www.wikicfp.com/cfp/servlet/event.showcfp?eventid=113219&copyo
 wnerid=166009
UID:cfp860092-N@wikicfp.com
END:VEVENT
BEGIN:VEVENT
DTSTAMP:20260422T125520Z
DTSTART;VALUE=DATE:20210620
SUMMARY:KSEM 2021 Final Version Due
DESCRIPTION:Knowledge Science\, Engineering and Management
URL:http://www.wikicfp.com/cfp/servlet/event.showcfp?eventid=113219&copyo
 wnerid=166009
UID:cfp860092-N@wikicfp.com
END:VEVENT
BEGIN:VEVENT
DTSTAMP:20260422T125520Z
DTSTART;VALUE=DATE:20210908
DTEND;VALUE=DATE:20210911
SUMMARY:KES 2021
DESCRIPTION:25th International Conference on Knowledge Based and Intellig
 ent information and Engineering Systems 
URL:http://www.wikicfp.com/cfp/servlet/event.showcfp?eventid=116238&copyo
 wnerid=166009
UID:cfp860088-E@wikicfp.com
END:VEVENT
BEGIN:VEVENT
DTSTAMP:20260422T125520Z
DTSTART;VALUE=DATE:20210402
SUMMARY:KES 2021 Deadline
DESCRIPTION:25th International Conference on Knowledge Based and Intellig
 ent information and Engineering Systems 
URL:http://www.wikicfp.com/cfp/servlet/event.showcfp?eventid=116238&copyo
 wnerid=166009
UID:cfp860088-D@wikicfp.com
END:VEVENT
BEGIN:VEVENT
DTSTAMP:20260422T125520Z
DTSTART;VALUE=DATE:20210507
SUMMARY:KES 2021 Notification Due
DESCRIPTION:25th International Conference on Knowledge Based and Intellig
 ent information and Engineering Systems 
URL:http://www.wikicfp.com/cfp/servlet/event.showcfp?eventid=116238&copyo
 wnerid=166009
UID:cfp860088-N@wikicfp.com
END:VEVENT
BEGIN:VEVENT
DTSTAMP:20260422T125520Z
DTSTART;VALUE=DATE:20210528
SUMMARY:KES 2021 Final Version Due
DESCRIPTION:25th International Conference on Knowledge Based and Intellig
 ent information and Engineering Systems 
URL:http://www.wikicfp.com/cfp/servlet/event.showcfp?eventid=116238&copyo
 wnerid=166009
UID:cfp860088-N@wikicfp.com
END:VEVENT
BEGIN:VEVENT
DTSTAMP:20260422T125520Z
DTSTART;VALUE=DATE:20210906
DTEND;VALUE=DATE:20210910
SUMMARY:TSD 2021
DESCRIPTION:The twenty-fourth International Conference on Text\, Speech a
 nd Dialogue (TSD 2021).
URL:http://www.wikicfp.com/cfp/servlet/event.showcfp?eventid=115768&copyo
 wnerid=166009
UID:cfp860089-E@wikicfp.com
END:VEVENT
BEGIN:VEVENT
DTSTAMP:20260422T125520Z
DTSTART;VALUE=DATE:20210418
SUMMARY:TSD 2021 Deadline
DESCRIPTION:The twenty-fourth International Conference on Text\, Speech a
 nd Dialogue (TSD 2021).
URL:http://www.wikicfp.com/cfp/servlet/event.showcfp?eventid=115768&copyo
 wnerid=166009
UID:cfp860089-D@wikicfp.com
END:VEVENT
BEGIN:VEVENT
DTSTAMP:20260422T125520Z
DTSTART;VALUE=DATE:20220521
SUMMARY:TSD 2021 Notification Due
DESCRIPTION:The twenty-fourth International Conference on Text\, Speech a
 nd Dialogue (TSD 2021).
URL:http://www.wikicfp.com/cfp/servlet/event.showcfp?eventid=115768&copyo
 wnerid=166009
UID:cfp860089-N@wikicfp.com
END:VEVENT
BEGIN:VEVENT
DTSTAMP:20260422T125520Z
DTSTART;VALUE=DATE:20210531
SUMMARY:TSD 2021 Final Version Due
DESCRIPTION:The twenty-fourth International Conference on Text\, Speech a
 nd Dialogue (TSD 2021).
URL:http://www.wikicfp.com/cfp/servlet/event.showcfp?eventid=115768&copyo
 wnerid=166009
UID:cfp860089-N@wikicfp.com
END:VEVENT
END:VCALENDAR
