BEGIN:VCALENDAR
PRODID:-//WikiCFP//Xmango 1.0//EN
VERSION:2.0
CALSCALE:GREGORIAN
BEGIN:VEVENT
DTSTAMP:20260424T101501Z
DTSTART;VALUE=DATE:20210518
DTEND;VALUE=DATE:20210522
SUMMARY:IPSN 2021
DESCRIPTION:20th ACM/IEEE Intl. Conf. on Information Processing in Sensor
  Networks
URL:http://www.wikicfp.com/cfp/servlet/event.showcfp?eventid=111991&copyo
 wnerid=165898
UID:cfp859246-E@wikicfp.com
END:VEVENT
BEGIN:VEVENT
DTSTAMP:20260424T101501Z
DTSTART;VALUE=DATE:20201019
SUMMARY:IPSN 2021 Abstract Due
DESCRIPTION:20th ACM/IEEE Intl. Conf. on Information Processing in Sensor
  Networks
URL:http://www.wikicfp.com/cfp/servlet/event.showcfp?eventid=111991&copyo
 wnerid=165898
UID:cfp859246-A@wikicfp.com
END:VEVENT
BEGIN:VEVENT
DTSTAMP:20260424T101501Z
DTSTART;VALUE=DATE:20201026
SUMMARY:IPSN 2021 Deadline
DESCRIPTION:20th ACM/IEEE Intl. Conf. on Information Processing in Sensor
  Networks
URL:http://www.wikicfp.com/cfp/servlet/event.showcfp?eventid=111991&copyo
 wnerid=165898
UID:cfp859246-D@wikicfp.com
END:VEVENT
BEGIN:VEVENT
DTSTAMP:20260424T101501Z
DTSTART;VALUE=DATE:20210510
DTEND;VALUE=DATE:20210514
SUMMARY:ICFEC 2021
DESCRIPTION:5TH IEEE INTERNATIONAL CONFERENCE ON FOG AND EDGE COMPUTING
URL:http://www.wikicfp.com/cfp/servlet/event.showcfp?eventid=110458&copyo
 wnerid=165898
UID:cfp859253-E@wikicfp.com
END:VEVENT
BEGIN:VEVENT
DTSTAMP:20260424T101501Z
DTSTART;VALUE=DATE:20210103
SUMMARY:ICFEC 2021 Deadline
DESCRIPTION:5TH IEEE INTERNATIONAL CONFERENCE ON FOG AND EDGE COMPUTING
URL:http://www.wikicfp.com/cfp/servlet/event.showcfp?eventid=110458&copyo
 wnerid=165898
UID:cfp859253-D@wikicfp.com
END:VEVENT
BEGIN:VEVENT
DTSTAMP:20260424T101501Z
DTSTART;VALUE=DATE:20210208
SUMMARY:ICFEC 2021 Notification Due
DESCRIPTION:5TH IEEE INTERNATIONAL CONFERENCE ON FOG AND EDGE COMPUTING
URL:http://www.wikicfp.com/cfp/servlet/event.showcfp?eventid=110458&copyo
 wnerid=165898
UID:cfp859253-N@wikicfp.com
END:VEVENT
BEGIN:VEVENT
DTSTAMP:20260424T101501Z
DTSTART;VALUE=DATE:20210303
SUMMARY:ICFEC 2021 Final Version Due
DESCRIPTION:5TH IEEE INTERNATIONAL CONFERENCE ON FOG AND EDGE COMPUTING
URL:http://www.wikicfp.com/cfp/servlet/event.showcfp?eventid=110458&copyo
 wnerid=165898
UID:cfp859253-N@wikicfp.com
END:VEVENT
BEGIN:VEVENT
DTSTAMP:20260424T101501Z
DTSTART;VALUE=DATE:20210717
DTEND;VALUE=DATE:20210723
SUMMARY:MLDM 2021
DESCRIPTION:17th International Conference on Machine Learning and Data Mi
 ning 
URL:http://www.wikicfp.com/cfp/servlet/event.showcfp?eventid=108824&copyo
 wnerid=165898
UID:cfp859238-E@wikicfp.com
END:VEVENT
BEGIN:VEVENT
DTSTAMP:20260424T101501Z
DTSTART;VALUE=DATE:20210115
SUMMARY:MLDM 2021 Deadline
DESCRIPTION:17th International Conference on Machine Learning and Data Mi
 ning 
URL:http://www.wikicfp.com/cfp/servlet/event.showcfp?eventid=108824&copyo
 wnerid=165898
UID:cfp859238-D@wikicfp.com
END:VEVENT
BEGIN:VEVENT
DTSTAMP:20260424T101501Z
DTSTART;VALUE=DATE:20210318
SUMMARY:MLDM 2021 Notification Due
DESCRIPTION:17th International Conference on Machine Learning and Data Mi
 ning 
URL:http://www.wikicfp.com/cfp/servlet/event.showcfp?eventid=108824&copyo
 wnerid=165898
UID:cfp859238-N@wikicfp.com
END:VEVENT
BEGIN:VEVENT
DTSTAMP:20260424T101501Z
DTSTART;VALUE=DATE:20210405
SUMMARY:MLDM 2021 Final Version Due
DESCRIPTION:17th International Conference on Machine Learning and Data Mi
 ning 
URL:http://www.wikicfp.com/cfp/servlet/event.showcfp?eventid=108824&copyo
 wnerid=165898
UID:cfp859238-N@wikicfp.com
END:VEVENT
BEGIN:VEVENT
DTSTAMP:20260424T101501Z
DTSTART;VALUE=DATE:20211201
DTEND;VALUE=DATE:20211202
SUMMARY:SEC 2021
DESCRIPTION:The Sixth ACM/IEEE Symposium on Edge Computing 
URL:http://www.wikicfp.com/cfp/servlet/event.showcfp?eventid=114727&copyo
 wnerid=165898
UID:cfp859254-E@wikicfp.com
END:VEVENT
BEGIN:VEVENT
DTSTAMP:20260424T101501Z
DTSTART;VALUE=DATE:20210114
SUMMARY:SEC 2021 Abstract Due
DESCRIPTION:The Sixth ACM/IEEE Symposium on Edge Computing 
URL:http://www.wikicfp.com/cfp/servlet/event.showcfp?eventid=114727&copyo
 wnerid=165898
UID:cfp859254-A@wikicfp.com
END:VEVENT
BEGIN:VEVENT
DTSTAMP:20260424T101501Z
DTSTART;VALUE=DATE:20210121
SUMMARY:SEC 2021 Deadline
DESCRIPTION:The Sixth ACM/IEEE Symposium on Edge Computing 
URL:http://www.wikicfp.com/cfp/servlet/event.showcfp?eventid=114727&copyo
 wnerid=165898
UID:cfp859254-D@wikicfp.com
END:VEVENT
BEGIN:VEVENT
DTSTAMP:20260424T101501Z
DTSTART;VALUE=DATE:20210402
SUMMARY:SEC 2021 Notification Due
DESCRIPTION:The Sixth ACM/IEEE Symposium on Edge Computing 
URL:http://www.wikicfp.com/cfp/servlet/event.showcfp?eventid=114727&copyo
 wnerid=165898
UID:cfp859254-N@wikicfp.com
END:VEVENT
BEGIN:VEVENT
DTSTAMP:20260424T101501Z
DTSTART;VALUE=DATE:20210514
SUMMARY:SEC 2021 Final Version Due
DESCRIPTION:The Sixth ACM/IEEE Symposium on Edge Computing 
URL:http://www.wikicfp.com/cfp/servlet/event.showcfp?eventid=114727&copyo
 wnerid=165898
UID:cfp859254-N@wikicfp.com
END:VEVENT
BEGIN:VEVENT
DTSTAMP:20260424T101501Z
DTSTART;VALUE=DATE:20210823
DTEND;VALUE=DATE:20210826
SUMMARY:FiCloud 2021
DESCRIPTION:The 8th International Conference on Future Internet of Things
  and Cloud
URL:http://www.wikicfp.com/cfp/servlet/event.showcfp?eventid=115764&copyo
 wnerid=165898
UID:cfp859237-E@wikicfp.com
END:VEVENT
BEGIN:VEVENT
DTSTAMP:20260424T101501Z
DTSTART;VALUE=DATE:20210310
SUMMARY:FiCloud 2021 Deadline
DESCRIPTION:The 8th International Conference on Future Internet of Things
  and Cloud
URL:http://www.wikicfp.com/cfp/servlet/event.showcfp?eventid=115764&copyo
 wnerid=165898
UID:cfp859237-D@wikicfp.com
END:VEVENT
BEGIN:VEVENT
DTSTAMP:20260424T101501Z
DTSTART;VALUE=DATE:20210520
SUMMARY:FiCloud 2021 Notification Due
DESCRIPTION:The 8th International Conference on Future Internet of Things
  and Cloud
URL:http://www.wikicfp.com/cfp/servlet/event.showcfp?eventid=115764&copyo
 wnerid=165898
UID:cfp859237-N@wikicfp.com
END:VEVENT
BEGIN:VEVENT
DTSTAMP:20260424T101501Z
DTSTART;VALUE=DATE:20210615
SUMMARY:FiCloud 2021 Final Version Due
DESCRIPTION:The 8th International Conference on Future Internet of Things
  and Cloud
URL:http://www.wikicfp.com/cfp/servlet/event.showcfp?eventid=115764&copyo
 wnerid=165898
UID:cfp859237-N@wikicfp.com
END:VEVENT
BEGIN:VEVENT
DTSTAMP:20260424T101501Z
DTSTART;VALUE=DATE:20210723
DTEND;VALUE=DATE:20210726
SUMMARY:ACM--ICDLT--Ei\, Scopus 2021
DESCRIPTION:ACM--2021 5th International Conference on Deep Learning Techn
 ologies (ICDLT 2021)--Ei Compendex\, Scopus
URL:http://www.wikicfp.com/cfp/servlet/event.showcfp?eventid=113785&copyo
 wnerid=165898
UID:cfp859239-E@wikicfp.com
END:VEVENT
BEGIN:VEVENT
DTSTAMP:20260424T101501Z
DTSTART;VALUE=DATE:20210520
SUMMARY:ACM--ICDLT--Ei\, Scopus 2021 Deadline
DESCRIPTION:ACM--2021 5th International Conference on Deep Learning Techn
 ologies (ICDLT 2021)--Ei Compendex\, Scopus
URL:http://www.wikicfp.com/cfp/servlet/event.showcfp?eventid=113785&copyo
 wnerid=165898
UID:cfp859239-D@wikicfp.com
END:VEVENT
BEGIN:VEVENT
DTSTAMP:20260424T101501Z
DTSTART;VALUE=DATE:20210630
SUMMARY:IoT Edge Computing AI 2021 Deadline
DESCRIPTION:Edge Computing Optimization Using Artificial Intelligence Met
 hods
URL:http://www.wikicfp.com/cfp/servlet/event.showcfp?eventid=110810&copyo
 wnerid=165898
UID:cfp859236-D@wikicfp.com
END:VEVENT
BEGIN:VEVENT
DTSTAMP:20260424T101501Z
DTSTART;VALUE=DATE:20220625
DTEND;VALUE=DATE:20220627
SUMMARY:CSEIT 2022
DESCRIPTION:9th International Conference on Computer Science\, Engineerin
 g and Information Technology 
URL:http://www.wikicfp.com/cfp/servlet/event.showcfp?eventid=96697&copyow
 nerid=165898
UID:cfp859252-E@wikicfp.com
END:VEVENT
BEGIN:VEVENT
DTSTAMP:20260424T101501Z
DTSTART;VALUE=DATE:20220611
SUMMARY:CSEIT 2022 Deadline
DESCRIPTION:9th International Conference on Computer Science\, Engineerin
 g and Information Technology 
URL:http://www.wikicfp.com/cfp/servlet/event.showcfp?eventid=96697&copyow
 nerid=165898
UID:cfp859252-D@wikicfp.com
END:VEVENT
BEGIN:VEVENT
DTSTAMP:20260424T101501Z
DTSTART;VALUE=DATE:20220621
SUMMARY:CSEIT 2022 Notification Due
DESCRIPTION:9th International Conference on Computer Science\, Engineerin
 g and Information Technology 
URL:http://www.wikicfp.com/cfp/servlet/event.showcfp?eventid=96697&copyow
 nerid=165898
UID:cfp859252-N@wikicfp.com
END:VEVENT
BEGIN:VEVENT
DTSTAMP:20260424T101501Z
DTSTART;VALUE=DATE:20220623
SUMMARY:CSEIT 2022 Final Version Due
DESCRIPTION:9th International Conference on Computer Science\, Engineerin
 g and Information Technology 
URL:http://www.wikicfp.com/cfp/servlet/event.showcfp?eventid=96697&copyow
 nerid=165898
UID:cfp859252-N@wikicfp.com
END:VEVENT
BEGIN:VEVENT
DTSTAMP:20260424T101501Z
DTSTART;VALUE=DATE:20240627
DTEND;VALUE=DATE:20240701
SUMMARY:AIAI 2024
DESCRIPTION:Artificial Intelligence Applications and Innovations
URL:http://www.wikicfp.com/cfp/servlet/event.showcfp?eventid=177384&copyo
 wnerid=165898
UID:cfp986514-E@wikicfp.com
END:VEVENT
BEGIN:VEVENT
DTSTAMP:20260424T101501Z
DTSTART;VALUE=DATE:20240229
SUMMARY:AIAI 2024 Deadline
DESCRIPTION:Artificial Intelligence Applications and Innovations
URL:http://www.wikicfp.com/cfp/servlet/event.showcfp?eventid=177384&copyo
 wnerid=165898
UID:cfp986514-D@wikicfp.com
END:VEVENT
BEGIN:VEVENT
DTSTAMP:20260424T101501Z
DTSTART;VALUE=DATE:20240324
SUMMARY:AIAI 2024 Notification Due
DESCRIPTION:Artificial Intelligence Applications and Innovations
URL:http://www.wikicfp.com/cfp/servlet/event.showcfp?eventid=177384&copyo
 wnerid=165898
UID:cfp986514-N@wikicfp.com
END:VEVENT
BEGIN:VEVENT
DTSTAMP:20260424T101501Z
DTSTART;VALUE=DATE:20240420
SUMMARY:AIAI 2024 Final Version Due
DESCRIPTION:Artificial Intelligence Applications and Innovations
URL:http://www.wikicfp.com/cfp/servlet/event.showcfp?eventid=177384&copyo
 wnerid=165898
UID:cfp986514-N@wikicfp.com
END:VEVENT
BEGIN:VEVENT
DTSTAMP:20260424T101501Z
DTSTART;VALUE=DATE:20240709
DTEND;VALUE=DATE:20240713
SUMMARY:AIME 2024
DESCRIPTION:22nd International Conference of Artificial Intelligence in M
 edicine
URL:http://www.wikicfp.com/cfp/servlet/event.showcfp?eventid=177493&copyo
 wnerid=165898
UID:cfp986517-E@wikicfp.com
END:VEVENT
BEGIN:VEVENT
DTSTAMP:20260424T101501Z
DTSTART;VALUE=DATE:20240311
SUMMARY:AIME 2024 Deadline
DESCRIPTION:22nd International Conference of Artificial Intelligence in M
 edicine
URL:http://www.wikicfp.com/cfp/servlet/event.showcfp?eventid=177493&copyo
 wnerid=165898
UID:cfp986517-D@wikicfp.com
END:VEVENT
BEGIN:VEVENT
DTSTAMP:20260424T101501Z
DTSTART;VALUE=DATE:20240402
SUMMARY:AIME 2024 Notification Due
DESCRIPTION:22nd International Conference of Artificial Intelligence in M
 edicine
URL:http://www.wikicfp.com/cfp/servlet/event.showcfp?eventid=177493&copyo
 wnerid=165898
UID:cfp986517-N@wikicfp.com
END:VEVENT
BEGIN:VEVENT
DTSTAMP:20260424T101501Z
DTSTART;VALUE=DATE:20240415
SUMMARY:AIME 2024 Final Version Due
DESCRIPTION:22nd International Conference of Artificial Intelligence in M
 edicine
URL:http://www.wikicfp.com/cfp/servlet/event.showcfp?eventid=177493&copyo
 wnerid=165898
UID:cfp986517-N@wikicfp.com
END:VEVENT
BEGIN:VEVENT
DTSTAMP:20260424T101501Z
DTSTART;VALUE=DATE:20240613
DTEND;VALUE=DATE:20240616
SUMMARY:ACM ICCCV 2024
DESCRIPTION:ACM--2024 The 6th International Conference on Control and Com
 puter Vision (ICCCV 2024)
URL:http://www.wikicfp.com/cfp/servlet/event.showcfp?eventid=178728&copyo
 wnerid=165898
UID:cfp986515-E@wikicfp.com
END:VEVENT
BEGIN:VEVENT
DTSTAMP:20260424T101501Z
DTSTART;VALUE=DATE:20240425
SUMMARY:ACM ICCCV 2024 Deadline
DESCRIPTION:ACM--2024 The 6th International Conference on Control and Com
 puter Vision (ICCCV 2024)
URL:http://www.wikicfp.com/cfp/servlet/event.showcfp?eventid=178728&copyo
 wnerid=165898
UID:cfp986515-D@wikicfp.com
END:VEVENT
BEGIN:VEVENT
DTSTAMP:20260424T101501Z
DTSTART;VALUE=DATE:20240619
DTEND;VALUE=DATE:20240622
SUMMARY:WCSE--EI 2024
DESCRIPTION:2024 The 14th International Workshop on Computer Science and 
 Engineering (WCSE 2024)
URL:http://www.wikicfp.com/cfp/servlet/event.showcfp?eventid=176586&copyo
 wnerid=165898
UID:cfp986516-E@wikicfp.com
END:VEVENT
BEGIN:VEVENT
DTSTAMP:20260424T101501Z
DTSTART;VALUE=DATE:20240515
SUMMARY:WCSE--EI 2024 Deadline
DESCRIPTION:2024 The 14th International Workshop on Computer Science and 
 Engineering (WCSE 2024)
URL:http://www.wikicfp.com/cfp/servlet/event.showcfp?eventid=176586&copyo
 wnerid=165898
UID:cfp986516-D@wikicfp.com
END:VEVENT
BEGIN:VEVENT
DTSTAMP:20260424T101501Z
DTSTART;VALUE=DATE:20240726
DTEND;VALUE=DATE:20240729
SUMMARY:ACMLC--EI 2024
DESCRIPTION:2024 6th Asia Conference on Machine Learning and Computing (A
 CMLC 2024)
URL:http://www.wikicfp.com/cfp/servlet/event.showcfp?eventid=176382&copyo
 wnerid=165898
UID:cfp986513-E@wikicfp.com
END:VEVENT
BEGIN:VEVENT
DTSTAMP:20260424T101501Z
DTSTART;VALUE=DATE:20240525
SUMMARY:ACMLC--EI 2024 Deadline
DESCRIPTION:2024 6th Asia Conference on Machine Learning and Computing (A
 CMLC 2024)
URL:http://www.wikicfp.com/cfp/servlet/event.showcfp?eventid=176382&copyo
 wnerid=165898
UID:cfp986513-D@wikicfp.com
END:VEVENT
BEGIN:VEVENT
DTSTAMP:20260424T101501Z
DTSTART;VALUE=DATE:20240801
DTEND;VALUE=DATE:20240804
SUMMARY:ICMIM 2024
DESCRIPTION:2024 The 6th International Conference on Materials and Intell
 igent Manufacturing (ICMIM 2024)
URL:http://www.wikicfp.com/cfp/servlet/event.showcfp?eventid=176565&copyo
 wnerid=165898
UID:cfp986518-E@wikicfp.com
END:VEVENT
BEGIN:VEVENT
DTSTAMP:20260424T101501Z
DTSTART;VALUE=DATE:20240630
SUMMARY:ICMIM 2024 Deadline
DESCRIPTION:2024 The 6th International Conference on Materials and Intell
 igent Manufacturing (ICMIM 2024)
URL:http://www.wikicfp.com/cfp/servlet/event.showcfp?eventid=176565&copyo
 wnerid=165898
UID:cfp986518-D@wikicfp.com
END:VEVENT
BEGIN:VEVENT
DTSTAMP:20260424T101501Z
DTSTART;VALUE=DATE:20240815
DTEND;VALUE=DATE:20240818
SUMMARY:IEEE PRAI 2024
DESCRIPTION:IEEE--2024 the 7th International Conference on Pattern Recogn
 ition and Artificial Intelligence (PRAI 2024)
URL:http://www.wikicfp.com/cfp/servlet/event.showcfp?eventid=177211&copyo
 wnerid=165898
UID:cfp986519-E@wikicfp.com
END:VEVENT
BEGIN:VEVENT
DTSTAMP:20260424T101501Z
DTSTART;VALUE=DATE:20240630
SUMMARY:IEEE PRAI 2024 Deadline
DESCRIPTION:IEEE--2024 the 7th International Conference on Pattern Recogn
 ition and Artificial Intelligence (PRAI 2024)
URL:http://www.wikicfp.com/cfp/servlet/event.showcfp?eventid=177211&copyo
 wnerid=165898
UID:cfp986519-D@wikicfp.com
END:VEVENT
BEGIN:VEVENT
DTSTAMP:20260424T101501Z
DTSTART;VALUE=DATE:20240725
DTEND;VALUE=DATE:20240728
SUMMARY:PRIS 2024 2024
DESCRIPTION:Hongkong | 2024 6th International Conference on Pattern Recog
 nition and Intelligent Systems (PRIS 2024)
URL:http://www.wikicfp.com/cfp/servlet/event.showcfp?eventid=177975&copyo
 wnerid=165898
UID:cfp986522-E@wikicfp.com
END:VEVENT
BEGIN:VEVENT
DTSTAMP:20260424T101501Z
DTSTART;VALUE=DATE:20240630
SUMMARY:PRIS 2024 2024 Deadline
DESCRIPTION:Hongkong | 2024 6th International Conference on Pattern Recog
 nition and Intelligent Systems (PRIS 2024)
URL:http://www.wikicfp.com/cfp/servlet/event.showcfp?eventid=177975&copyo
 wnerid=165898
UID:cfp986522-D@wikicfp.com
END:VEVENT
BEGIN:VEVENT
DTSTAMP:20260424T101501Z
DTSTART;VALUE=DATE:20240815
DTEND;VALUE=DATE:20240818
SUMMARY:ICIIP--Scopus 2024
DESCRIPTION:2024 13th International Conference on Intelligent Information
  Processing (ICIIP 2024)
URL:http://www.wikicfp.com/cfp/servlet/event.showcfp?eventid=176578&copyo
 wnerid=165898
UID:cfp986521-E@wikicfp.com
END:VEVENT
BEGIN:VEVENT
DTSTAMP:20260424T101501Z
DTSTART;VALUE=DATE:20240701
SUMMARY:ICIIP--Scopus 2024 Deadline
DESCRIPTION:2024 13th International Conference on Intelligent Information
  Processing (ICIIP 2024)
URL:http://www.wikicfp.com/cfp/servlet/event.showcfp?eventid=176578&copyo
 wnerid=165898
UID:cfp986521-D@wikicfp.com
END:VEVENT
BEGIN:VEVENT
DTSTAMP:20260424T101501Z
DTSTART;VALUE=DATE:20240926
DTEND;VALUE=DATE:20240929
SUMMARY:AIAAT 2024
DESCRIPTION:2024 5th International Conference on Artificial Intelligence 
 Applications and Technologies 
URL:http://www.wikicfp.com/cfp/servlet/event.showcfp?eventid=176398&copyo
 wnerid=165898
UID:cfp986512-E@wikicfp.com
END:VEVENT
BEGIN:VEVENT
DTSTAMP:20260424T101501Z
DTSTART;VALUE=DATE:20240825
SUMMARY:AIAAT 2024 Deadline
DESCRIPTION:2024 5th International Conference on Artificial Intelligence 
 Applications and Technologies 
URL:http://www.wikicfp.com/cfp/servlet/event.showcfp?eventid=176398&copyo
 wnerid=165898
UID:cfp986512-D@wikicfp.com
END:VEVENT
BEGIN:VEVENT
DTSTAMP:20260424T101501Z
DTSTART;VALUE=DATE:20240926
DTEND;VALUE=DATE:20240929
SUMMARY:Scopus-AIAAT 2024
DESCRIPTION:2024 5th International Conference on Artificial Intelligence 
 Applications and Technologies 
URL:http://www.wikicfp.com/cfp/servlet/event.showcfp?eventid=176400&copyo
 wnerid=165898
UID:cfp986520-E@wikicfp.com
END:VEVENT
BEGIN:VEVENT
DTSTAMP:20260424T101501Z
DTSTART;VALUE=DATE:20240825
SUMMARY:Scopus-AIAAT 2024 Deadline
DESCRIPTION:2024 5th International Conference on Artificial Intelligence 
 Applications and Technologies 
URL:http://www.wikicfp.com/cfp/servlet/event.showcfp?eventid=176400&copyo
 wnerid=165898
UID:cfp986520-D@wikicfp.com
END:VEVENT
END:VCALENDAR
