BEGIN:VCALENDAR
PRODID:-//WikiCFP//alibas01 1.0//EN
VERSION:2.0
CALSCALE:GREGORIAN
BEGIN:VEVENT
DTSTAMP:20260423T001331Z
DTSTART;VALUE=DATE:20110505
DTEND;VALUE=DATE:20110508
SUMMARY:ICEIRD 2011
DESCRIPTION:4th International Conference for Entreprenurship\, Innovation
  and Regional Development 2011
URL:http://www.wikicfp.com/cfp/servlet/event.showcfp?eventid=11691&copyow
 nerid=16573
UID:cfp112798-E@wikicfp.com
END:VEVENT
BEGIN:VEVENT
DTSTAMP:20260423T001331Z
DTSTART;VALUE=DATE:20101210
SUMMARY:ICEIRD 2011 Abstract Due
DESCRIPTION:4th International Conference for Entreprenurship\, Innovation
  and Regional Development 2011
URL:http://www.wikicfp.com/cfp/servlet/event.showcfp?eventid=11691&copyow
 nerid=16573
UID:cfp112798-A@wikicfp.com
END:VEVENT
BEGIN:VEVENT
DTSTAMP:20260423T001331Z
DTSTART;VALUE=DATE:20110220
SUMMARY:ICEIRD 2011 Deadline
DESCRIPTION:4th International Conference for Entreprenurship\, Innovation
  and Regional Development 2011
URL:http://www.wikicfp.com/cfp/servlet/event.showcfp?eventid=11691&copyow
 nerid=16573
UID:cfp112798-D@wikicfp.com
END:VEVENT
BEGIN:VEVENT
DTSTAMP:20260423T001331Z
DTSTART;VALUE=DATE:20110310
SUMMARY:ICEIRD 2011 Notification Due
DESCRIPTION:4th International Conference for Entreprenurship\, Innovation
  and Regional Development 2011
URL:http://www.wikicfp.com/cfp/servlet/event.showcfp?eventid=11691&copyow
 nerid=16573
UID:cfp112798-N@wikicfp.com
END:VEVENT
BEGIN:VEVENT
DTSTAMP:20260423T001331Z
DTSTART;VALUE=DATE:20110320
SUMMARY:ICEIRD 2011 Final Version Due
DESCRIPTION:4th International Conference for Entreprenurship\, Innovation
  and Regional Development 2011
URL:http://www.wikicfp.com/cfp/servlet/event.showcfp?eventid=11691&copyow
 nerid=16573
UID:cfp112798-N@wikicfp.com
END:VEVENT
BEGIN:VEVENT
DTSTAMP:20260423T001331Z
DTSTART;VALUE=DATE:20111205
DTEND;VALUE=DATE:20111210
SUMMARY:GLOBECOM 2011
DESCRIPTION:IEEE Global Communications Conference
URL:http://www.wikicfp.com/cfp/servlet/event.showcfp?eventid=10129&copyow
 nerid=16573
UID:cfp152155-E@wikicfp.com
END:VEVENT
BEGIN:VEVENT
DTSTAMP:20260423T001331Z
DTSTART;VALUE=DATE:20110405
SUMMARY:GLOBECOM 2011 Deadline
DESCRIPTION:IEEE Global Communications Conference
URL:http://www.wikicfp.com/cfp/servlet/event.showcfp?eventid=10129&copyow
 nerid=16573
UID:cfp152155-D@wikicfp.com
END:VEVENT
BEGIN:VEVENT
DTSTAMP:20260423T001331Z
DTSTART;VALUE=DATE:20110701
SUMMARY:GLOBECOM 2011 Notification Due
DESCRIPTION:IEEE Global Communications Conference
URL:http://www.wikicfp.com/cfp/servlet/event.showcfp?eventid=10129&copyow
 nerid=16573
UID:cfp152155-N@wikicfp.com
END:VEVENT
BEGIN:VEVENT
DTSTAMP:20260423T001331Z
DTSTART;VALUE=DATE:20110801
SUMMARY:GLOBECOM 2011 Final Version Due
DESCRIPTION:IEEE Global Communications Conference
URL:http://www.wikicfp.com/cfp/servlet/event.showcfp?eventid=10129&copyow
 nerid=16573
UID:cfp152155-N@wikicfp.com
END:VEVENT
BEGIN:VEVENT
DTSTAMP:20260423T001331Z
DTSTART;VALUE=DATE:20111206
DTEND;VALUE=DATE:20111210
SUMMARY:IEEM 2011
DESCRIPTION:IEEE International Conference on Industrial Engineering and E
 ngineering Management
URL:http://www.wikicfp.com/cfp/servlet/event.showcfp?eventid=11775&copyow
 nerid=16573
UID:cfp112791-E@wikicfp.com
END:VEVENT
BEGIN:VEVENT
DTSTAMP:20260423T001331Z
DTSTART;VALUE=DATE:20110601
SUMMARY:IEEM 2011 Deadline
DESCRIPTION:IEEE International Conference on Industrial Engineering and E
 ngineering Management
URL:http://www.wikicfp.com/cfp/servlet/event.showcfp?eventid=11775&copyow
 nerid=16573
UID:cfp112791-D@wikicfp.com
END:VEVENT
BEGIN:VEVENT
DTSTAMP:20260423T001331Z
DTSTART;VALUE=DATE:20110801
SUMMARY:IEEM 2011 Notification Due
DESCRIPTION:IEEE International Conference on Industrial Engineering and E
 ngineering Management
URL:http://www.wikicfp.com/cfp/servlet/event.showcfp?eventid=11775&copyow
 nerid=16573
UID:cfp112791-N@wikicfp.com
END:VEVENT
BEGIN:VEVENT
DTSTAMP:20260423T001331Z
DTSTART;VALUE=DATE:20110901
SUMMARY:IEEM 2011 Final Version Due
DESCRIPTION:IEEE International Conference on Industrial Engineering and E
 ngineering Management
URL:http://www.wikicfp.com/cfp/servlet/event.showcfp?eventid=11775&copyow
 nerid=16573
UID:cfp112791-N@wikicfp.com
END:VEVENT
BEGIN:VEVENT
DTSTAMP:20260423T001331Z
DTSTART;VALUE=DATE:20111108
DTEND;VALUE=DATE:20111111
SUMMARY:MilCIS 2011
DESCRIPTION:Military Communications and Information Systems Conference
URL:http://www.wikicfp.com/cfp/servlet/event.showcfp?eventid=11191&copyow
 nerid=16573
UID:cfp126171-E@wikicfp.com
END:VEVENT
BEGIN:VEVENT
DTSTAMP:20260423T001331Z
DTSTART;VALUE=DATE:20110706
SUMMARY:MilCIS 2011 Deadline
DESCRIPTION:Military Communications and Information Systems Conference
URL:http://www.wikicfp.com/cfp/servlet/event.showcfp?eventid=11191&copyow
 nerid=16573
UID:cfp126171-D@wikicfp.com
END:VEVENT
BEGIN:VEVENT
DTSTAMP:20260423T001331Z
DTSTART;VALUE=DATE:20110803
SUMMARY:MilCIS 2011 Notification Due
DESCRIPTION:Military Communications and Information Systems Conference
URL:http://www.wikicfp.com/cfp/servlet/event.showcfp?eventid=11191&copyow
 nerid=16573
UID:cfp126171-N@wikicfp.com
END:VEVENT
BEGIN:VEVENT
DTSTAMP:20260423T001331Z
DTSTART;VALUE=DATE:20110824
SUMMARY:MilCIS 2011 Final Version Due
DESCRIPTION:Military Communications and Information Systems Conference
URL:http://www.wikicfp.com/cfp/servlet/event.showcfp?eventid=11191&copyow
 nerid=16573
UID:cfp126171-N@wikicfp.com
END:VEVENT
BEGIN:VEVENT
DTSTAMP:20260423T001331Z
DTSTART;VALUE=DATE:20130928
DTEND;VALUE=DATE:20131002
SUMMARY:SMS 2013
DESCRIPTION:SMS -  33rd Annual Conference: Strategy and Sustainability
URL:http://www.wikicfp.com/cfp/servlet/event.showcfp?eventid=11650&copyow
 nerid=16573
UID:cfp112801-E@wikicfp.com
END:VEVENT
BEGIN:VEVENT
DTSTAMP:20260423T001331Z
DTSTART;VALUE=DATE:20130515
SUMMARY:SMS 2013 Abstract Due
DESCRIPTION:SMS -  33rd Annual Conference: Strategy and Sustainability
URL:http://www.wikicfp.com/cfp/servlet/event.showcfp?eventid=11650&copyow
 nerid=16573
UID:cfp112801-A@wikicfp.com
END:VEVENT
BEGIN:VEVENT
DTSTAMP:20260423T001331Z
DTSTART;VALUE=DATE:20130227
SUMMARY:SMS 2013 Deadline
DESCRIPTION:SMS -  33rd Annual Conference: Strategy and Sustainability
URL:http://www.wikicfp.com/cfp/servlet/event.showcfp?eventid=11650&copyow
 nerid=16573
UID:cfp112801-D@wikicfp.com
END:VEVENT
BEGIN:VEVENT
DTSTAMP:20260423T001331Z
DTSTART;VALUE=DATE:20130415
SUMMARY:SMS 2013 Notification Due
DESCRIPTION:SMS -  33rd Annual Conference: Strategy and Sustainability
URL:http://www.wikicfp.com/cfp/servlet/event.showcfp?eventid=11650&copyow
 nerid=16573
UID:cfp112801-N@wikicfp.com
END:VEVENT
BEGIN:VEVENT
DTSTAMP:20260423T001331Z
DTSTART;VALUE=DATE:20140410
DTEND;VALUE=DATE:20140413
SUMMARY:CBSS HRC 2014
DESCRIPTION:College of Business and Social Sciences Human Rights Conferen
 ce
URL:http://www.wikicfp.com/cfp/servlet/event.showcfp?eventid=33652&copyow
 nerid=16573
UID:cfp397500-E@wikicfp.com
END:VEVENT
BEGIN:VEVENT
DTSTAMP:20260423T001331Z
DTSTART;VALUE=DATE:20140115
SUMMARY:CBSS HRC 2014 Deadline
DESCRIPTION:College of Business and Social Sciences Human Rights Conferen
 ce
URL:http://www.wikicfp.com/cfp/servlet/event.showcfp?eventid=33652&copyow
 nerid=16573
UID:cfp397500-D@wikicfp.com
END:VEVENT
BEGIN:VEVENT
DTSTAMP:20260423T001331Z
DTSTART;VALUE=DATE:20140602
DTEND;VALUE=DATE:20140605
SUMMARY:ICWSM 2014
DESCRIPTION:The 8th International Conference on Weblogs and Social Media
URL:http://www.wikicfp.com/cfp/servlet/event.showcfp?eventid=33660&copyow
 nerid=16573
UID:cfp397523-E@wikicfp.com
END:VEVENT
BEGIN:VEVENT
DTSTAMP:20260423T001331Z
DTSTART;VALUE=DATE:20140115
SUMMARY:ICWSM 2014 Abstract Due
DESCRIPTION:The 8th International Conference on Weblogs and Social Media
URL:http://www.wikicfp.com/cfp/servlet/event.showcfp?eventid=33660&copyow
 nerid=16573
UID:cfp397523-A@wikicfp.com
END:VEVENT
BEGIN:VEVENT
DTSTAMP:20260423T001331Z
DTSTART;VALUE=DATE:20140122
SUMMARY:ICWSM 2014 Deadline
DESCRIPTION:The 8th International Conference on Weblogs and Social Media
URL:http://www.wikicfp.com/cfp/servlet/event.showcfp?eventid=33660&copyow
 nerid=16573
UID:cfp397523-D@wikicfp.com
END:VEVENT
BEGIN:VEVENT
DTSTAMP:20260423T001331Z
DTSTART;VALUE=DATE:20140310
SUMMARY:ICWSM 2014 Notification Due
DESCRIPTION:The 8th International Conference on Weblogs and Social Media
URL:http://www.wikicfp.com/cfp/servlet/event.showcfp?eventid=33660&copyow
 nerid=16573
UID:cfp397523-N@wikicfp.com
END:VEVENT
END:VCALENDAR
