BEGIN:VCALENDAR
PRODID:-//WikiCFP//Noluthando9 1.0//EN
VERSION:2.0
CALSCALE:GREGORIAN
BEGIN:VEVENT
DTSTAMP:20260421T075911Z
DTSTART;VALUE=DATE:20210428
DTEND;VALUE=DATE:20210501
SUMMARY:ICEEG--EI\, Scopus 2021
DESCRIPTION:ACM--2021 The 5th International Conference on E-commerce\, E-
 Business and E-Government (ICEEG 2021)--Ei Compendex\, SCOPUS
URL:http://www.wikicfp.com/cfp/servlet/event.showcfp?eventid=113749&copyo
 wnerid=165446
UID:cfp856216-E@wikicfp.com
END:VEVENT
BEGIN:VEVENT
DTSTAMP:20260421T075911Z
DTSTART;VALUE=DATE:20210310
SUMMARY:ICEEG--EI\, Scopus 2021 Deadline
DESCRIPTION:ACM--2021 The 5th International Conference on E-commerce\, E-
 Business and E-Government (ICEEG 2021)--Ei Compendex\, SCOPUS
URL:http://www.wikicfp.com/cfp/servlet/event.showcfp?eventid=113749&copyo
 wnerid=165446
UID:cfp856216-D@wikicfp.com
END:VEVENT
BEGIN:VEVENT
DTSTAMP:20260421T075911Z
DTSTART;VALUE=DATE:20210428
DTEND;VALUE=DATE:20210501
SUMMARY:ICEFR 2021
DESCRIPTION:2021 The 10th International Conference on Economics and Finan
 ce Research (ICEFR 2021)
URL:http://www.wikicfp.com/cfp/servlet/event.showcfp?eventid=113751&copyo
 wnerid=165446
UID:cfp856217-E@wikicfp.com
END:VEVENT
BEGIN:VEVENT
DTSTAMP:20260421T075911Z
DTSTART;VALUE=DATE:20210310
SUMMARY:ICEFR 2021 Deadline
DESCRIPTION:2021 The 10th International Conference on Economics and Finan
 ce Research (ICEFR 2021)
URL:http://www.wikicfp.com/cfp/servlet/event.showcfp?eventid=113751&copyo
 wnerid=165446
UID:cfp856217-D@wikicfp.com
END:VEVENT
END:VCALENDAR
