BEGIN:VCALENDAR
PRODID:-//WikiCFP//lisanqd 1.0//EN
VERSION:2.0
CALSCALE:GREGORIAN
BEGIN:VEVENT
DTSTAMP:20260423T194727Z
DTSTART;VALUE=DATE:20200712
DTEND;VALUE=DATE:20200717
SUMMARY:ECOOP 2021
DESCRIPTION:Call for papers: 35th European Conference on Object-Oriented 
 Programming
URL:http://www.wikicfp.com/cfp/servlet/event.showcfp?eventid=113648&copyo
 wnerid=165241
UID:cfp854689-E@wikicfp.com
END:VEVENT
BEGIN:VEVENT
DTSTAMP:20260423T194727Z
DTSTART;VALUE=DATE:20210111
SUMMARY:ECOOP 2021 Deadline
DESCRIPTION:Call for papers: 35th European Conference on Object-Oriented 
 Programming
URL:http://www.wikicfp.com/cfp/servlet/event.showcfp?eventid=113648&copyo
 wnerid=165241
UID:cfp854689-D@wikicfp.com
END:VEVENT
BEGIN:VEVENT
DTSTAMP:20260423T194727Z
DTSTART;VALUE=DATE:20210620
DTEND;VALUE=DATE:20210626
SUMMARY:SOAP 2021
DESCRIPTION:10th ACM SIGPLAN International Workshop on the State of the A
 rt in Program Analysis
URL:http://www.wikicfp.com/cfp/servlet/event.showcfp?eventid=126178&copyo
 wnerid=165241
UID:cfp874870-E@wikicfp.com
END:VEVENT
BEGIN:VEVENT
DTSTAMP:20260423T194727Z
DTSTART;VALUE=DATE:20210322
SUMMARY:SOAP 2021 Deadline
DESCRIPTION:10th ACM SIGPLAN International Workshop on the State of the A
 rt in Program Analysis
URL:http://www.wikicfp.com/cfp/servlet/event.showcfp?eventid=126178&copyo
 wnerid=165241
UID:cfp874870-D@wikicfp.com
END:VEVENT
BEGIN:VEVENT
DTSTAMP:20260423T194727Z
DTSTART;VALUE=DATE:20210420
SUMMARY:SOAP 2021 Notification Due
DESCRIPTION:10th ACM SIGPLAN International Workshop on the State of the A
 rt in Program Analysis
URL:http://www.wikicfp.com/cfp/servlet/event.showcfp?eventid=126178&copyo
 wnerid=165241
UID:cfp874870-N@wikicfp.com
END:VEVENT
END:VCALENDAR
